Workbook

Sheet ELCA (raw)
A1: UnitID | B1: Institution Name | C1: Grand total (C2014_A First major History Bachelor's degree) | D1: Grand total (C2014_A First major Philosophy and Religious Studies Bachelor's degree) | E1: Grand total (C2014_A First major English Language and Literature/Letters Bachelor's degree) | F1: Grand total (C2014_A Second major History Bachelor's degree) | G1: Grand total (C2014_A Second major Philosophy and Religious Studies Bachelor's degree) | H1: Grand total (C2014_A Second major English Language and Literature/Letters Bachelor's degree) | I1: Grand total (C2012_A_RV First major History Bachelor's degree) | J1: Grand total (C2012_A_RV First major Philosophy and Religious Studies Bachelor's degree) | K1: Grand total (C2012_A_RV First major English Language and Literature/Letters Bachelor's degree) | L1: Grand total (C2012_A_RV Second major History Bachelor's degree) | M1: Grand total (C2012_A_RV Second major Philosophy and Religious Studies Bachelor's degree) | N1: Grand total (C2012_A_RV Second major English Language and Literature/Letters Bachelor's degree) | O1: Grand total (C2010_A_RV First major History Bachelor's degree) | P1: Grand total (C2010_A_RV First major Philosophy and Religious Studies Bachelor's degree) | Q1: Grand total (C2010_A_RV First major English Language and Literature/Letters Bachelor's degree) | R1: Grand total (C2010_A_RV Second major History Bachelor's degree) | S1: Grand total (C2010_A_RV Second major Philosophy and Religious Studies Bachelor's degree) | T1: Grand total (C2010_A_RV Second major English Language and Literature/Letters Bachelor's degree) | U1: Grand total (C2008_A_RV First major English language and literature/letters. Bachelor's degree) | V1: Grand total (C2008_A_RV First major Philosophy and religious studies. Bachelor's degree) | W1: Grand total (C2008_A_RV First major History Bachelor's degree) | X1: Grand total (C2008_A_RV Second major English language and literature/letters. Bachelor's degree) | Y1: Grand total (C2008_A_RV Second major Philosophy and religious studies. Bachelor's degree) | Z1: Grand total (C2008_A_RV Second major History Bachelor's degree) | AA1: Grand total (C2006_A First major English language and literature/letters. Bachelor's degree) | AB1: Grand total (C2006_A First major Philosophy and religious studies. Bachelor's degree) | AC1: Grand total (C2006_A First major History Bachelor's degree) | AD1: Grand total (C2006_A Second major English language and literature/letters. Bachelor's degree) | AE1: Grand total (C2006_A Second major Philosophy and religious studies. Bachelor's degree) | AF1: Grand total (C2006_A Second major History Bachelor's degree) | AG1: Grand total (C2004_A First major English language and literature/letters. Bachelor's degree) | AH1: Grand total (C2004_A First major Philosophy and religious studies. Bachelor's degree) | AI1: Grand total (C2004_A First major History Bachelor's degree) | AJ1: Grand total (C2004_A Second major English language and literature/letters. Bachelor's degree) | AK1: Grand total (C2004_A Second major Philosophy and religious studies. Bachelor's degree) | AL1: Grand total (C2004_A Second major History Bachelor's degree) | AM1: Grand total (C2014_A First major Grand total Bachelor's degree) | AN1: Grand total (C2014_A Second major Grand total Bachelor's degree) | AO1: Grand total (C2012_A_RV First major Grand total Bachelor's degree) | AP1: Grand total (C2012_A_RV Second major Grand total Bachelor's degree) | AQ1: Grand total (C2010_A_RV First major Grand total Bachelor's degree) | AR1: Grand total (C2010_A_RV Second major Grand total Bachelor's degree) | AS1: Grand total (C2008_A_RV First major Grand total Bachelor's degree) | AT1: Grand total (C2008_A_RV Second major Grand total Bachelor's degree) | AU1: Grand total (C2006_A First major Grand total Bachelor's degree) | AV1: Grand total (C2006_A Second major Grand total Bachelor's degree) | AW1: Grand total (C2004_A First major Grand total Bachelor's degree) | AX1: Grand total (C2004_A Second major Grand total Bachelor's degree)
A2: 173045 | B2: Augsburg College | C2: 16 | D2: 4 | E2: 17 | F2: 2 | G2: 5 | H2: 6 | I2: 13 | J2: 13 | K2: 21 | L2: 1 | M2: 5 | N2: 4 | O2: 17 | P2: 10 | Q2: 25 | R2: 3 | S2: 9 | T2: 1 | U2: 20 | V2: 18 | W2: 14 | X2: 0 | Y2: 4 | Z2: 3 | AA2: 18 | AB2: 5 | AC2: 13 | AD2: 3 | AE2: 2 | AF2: 1 | AG2: 19 | AH2: 8 | AI2: 18 | AK2: 3 | AL2: 2 | AM2: 586 | AN2: 101 | AO2: 603 | AP2: 134 | AQ2: 627 | AR2: 99 | AS2: 589 | AT2: 59 | AU2: 484 | AV2: 49 | AW2: 453 | AX2: 57
A3: 143084 | B3: Augustana College | C3: 10 | D3: 13 | E3: 23 | F3: 4 | G3: 11 | H3: 11 | I3: 7 | J3: 11 | K3: 32 | L3: 2 | M3: 7 | N3: 9 | O3: 8 | P3: 8 | Q3: 26 | R3: 6 | S3: 9 | T3: 6 | U3: 61 | V3: 14 | W3: 22 | X3: 6 | Y3: 3 | Z3: 7 | AA3: 55 | AB3: 9 | AC3: 25 | AD3: 19 | AE3: 5 | AF3: 6 | AG3: 55 | AH3: 10 | AI3: 26 | AJ3: 15 | AK3: 7 | AL3: 6 | AM3: 607 | AN3: 239 | AO3: 518 | AP3: 162 | AQ3: 585 | AR3: 193 | AS3: 521 | AT3: 157 | AU3: 509 | AV3: 168 | AW3: 540 | AX3: 186
A4: 219000 | B4: Augustana College | C4: 8 | D4: 2 | E4: 16 | F4: 2 | G4: 4 | H4: 2 | I4: 10 | J4: 7 | K4: 19 | L4: 4 | M4: 4 | N4: 6 | O4: 7 | P4: 5 | Q4: 15 | R4: 3 | S4: 5 | T4: 3 | U4: 13 | V4: 6 | W4: 10 | X4: 0 | Y4: 9 | Z4: 2 | AA4: 12 | AB4: 6 | AC4: 11 | AD4: 4 | AE4: 7 | AF4: 1 | AG4: 15 | AH4: 9 | AI4: 5 | AJ4: 1 | AK4: 8 | AL4: 0 | AM4: 361 | AN4: 126 | AO4: 359 | AP4: 117 | AQ4: 362 | AR4: 124 | AS4: 341 | AT4: 102 | AU4: 357 | AV4: 114 | AW4: 369 | AX4: 126
A5: 154721 | B5: Bethany College | C5: 4 | D5: 0 | E5: 0 | F5: 0 | H5: 0 | I5: 1 | J5: 0 | K5: 0 | L5: 0 | N5: 0 | O5: 4 | P5: 0 | Q5: 2 | R5: 0 | S5: 1 | T5: 0 | U5: 0 | V5: 0 | W5: 2 | X5: 0 | Y5: 0 | AA5: 3 | AB5: 4 | AC5: 3 | AD5: 1 | AE5: 1 | AG5: 3 | AH5: 2 | AI5: 5 | AJ5: 0 | AM5: 117 | AN5: 14 | AO5: 97 | AP5: 16 | AQ5: 98 | AR5: 25 | AS5: 98 | AT5: 16 | AU5: 108 | AV5: 20 | AW5: 115 | AX5: 8
A6: 110413 | B6: California Lutheran University | C6: 7 | D6: 10 | E6: 12 | G6: 2 | H6: 2 | I6: 15 | J6: 6 | K6: 24 | M6: 2 | O6: 7 | P6: 12 | Q6: 13 | R6: 1 | S6: 3 | T6: 1 | U6: 12 | V6: 6 | W6: 10 | X6: 1 | Y6: 4 | AA6: 17 | AB6: 4 | AC6: 14 | AD6: 1 | AE6: 3 | AG6: 16 | AH6: 8 | AI6: 16 | AJ6: 1 | AK6: 2 | AL6: 1 | AM6: 740 | AN6: 38 | AO6: 680 | AP6: 27 | AQ6: 523 | AR6: 35 | AS6: 532 | AT6: 39 | AU6: 458 | AV6: 20 | AW6: 484 | AX6: 20
A7: 201548 | B7: Capital University | C7: 8 | D7: 9 | E7: 12 | F7: 0 | G7: 6 | H7: 7 | I7: 11 | J7: 6 | K7: 6 | M7: 3 | N7: 3 | O7: 7 | P7: 6 | Q7: 21 | U7: 11 | V7: 4 | W7: 5 | AA7: 13 | AB7: 7 | AC7: 19 | AG7: 19 | AH7: 3 | AI7: 14 | AM7: 607 | AN7: 99 | AO7: 560 | AP7: 90 | AQ7: 665 | AR7: 23 | AS7: 570 | AT7: 24 | AU7: 657 | AW7: 663
A8: 238476 | B8: Carthage College | C8: 17 | D8: 9 | E8: 23 | F8: 2 | G8: 0 | H8: 5 | I8: 13 | J8: 7 | K8: 22 | L8: 3 | M8: 0 | N8: 1 | O8: 16 | P8: 7 | Q8: 15 | R8: 1 | S8: 2 | T8: 2 | U8: 10 | V8: 2 | W8: 8 | X8: 0 | Y8: 1 | Z8: 3 | AA8: 16 | AB8: 7 | AC8: 17 | AD8: 2 | AE8: 4 | AF8: 3 | AG8: 12 | AH8: 4 | AI8: 9 | AJ8: 2 | AK8: 0 | AL8: 4 | AM8: 607 | AN8: 119 | AO8: 576 | AP8: 124 | AQ8: 461 | AR8: 106 | AS8: 439 | AT8: 132 | AU8: 489 | AV8: 157 | AW8: 370 | AX8: 144
A9: 173300 | B9: Concordia College at Moorhead | C9: 8 | D9: 5 | E9: 24 | F9: 2 | G9: 3 | H9: 5 | I9: 9 | J9: 13 | K9: 40 | L9: 2 | M9: 8 | N9: 6 | O9: 12 | P9: 12 | Q9: 10 | R9: 4 | S9: 5 | T9: 1 | U9: 25 | V9: 11 | W9: 8 | X9: 3 | Y9: 7 | Z9: 5 | AA9: 20 | AB9: 15 | AC9: 10 | AD9: 4 | AE9: 9 | AF9: 5 | AG9: 29 | AH9: 15 | AI9: 12 | AJ9: 8 | AK9: 19 | AL9: 8 | AM9: 584 | AN9: 135 | AO9: 627 | AP9: 165 | AQ9: 532 | AR9: 141 | AS9: 611 | AT9: 192 | AU9: 555 | AV9: 167 | AW9: 583 | AX9: 204
A10: 172440 | B10: Finlandia University | C10: 1 | E10: 0 | K10: 1 | Q10: 0 | AM10: 82 | AN10: 0 | AO10: 57 | AQ10: 66 | AS10: 86 | AU10: 40 | AW10: 61
A11: 212674 | B11: Gettysburg College | C11: 52 | D11: 32 | E11: 42 | F11: 3 | G11: 12 | H11: 4 | I11: 47 | J11: 21 | K11: 53 | L11: 7 | M11: 15 | N11: 4 | O11: 62 | P11: 13 | Q11: 51 | R11: 5 | S11: 8 | T11: 5 | U11: 59 | V11: 20 | W11: 42 | X11: 6 | Y11: 12 | Z11: 5 | AA11: 45 | AB11: 28 | AC11: 47 | AD11: 4 | AE11: 9 | AF11: 5 | AG11: 44 | AH11: 35 | AI11: 49 | AJ11: 0 | AK11: 7 | AL11: 3 | AM11: 660 | AN11: 90 | AO11: 617 | AP11: 99 | AQ11: 623 | AR11: 113 | AS11: 645 | AT11: 96 | AU11: 594 | AV11: 93 | AW11: 597 | AX11: 82
A12: 153375 | B12: Grand View University | C12: 7 | D12: 3 | E12: 7 | F12: 1 | H12: 2 | I12: 10 | J12: 3 | K12: 7 | N12: 3 | O12: 2 | P12: 2 | Q12: 8 | R12: 4 | S12: 1 | T12: 1 | U12: 5 | W12: 9 | X12: 2 | Z12: 1 | AA12: 8 | AB12: 3 | AD12: 5 | AG12: 3 | AH12: 2 | AJ12: 2 | AM12: 478 | AN12: 76 | AO12: 496 | AP12: 74 | AQ12: 495 | AR12: 54 | AS12: 411 | AT12: 54 | AU12: 425 | AV12: 72 | AW12: 334 | AX12: 33
A13: 173647 | B13: Gustavus Adolphus College | C13: 19 | D13: 16 | E13: 31 | I13: 30 | J13: 18 | K13: 29 | O13: 22 | P13: 14 | Q13: 24 | U13: 30 | V13: 15 | W13: 22 | AA13: 29 | AB13: 21 | AC13: 22 | AG13: 27 | AH13: 19 | AI13: 22 | AM13: 650 | AO13: 619 | AQ13: 586 | AS13: 666 | AU13: 689 | AW13: 703
A14: 198835 | B14: Lenoir-Rhyne University | C14: 7 | D14: 3 | E14: 6 | I14: 4 | J14: 7 | K14: 5 | L14: 2 | M14: 0 | O14: 4 | P14: 4 | Q14: 2 | R14: 1 | S14: 2 | T14: 0 | U14: 1 | V14: 13 | W14: 4 | X14: 0 | Y14: 0 | Z14: 0 | AA14: 5 | AB14: 1 | AC14: 7 | AD14: 1 | AE14: 2 | AG14: 9 | AH14: 6 | AI14: 3 | AJ14: 0 | AK14: 5 | AM14: 321 | AN14: 28 | AO14: 281 | AP14: 18 | AQ14: 252 | AR14: 35 | AS14: 284 | AT14: 0 | AU14: 282 | AV14: 34 | AW14: 253 | AX14: 26
A15: 153834 | B15: Luther College | C15: 11 | D15: 10 | E15: 27 | F15: 4 | G15: 4 | H15: 6 | I15: 21 | J15: 12 | K15: 28 | L15: 4 | M15: 8 | N15: 4 | O15: 17 | P15: 11 | Q15: 28 | R15: 3 | S15: 5 | T15: 1 | U15: 25 | V15: 13 | W15: 17 | X15: 4 | Y15: 12 | Z15: 1 | AA15: 25 | AB15: 12 | AC15: 20 | AD15: 9 | AE15: 7 | AF15: 2 | AG15: 20 | AH15: 12 | AI15: 17 | AJ15: 5 | AK15: 7 | AL15: 4 | AM15: 532 | AN15: 135 | AO15: 582 | AP15: 154 | AQ15: 555 | AR15: 122 | AS15: 546 | AT15: 103 | AU15: 520 | AV15: 104 | AW15: 555 | AX15: 133
A16: 181330 | B16: Midland University | C16: 4 | D16: 0 | E16: 1 | F16: 0 | G16: 0 | H16: 0 | I16: 6 | J16: 1 | K16: 1 | L16: 2 | M16: 0 | N16: 2 | O16: 2 | P16: 0 | Q16: 1 | R16: 2 | S16: 0 | T16: 1 | U16: 2 | V16: 0 | W16: 0 | X16: 0 | Y16: 0 | Z16: 0 | AA16: 2 | AB16: 1 | AC16: 0 | AD16: 1 | AE16: 0 | AF16: 1 | AG16: 3 | AH16: 2 | AI16: 1 | AJ16: 1 | AK16: 0 | AL16: 0 | AM16: 192 | AN16: 16 | AO16: 214 | AP16: 37 | AQ16: 181 | AR16: 23 | AS16: 170 | AT16: 23 | AU16: 192 | AV16: 27 | AW16: 184 | AX16: 29
A17: 214175 | B17: Muhlenberg College | C17: 13 | D17: 7 | E17: 24 | F17: 8 | G17: 8 | H17: 11 | I17: 17 | J17: 10 | K17: 29 | L17: 6 | M17: 5 | N17: 12 | O17: 15 | P17: 8 | Q17: 21 | R17: 9 | S17: 2 | T17: 8 | U17: 33 | V17: 6 | W17: 23 | X17: 12 | Y17: 1 | Z17: 4 | AA17: 31 | AB17: 10 | AC17: 13 | AD17: 16 | AE17: 9 | AF17: 7 | AG17: 36 | AH17: 10 | AI17: 28 | AJ17: 14 | AK17: 8 | AL17: 1 | AM17: 574 | AN17: 194 | AO17: 624 | AP17: 169 | AQ17: 613 | AR17: 196 | AS17: 560 | AT17: 175 | AU17: 575 | AV17: 132 | AW17: 595 | AX17: 141
A18: 218414 | B18: Newberry College | C18: 5 | D18: 3 | E18: 6 | F18: 0 | G18: 0 | H18: 1 | I18: 11 | J18: 4 | K18: 9 | L18: 1 | M18: 1 | O18: 7 | P18: 1 | Q18: 2 | R18: 1 | U18: 1 | V18: 0 | W18: 1 | X18: 1 | AA18: 3 | AB18: 0 | AC18: 6 | AF18: 1 | AG18: 6 | AH18: 1 | AI18: 9 | AM18: 197 | AN18: 11 | AO18: 204 | AP18: 9 | AQ18: 141 | AR18: 4 | AS18: 134 | AT18: 10 | AU18: 139 | AV18: 10 | AW18: 113 | AX18: 7
A19: 236230 | B19: Pacific Lutheran University | C19: 15 | D19: 4 | E19: 24 | F19: 4 | G19: 6 | H19: 1 | I19: 36 | J19: 15 | K19: 46 | L19: 1 | M19: 7 | N19: 3 | O19: 27 | P19: 20 | Q19: 32 | R19: 3 | S19: 6 | T19: 2 | U19: 44 | V19: 20 | W19: 33 | X19: 0 | Y19: 0 | Z19: 0 | AA19: 29 | AB19: 13 | AC19: 24 | AD19: 2 | AE19: 11 | AF19: 6 | AG19: 28 | AH19: 12 | AI19: 14 | AJ19: 1 | AK19: 5 | AL19: 1 | AM19: 753 | AN19: 64 | AO19: 691 | AP19: 64 | AQ19: 730 | AR19: 53 | AS19: 797 | AT19: 0 | AU19: 733 | AV19: 73 | AW19: 723 | AX19: 65
A20: 233426 | B20: Roanoke College | C20: 32 | D20: 7 | E20: 23 | F20: 2 | G20: 1 | H20: 6 | I20: 35 | J20: 6 | K20: 40 | L20: 0 | M20: 0 | N20: 1 | O20: 30 | P20: 10 | Q20: 33 | R20: 2 | T20: 2 | U20: 30 | V20: 1 | W20: 34 | AA20: 30 | AB20: 9 | AC20: 37 | AG20: 47 | AH20: 8 | AI20: 21 | AM20: 454 | AN20: 31 | AO20: 438 | AP20: 32 | AQ20: 433 | AR20: 21 | AS20: 429 | AU20: 397 | AW20: 385
A21: 174844 | B21: St Olaf College | C21: 25 | D21: 14 | E21: 55 | F21: 7 | G21: 12 | H21: 8 | I21: 34 | J21: 31 | K21: 44 | L21: 7 | M21: 20 | N21: 13 | O21: 36 | P21: 24 | Q21: 53 | R21: 10 | S21: 23 | T21: 8 | U21: 65 | V21: 27 | W21: 32 | X21: 8 | Y21: 22 | Z21: 7 | AA21: 61 | AB21: 30 | AC21: 29 | AD21: 13 | AE21: 20 | AF21: 11 | AG21: 67 | AH21: 45 | AI21: 19 | AJ21: 17 | AK21: 26 | AL21: 14 | AM21: 780 | AN21: 246 | AO21: 768 | AP21: 260 | AQ21: 716 | AR21: 245 | AS21: 722 | AT21: 220 | AU21: 715 | AV21: 247 | AW21: 708 | AX21: 241
A22: 216278 | B22: Susquehanna University | C22: 14 | D22: 4 | E22: 55 | F22: 1 | G22: 6 | H22: 2 | I22: 20 | J22: 5 | K22: 45 | L22: 4 | M22: 6 | N22: 3 | O22: 13 | P22: 11 | Q22: 36 | R22: 0 | S22: 4 | T22: 3 | U22: 36 | V22: 7 | W22: 14 | X22: 1 | Y22: 5 | Z22: 1 | AA22: 28 | AB22: 6 | AC22: 13 | AD22: 4 | AE22: 6 | AF22: 2 | AG22: 25 | AH22: 4 | AI22: 11 | AJ22: 1 | AK22: 2 | AM22: 509 | AN22: 42 | AO22: 504 | AP22: 49 | AQ22: 436 | AR22: 33 | AS22: 455 | AT22: 71 | AU22: 448 | AV22: 81 | AW22: 421 | AX22: 37
A23: 228981 | B23: Texas Lutheran University | C23: 4 | D23: 0 | E23: 4 | F23: 0 | G23: 2 | H23: 0 | I23: 10 | J23: 2 | K23: 5 | M23: 1 | N23: 0 | O23: 3 | P23: 1 | Q23: 4 | S23: 0 | T23: 0 | U23: 6 | V23: 0 | W23: 7 | X23: 0 | Y23: 0 | Z23: 0 | AA23: 4 | AB23: 1 | AC23: 9 | AD23: 0 | AG23: 12 | AH23: 3 | AI23: 8 | AJ23: 1 | AL23: 6 | AM23: 198 | AN23: 9 | AO23: 262 | AP23: 21 | AQ23: 231 | AR23: 16 | AS23: 250 | AT23: 19 | AU23: 254 | AV23: 31 | AW23: 262 | AX23: 19
A24: 216357 | B24: Thiel College | C24: 4 | D24: 1 | E24: 3 | F24: 0 | G24: 0 | H24: 0 | I24: 4 | J24: 3 | K24: 3 | L24: 0 | M24: 0 | N24: 2 | O24: 3 | P24: 1 | Q24: 8 | R24: 0 | S24: 2 | T24: 2 | U24: 13 | V24: 8 | W24: 11 | X24: 0 | Y24: 2 | Z24: 1 | AA24: 6 | AB24: 5 | AC24: 10 | AD24: 0 | AE24: 3 | AF24: 1 | AG24: 10 | AH24: 1 | AI24: 10 | AJ24: 0 | AK24: 5 | AL24: 0 | AM24: 166 | AN24: 31 | AO24: 158 | AP24: 47 | AQ24: 155 | AR24: 47 | AS24: 182 | AT24: 41 | AU24: 189 | AV24: 56 | AW24: 205 | AX24: 67
A25: 197197 | B25: Wagner College | C25: 10 | D25: 2 | E25: 15 | F25: 0 | G25: 1 | H25: 1 | I25: 10 | J25: 1 | K25: 12 | L25: 0 | M25: 1 | N25: 0 | O25: 7 | P25: 3 | Q25: 24 | R25: 2 | U25: 25 | V25: 2 | W25: 8 | X25: 2 | AA25: 33 | AC25: 11 | AD25: 1 | AG25: 13 | AI25: 10 | AM25: 458 | AN25: 42 | AO25: 417 | AP25: 48 | AQ25: 425 | AR25: 37 | AS25: 384 | AT25: 35 | AU25: 429 | AV25: 46 | AW25: 357
A26: 154527 | B26: Wartburg College | C26: 8 | D26: 3 | E26: 10 | F26: 2 | G26: 2 | H26: 1 | I26: 10 | J26: 8 | K26: 11 | L26: 1 | M26: 3 | N26: 3 | O26: 13 | P26: 7 | Q26: 18 | R26: 0 | S26: 4 | T26: 2 | U26: 8 | V26: 13 | W26: 8 | X26: 3 | Y26: 2 | Z26: 1 | AA26: 14 | AB26: 15 | AC26: 12 | AD26: 3 | AE26: 7 | AF26: 3 | AG26: 18 | AH26: 20 | AI26: 3 | AJ26: 3 | AK26: 5 | AL26: 1 | AM26: 382 | AN26: 58 | AO26: 383 | AP26: 74 | AQ26: 366 | AR26: 62 | AS26: 350 | AT26: 65 | AU26: 382 | AV26: 80 | AW26: 346 | AX26: 68
A27: 206525 | B27: Wittenberg University | C27: 19 | D27: 6 | E27: 27 | F27: 0 | G27: 1 | H27: 0 | I27: 18 | J27: 6 | K27: 30 | L27: 1 | M27: 1 | N27: 2 | O27: 18 | P27: 4 | Q27: 35 | R27: 1 | S27: 1 | T27: 2 | U27: 34 | V27: 8 | W27: 21 | X27: 5 | Y27: 1 | Z27: 0 | AA27: 37 | AB27: 8 | AC27: 22 | AD27: 4 | AE27: 1 | AF27: 1 | AG27: 44 | AH27: 6 | AI27: 16 | AJ27: 3 | AK27: 1 | AL27: 0 | AM27: 393 | AN27: 45 | AO27: 417 | AP27: 59 | AQ27: 434 | AR27: 45 | AS27: 452 | AT27: 32 | AU27: 438 | AV27: 57 | AW27: 438 | AX27: 40
B28: TOTALS | C28: =SUM(C2:C27) -> 328 | D28: =SUM(D2:D27) -> 167 | E28: =SUM(E2:E27) -> 487 | F28: =SUM(F2:F27) -> 44 | G28: =SUM(G2:G27) -> 86 | H28: =SUM(H2:H27) -> 81 | I28: =SUM(I2:I27) -> 402 | J28: =SUM(J2:J27) -> 216 | ... AX28: =SUM(AX2:AX27) -> 1733

Sheet ELCA (numbers)
A1: UnitID | B1: Institution Name | C1: TOTAL (2004, including 2nd) | D1: TOTAL (2004, just 1st) | E1: English (2004) | F1: History (2004) | G1: Philosophy (2004) | H1: HUMANITIES (2004) | I1: TOTAL (2006, including 2nd) | J1: TOTAL (2006, just 1st) | K1: English (2006) | L1: History (2006) | M1: Philosophy (2006) | N1: HUMANITIES (2006) | O1: TOTAL (2008, including 2nd) | P1: TOTAL (2008, just 1st) | Q1: English (2008) | R1: History (2008) | S1: Philosophy (2008) | T1: HUMANITIES (2008) | U1: TOTAL (2010, including 2nd) | V1: TOTAL (2010, just 1st) | W1: English (2010) | X1: History (2010) | Y1: Philosophy (2010) | Z1: HUMANITIES (2010) | AA1: TOTAL (2012, including 2nd) | AB1: TOTAL (2012, just 1st) | AC1: English (2012) | AD1: History (2012) | AE1: Philosophy (2012) | AF1: HUMANITIES (2012) | AG1: TOTAL (2014, including 2nd) | AH1: TOTAL (2014, just 1st) | AI1: English (2014) | AJ1: History (2014) | AK1: Philosophy (2014) | AL1: HUMANITIES (2014) | AM1: Humanities Change
A2: 173045 | B2: Augsburg College | C2: 510 | D2: 453 | E2: 19 | F2: 20 | G2: 11 | H2: 50 | I2: 533 | J2: 484 | K2: 21 | L2: 14 | M2: 7 | N2: 42 | O2: 648 | P2: 589 | Q2: 20 | R2: 17 | S2: 22 | T2: 59 | U2: 726 | V2: 627 | W2: 26 | X2: 20 | Y2: 19 | Z2: 65 | AA2: 737 | AB2: 603 | AC2: 25 | AD2: 14 | AE2: 18 | AF2: 57 | AG2: 687 | AH2: 586 | AI2: 23 | AJ2: 18 | AK2: 9 | AL2: 50 | AM2: =AL2-H2 -> 0
A3: 143084 | B3: Augustana College (IL) | C3: 726 | D3: 540 | E3: 70 | F3: 32 | G3: 17 | H3: 119 | I3: 677 | J3: 509 | K3: 74 | L3: 31 | M3: 14 | N3: 119 | O3: 678 | P3: 521 | Q3: 67 | R3: 29 | S3: 17 | T3: 113 | U3: 778 | V3: 585 | W3: 32 | X3: 14 | Y3: 17 | Z3: 63 | AA3: 680 | AB3: 518 | AC3: 41 | AD3: 9 | AE3: 18 | AF3: 68 | AG3: 846 | AH3: 607 | AI3: 34 | AJ3: 14 | AK3: 24 | AL3: 72 | AM3: =AL3-H3 -> -47
A4: 219000 | B4: Augustana College (SD) | C4: 495 | D4: 369 | E4: 16 | F4: 5 | G4: 17 | H4: 38 | I4: 471 | J4: 357 | K4: 16 | L4: 12 | M4: 13 | N4: 41 | O4: 443 | P4: 341 | Q4: 13 | R4: 12 | S4: 15 | T4: 40 | U4: 486 | V4: 362 | W4: 18 | X4: 10 | Y4: 10 | Z4: 38 | AA4: 476 | AB4: 359 | AC4: 25 | AD4: 14 | AE4: 11 | AF4: 50 | AG4: 487 | AH4: 361 | AI4: 18 | AJ4: 10 | AK4: 6 | AL4: 34 | AM4: =AL4-H4 -> -4
A5: 154721 | B5: Bethany College | C5: 123 | D5: 115 | E5: 3 | F5: 5 | G5: 2 | H5: 10 | I5: 128 | J5: 108 | K5: 4 | L5: 3 | M5: 5 | N5: 12 | O5: 114 | P5: 98 | Q5: 0 | R5: 2 | S5: 0 | T5: 2 | U5: 123 | V5: 98 | W5: 2 | X5: 4 | Y5: 1 | Z5: 7 | AA5: 113 | AB5: 97 | AC5: 0 | AD5: 1 | AE5: 0 | AF5: 1 | AG5: 131 | AH5: 117 | AI5: 0 | AJ5: 4 | AK5: 0 | AL5: 4 | AM5: =AL5-H5 -> -6
A6: 110413 | B6: California Lutheran University | C6: 504 | D6: 484 | E6: 17 | F6: 17 | G6: 10 | H6: 44 | I6: 478 | J6: 458 | K6: 18 | L6: 14 | M6: 7 | N6: 39 | O6: 571 | P6: 532 | Q6: 13 | R6: 10 | S6: 10 | T6: 33 | U6: 558 | V6: 523 | W6: 14 | X6: 8 | Y6: 15 | Z6: 37 | AA6: 707 | AB6: 680 | AC6: 24 | AD6: 15 | AE6: 8 | AF6: 47 | AG6: 778 | AH6: 740 | AI6: 14 | AJ6: 7 | AK6: 12 | AL6: 33 | AM6: =AL6-H6 -> -11
A7: 201548 | B7: Capital University | C7: 663 | D7: 663 | E7: 19 | F7: 14 | G7: 3 | H7: 36 | I7: 657 | J7: 657 | K7: 13 | L7: 19 | M7: 7 | N7: 39 | O7: 594 | P7: 570 | Q7: 11 | R7: 5 | S7: 4 | T7: 20 | U7: 688 | V7: 665 | W7: 21 | X7: 7 | Y7: 6 | Z7: 34 | AA7: 650 | AB7: 560 | AC7: 9 | AD7: 11 | AE7: 9 | AF7: 29 | AG7: 706 | AH7: 607 | AI7: 19 | AJ7: 8 | AK7: 15 | AL7: 42 | AM7: =AL7-H7 -> 6
A8: 238476 | B8: Carthage College | C8: 514 | D8: 370 | E8: 14 | F8: 13 | G8: 4 | H8: 31 | I8: 646 | J8: 489 | K8: 18 | L8: 20 | M8: 11 | N8: 49 | O8: 571 | P8: 439 | Q8: 10 | R8: 11 | S8: 3 | T8: 24 | U8: 567 | V8: 461 | W8: 17 | X8: 17 | Y8: 9 | Z8: 43 | AA8: 700 | AB8: 576 | AC8: 23 | AD8: 16 | AE8: 7 | AF8: 46 | AG8: 726 | AH8: 607 | AI8: 28 | AJ8: 19 | AK8: 9 | AL8: 56 | AM8: =AL8-H8 -> 25
A9: 173300 | B9: Concordia College at Moorhead | C9: 787 | D9: 583 | E9: 37 | F9: 20 | G9: 34 | H9: 91 | I9: 722 | J9: 555 | K9: 24 | L9: 15 | M9: 24 | N9: 63 | O9: 803 | P9: 611 | Q9: 28 | R9: 13 | S9: 18 | T9: 59 | U9: 673 | V9: 532 | W9: 11 | X9: 16 | Y9: 17 | Z9: 44 | AA9: 792 | AB9: 627 | AC9: 46 | AD9: 11 | AE9: 21 | AF9: 78 | AG9: 719 | AH9: 584 | AI9: 29 | AJ9: 10 | AK9: 8 | AL9: 47 | AM9: =AL9-H9 -> -44
A10: 172440 | B10: Finlandia University | C10: 61 | D10: 61 | E10: 0 | F10: 0 | G10: 0 | H10: 0 | I10: 40 | J10: 40 | K10: 0 | L10: 0 | M10: 0 | N10: 0 | O10: 86 | P10: 86 | Q10: 0 | R10: 0 | S10: 0 | T10: 0 | U10: 66 | V10: 66 | W10: 0 | X10: 0 | Y10: 0 | Z10: 0 | AA10: 57 | AB10: 57 | AC10: 1 | AD10: 0 | AE10: 0 | AF10: 1 | AG10: 82 | AH10: 82 | AI10: 0 | AJ10: 1 | AK10: 0 | AL10: 1 | AM10: =AL10-H10 -> 1
A11: 212674 | B11: Gettysburg College | C11: 679 | D11: 597 | E11: 44 | F11: 52 | G11: 42 | H11: 138 | I11: 687 | J11: 594 | K11: 49 | L11: 52 | M11: 37 | N11: 138 | O11: 741 | P11: 645 | Q11: 65 | R11: 47 | S11: 32 | T11: 144 | U11: 736 | V11: 623 | W11: 56 | X11: 67 | Y11: 21 | Z11: 144 | AA11: 716 | AB11: 617 | AC11: 57 | AD11: 54 | AE11: 36 | AF11: 147 | AG11: 750 | AH11: 660 | AI11: 46 | AJ11: 55 | AK11: 44 | AL11: 145 | AM11: =AL11-H11 -> 7
A12: 153375 | B12: Grand View University | C12: 367 | D12: 334 | E12: 5 | F12: 0 | G12: 2 | H12: 7 | I12: 497 | J12: 425 | K12: 13 | L12: 0 | M12: 3 | N12: 16 | O12: 465 | P12: 411 | Q12: 7 | R12: 10 | S12: 0 | T12: 17 | U12: 549 | V12: 495 | W12: 9 | X12: 6 | Y12: 3 | Z12: 18 | AA12: 570 | AB12: 496 | AC12: 10 | AD12: 10 | AE12: 3 | AF12: 23 | AG12: 554 | AH12: 478 | AI12: 9 | AJ12: 8 | AK12: 3 | AL12: 20 | AM12: =AL12-H12 -> 13
A13: 173647 | B13: Gustavus Adolphus College | C13: 703 | D13: 703 | E13: 27 | F13: 22 | G13: 19 | H13: 68 | I13: 689 | J13: 689 | K13: 29 | L13: 22 | M13: 21 | N13: 72 | O13: 666 | P13: 666 | Q13: 30 | R13: 22 | S13: 15 | T13: 67 | U13: 586 | V13: 586 | W13: 24 | X13: 22 | Y13: 14 | Z13: 60 | AA13: 619 | AB13: 619 | AC13: 29 | AD13: 30 | AE13: 18 | AF13: 77 | AG13: 650 | AH13: 650 | AI13: 31 | AJ13: 19 | AK13: 16 | AL13: 66 | AM13: =AL13-H13 -> -2
... A27: 206525 | B27: Wittenberg University | C27: 478 | D27: 438 | E27: 47 | F27: 16 | G27: 7 | H27: 70 | I27: 495 | J27: 438 | K27: 41 | L27: 23 | M27: 9 | N27: 73 | O27: 484 | P27: 452 | Q27: 39 | R27: 21 | S27: 9 | T27: 69 | U27: 479 | V27: 434 | W27: 37 | X27: 19 | Y27: 5 | Z27: 61 | AA27: 476 | AB27: 417 | AC27: 32 | AD27: 19 | AE27: 7 | AF27: 58 | AG27: 438 | AH27: 393 | AI27: 27 | AJ27: 19 | AK27: 7 | AL27: 53 | AM27: =AL27-H27 -> -17
B28: TOTALS | C28: 12550 | D28: 10817 | E28: 655 | F28: 397 | G28: 355 | H28: 1407 | I28: 12896 | J28: 11058 | K28: 641 | L28: 450 | M28: 326 | N28: 1417 | O28: 12889 | P28: 11224 | Q28: 623 | R28: 406 | S28: 299 | T28: 1328 | U28: 13143 | V28: 11291 | W28: 558 | X28: 420 | Y28: 286 | Z28: 1264 | AA28: 13801 | AB28: 11752 | AC28: 643 | AD28: 450 | AE28: 313 | AF28: 1406 | AG28: 13977 | AH28: 11988 | AI28: 568 | AJ28: 372 | AK28: 253 | AL28: 1193 | AM28: =AL28-H28 -> -214
B29: Percentages (including 2nd) | E29: 0.052191235 | F29: 0.031633466 | G29: 0.028286853 | H29: 0.11211155 | K29: 0.049705335 | L29: 0.034894541 | M29: 0.025279156 | N29: 0.10987903 | Q29: 0.04833579 | R29: 0.031499728 | S29: 0.023198076 | T29: 0.10303359 | W29: 0.04245606 | X29: 0.031956174 | Y29: 0.021760633 | Z29: 0.096172868 | AC29: 0.046590827 | AD29: 0.032606333 | AE29: 0.022679516 | AF29: 0.10187668 | AI29: 0.040638191 | AJ29: 0.026615153 | AK29: 0.018101166 | AL29: 0.085354511 | AM29: =AL29-H29 -> -0.026757043
B30: Percentages (just 1st) | E30: 0.060552834 | F30: 0.036701488 | G30: 0.032818711 | H30: 0.13007303 | K30: 0.057967083 | L30: 0.04069452 | M30: 0.029480919 | N30: 0.12814252 | Q30: 0.055506058 | R30: 0.036172488 | S30: 0.026639344 | T30: 0.11831789 | W30: 0.049419892 | X30: 0.037197768 | Y30: 0.025329909 | Z30: 0.11194757 | AC30: 0.054714091 | AD30: 0.038291355 | AE30: 0.026633764 | AF30: 0.11963921 | AI30: 0.047380714 | AJ30: 0.031031031 | AK30: 0.021104438 | AL30: 0.099516183 | AM30: =AL30-H30 -> -0.03055685
B32: Percent of graduates with 2nd major | C32: =(C28-D28)/D28 -> 0.16021078 | I32: =(I28-J28)/J28 -> 0.16621451 | O32: =(O28-P28)/P28 -> 0.14834284 | U32: =(U28-V28)/V28 -> 0.16402444 | AA32: =(AA28-AB28)/AB28 -> 0.1743533 | AG32: =(AG28-AH28)/AH28 -> 0.16591592

Sheet ELCA (% of 1st and 2nd)
A1: UnitID | B1: Institution Name | C1: TOTAL (2004, including 2nd) | D1: English (2004) | E1: History (2004) | F1: Philosophy (2004) | G1: HUMANITIES (2004) | H1: TOTAL (2006, including 2nd) | I1: English (2006) | J1: History (2006) | K1: Philosophy (2006) | L1: HUMANITIES (2006) | M1: TOTAL (2008, including 2nd) | N1: English (2008) | O1: History (2008) | P1: Philosophy (2008) | Q1: HUMANITIES (2008) | R1: TOTAL (2010, including 2nd) | S1: English (2010) | T1: History (2010) | U1: Philosophy (2010) | V1: HUMANITIES (2010) | W1: TOTAL (2012, including 2nd) | X1: English (2012) | Y1: History (2012) | Z1: Philosophy (2012) | AA1: HUMANITIES (2012) | AB1: TOTAL (2014, including 2nd) | AC1: English (2014) | AD1: History (2014) | AE1: Philosophy (2014) | AF1: HUMANITIES (2014) | AG1: Humanities Change
A2: 173045 | B2: Augsburg College | C2: 510 | D2: ='ELCA (numbers)'!E2/C2 -> 0.037254902 | E2: ='ELCA (numbers)'!F2/C2 -> 0.039215686 | F2: ='ELCA (numbers)'!G2/C2 -> 0.021568627 | G2: ='ELCA (numbers)'!H2/C2 -> 0.098039216 | H2: 533 | I2: ='ELCA (numbers)'!K2/H2 -> 0.039399625 | J2: ='ELCA (numbers)'!L2/H2 -> 0.026266417 | K2: ='ELCA (numbers)'!M2/H2 -> 0.013133208 | L2: ='ELCA (numbers)'!N2/H2 -> 0.07879925 | M2: 648 | N2: ='ELCA (numbers)'!Q2/M2 -> 0.030864198 | O2: ='ELCA (numbers)'!R2/M2 -> 0.026234568 | P2: ='ELCA (numbers)'!S2/M2 -> 0.033950617 | Q2: ='ELCA (numbers)'!T2/M2 -> 0.091049383 | R2: 726 | S2: ='ELCA (numbers)'!W2/R2 -> 0.035812672 | T2: ='ELCA (numbers)'!X2/R2 -> 0.027548209 | U2: ='ELCA (numbers)'!Y2/R2 -> 0.026170799 | V2: ='ELCA (numbers)'!Z2/R2 -> 0.08953168 | W2: 737 | X2: ='ELCA (numbers)'!AC2/W2 -> 0.033921303 | Y2: ='ELCA (numbers)'!AD2/W2 -> 0.018995929 | Z2: ='ELCA (numbers)'!AE2/W2 -> 0.024423338 | AA2: ='ELCA (numbers)'!AF2/W2 -> 0.07734057 | AB2: 687 | AC2: ='ELCA (numbers)'!AI2/AB2 -> 0.033478894 | AD2: ='ELCA (numbers)'!AJ2/AB2 -> 0.026200873 | AE2: ='ELCA (numbers)'!AK2/AB2 -> 0.013100437 | AF2: ='ELCA (numbers)'!AL2/AB2 -> 0.072780204 | AG2: =AF2-G2 -> -0.025259012
A3: 143084 | B3: Augustana College (IL) | C3: 726 | D3: ='ELCA (numbers)'!E3/C3 -> 0.096418733 | E3: ='ELCA (numbers)'!F3/C3 -> 0.044077135 | F3: ='ELCA (numbers)'!G3/C3 -> 0.023415978 | G3: ='ELCA (numbers)'!H3/C3 -> 0.16391185 | H3: 677 | I3: ='ELCA (numbers)'!K3/H3 -> 0.10930576 | J3: ='ELCA (numbers)'!L3/H3 -> 0.045790251 | K3: ='ELCA (numbers)'!M3/H3 -> 0.020679468 | L3: ='ELCA (numbers)'!N3/H3 -> 0.17577548 | M3: 678 | N3: ='ELCA (numbers)'!Q3/M3 -> 0.098820059 | O3: ='ELCA (numbers)'!R3/M3 -> 0.042772861 | P3: ='ELCA (numbers)'!S3/M3 -> 0.025073746 | Q3: ='ELCA (numbers)'!T3/M3 -> 0.16666667 | R3: 778 | S3: ='ELCA (numbers)'!W3/R3 -> 0.041131105 | T3: ='ELCA (numbers)'!X3/R3 -> 0.017994859 | U3: ='ELCA (numbers)'!Y3/R3 -> 0.0218509 | V3: ='ELCA (numbers)'!Z3/R3 -> 0.080976864 | W3: 680 | X3: ='ELCA (numbers)'!AC3/W3 -> 0.060294118 | Y3: ='ELCA (numbers)'!AD3/W3 -> 0.013235294 | Z3: ='ELCA (numbers)'!AE3/W3 -> 0.026470588 | AA3: ='ELCA (numbers)'!AF3/W3 -> 0.1 | AB3: 846 | AC3: ='ELCA (numbers)'!AI3/AB3 -> 0.040189125 | AD3: ='ELCA (numbers)'!AJ3/AB3 -> 0.016548463 | AE3: ='ELCA (numbers)'!AK3/AB3 -> 0.028368794 | AF3: ='ELCA (numbers)'!AL3/AB3 -> 0.085106383 | AG3: =AF3-G3 -> -0.078805463
A4: 219000 | B4: Augustana College (SD) | C4: 495 | D4: ='ELCA (numbers)'!E4/C4 -> 0.032323232 | E4: ='ELCA (numbers)'!F4/C4 -> 0.01010101 | F4: ='ELCA (numbers)'!G4/C4 -> 0.034343434 | G4: ='ELCA (numbers)'!H4/C4 -> 0.076767677 | H4: 471 | I4: ='ELCA (numbers)'!K4/H4 -> 0.033970276 | J4: ='ELCA (numbers)'!L4/H4 -> 0.025477707 | K4: ='ELCA (numbers)'!M4/H4 -> 0.027600849 | L4: ='ELCA (numbers)'!N4/H4 -> 0.087048832 | M4: 443 | N4: ='ELCA (numbers)'!Q4/M4 -> 0.029345372 | O4: ='ELCA (numbers)'!R4/M4 -> 0.027088036 | P4: ='ELCA (numbers)'!S4/M4 -> 0.033860045 | Q4: ='ELCA (numbers)'!T4/M4 -> 0.090293454 | R4: 486 | S4: ='ELCA (numbers)'!W4/R4 -> 0.037037037 | T4: ='ELCA (numbers)'!X4/R4 -> 0.020576132 | U4: ='ELCA (numbers)'!Y4/R4 -> 0.020576132 | V4: ='ELCA (numbers)'!Z4/R4 -> 0.0781893 | W4: 476 | X4: ='ELCA (numbers)'!AC4/W4 -> 0.052521008 | Y4: ='ELCA (numbers)'!AD4/W4 -> 0.029411765 | Z4: ='ELCA (numbers)'!AE4/W4 -> 0.023109244 | AA4: ='ELCA (numbers)'!AF4/W4 -> 0.10504202 | AB4: 487 | AC4: ='ELCA (numbers)'!AI4/AB4 -> 0.036960986 | AD4: ='ELCA (numbers)'!AJ4/AB4 -> 0.020533881 | AE4: ='ELCA (numbers)'!AK4/AB4 -> 0.012320329 | AF4: ='ELCA (numbers)'!AL4/AB4 -> 0.069815195 | AG4: =AF4-G4 -> -0.0069524817
A5: 154721 | B5: Bethany College | C5: 123 | D5: ='ELCA (numbers)'!E5/C5 -> 0.024390244 | E5: ='ELCA (numbers)'!F5/C5 -> 0.040650407 | F5: ='ELCA (numbers)'!G5/C5 -> 0.016260163 | G5: ='ELCA (numbers)'!H5/C5 -> 0.081300813 | H5: 128 | I5: ='ELCA (numbers)'!K5/H5 -> 0.03125 | J5: ='ELCA (numbers)'!L5/H5 -> 0.0234375 | K5: ='ELCA (numbers)'!M5/H5 -> 0.0390625 | L5: ='ELCA (numbers)'!N5/H5 -> 0.09375 | M5: 114 | N5: ='ELCA (numbers)'!Q5/M5 -> 0 | O5: ='ELCA (numbers)'!R5/M5 -> 0.01754386 | P5: ='ELCA (numbers)'!S5/M5 -> 0 | Q5: ='ELCA (numbers)'!T5/M5 -> 0.01754386 | R5: 123 | S5: ='ELCA (numbers)'!W5/R5 -> 0.016260163 | T5: ='ELCA (numbers)'!X5/R5 -> 0.032520325 | U5: ='ELCA (numbers)'!Y5/R5 -> 0.0081300813 | V5: ='ELCA (numbers)'!Z5/R5 -> 0.056910569 | W5: 113 | X5: ='ELCA (numbers)'!AC5/W5 -> 0 | Y5: ='ELCA (numbers)'!AD5/W5 -> 0.0088495575 | Z5: ='ELCA (numbers)'!AE5/W5 -> 0 | AA5: ='ELCA (numbers)'!AF5/W5 -> 0.0088495575 | AB5: 131 | AC5: ='ELCA (numbers)'!AI5/AB5 -> 0 | AD5: ='ELCA (numbers)'!AJ5/AB5 -> 0.030534351 | AE5: ='ELCA (numbers)'!AK5/AB5 -> 0 | AF5: ='ELCA (numbers)'!AL5/AB5 -> 0.030534351 | AG5: =AF5-G5 -> -0.050766462
A6: 110413 | B6: California Lutheran University | C6: 504 | D6: ='ELCA (numbers)'!E6/C6 -> 0.033730159 | E6: ='ELCA (numbers)'!F6/C6 -> 0.033730159 | F6: ='ELCA (numbers)'!G6/C6 -> 0.01984127 | G6: ='ELCA (numbers)'!H6/C6 -> 0.087301587 | H6: 478 | I6: ='ELCA (numbers)'!K6/H6 -> 0.037656904 | J6: ='ELCA (numbers)'!L6/H6 -> 0.029288703 | K6: ='ELCA (numbers)'!M6/H6 -> 0.014644351 | L6: ='ELCA (numbers)'!N6/H6 -> 0.081589958 | M6: 571 | N6: ='ELCA (numbers)'!Q6/M6 -> 0.022767075 | O6: ='ELCA (numbers)'!R6/M6 -> 0.017513135 | P6: ='ELCA (numbers)'!S6/M6 -> 0.017513135 | Q6: ='ELCA (numbers)'!T6/M6 -> 0.057793345 | R6: 558 | S6: ='ELCA (numbers)'!W6/R6 -> 0.025089606 | T6: ='ELCA (numbers)'!X6/R6 -> 0.014336918 | U6: ='ELCA (numbers)'!Y6/R6 -> 0.02688172 | V6: ='ELCA (numbers)'!Z6/R6 -> 0.066308244 | W6: 707 | X6: ='ELCA (numbers)'!AC6/W6 -> 0.033946252 | Y6: ='ELCA (numbers)'!AD6/W6 -> 0.021216407 | Z6: ='ELCA (numbers)'!AE6/W6 -> 0.011315417 | AA6: ='ELCA (numbers)'!AF6/W6 -> 0.066478076 | AB6: 778 | AC6: ='ELCA (numbers)'!AI6/AB6 -> 0.017994859 | AD6: ='ELCA (numbers)'!AJ6/AB6 -> 0.0089974293 | AE6: ='ELCA (numbers)'!AK6/AB6 -> 0.015424165 | AF6: ='ELCA (numbers)'!AL6/AB6 -> 0.042416452 | AG6: =AF6-G6 -> -0.044885135
A7: 201548 | B7: Capital University | C7: 663 | D7: ='ELCA (numbers)'!E7/C7 -> 0.028657617 | E7: ='ELCA (numbers)'!F7/C7 -> 0.021116139 | F7: ='ELCA (numbers)'!G7/C7 -> 0.0045248869 | G7: ='ELCA (numbers)'!H7/C7 -> 0.054298643 | H7: 657 | I7: ='ELCA (numbers)'!K7/H7 -> 0.01978691 | J7: ='ELCA (numbers)'!L7/H7 -> 0.02891933 | K7: ='ELCA (numbers)'!M7/H7 -> 0.01065449 | L7: ='ELCA (numbers)'!N7/H7 -> 0.059360731 | M7: 594 | N7: ='ELCA (numbers)'!Q7/M7 -> 0.018518519 | O7: ='ELCA (numbers)'!R7/M7 -> 0.0084175084 | P7: ='ELCA (numbers)'!S7/M7 -> 0.0067340067 | Q7: ='ELCA (numbers)'!T7/M7 -> 0.033670034 | R7: 688 | S7: ='ELCA (numbers)'!W7/R7 -> 0.030523256 | T7: ='ELCA (numbers)'!X7/R7 -> 0.010174419 | U7: ='ELCA (numbers)'!Y7/R7 -> 0.0087209302 | V7: ='ELCA (numbers)'!Z7/R7 -> 0.049418605 | W7: 650 | X7: ='ELCA (numbers)'!AC7/W7 -> 0.013846154 | Y7: ='ELCA (numbers)'!AD7/W7 -> 0.016923077 | Z7: ='ELCA (numbers)'!AE7/W7 -> 0.013846154 | AA7: ='ELCA (numbers)'!AF7/W7 -> 0.044615385 | AB7: 706 | AC7: ='ELCA (numbers)'!AI7/AB7 -> 0.026912181 | AD7: ='ELCA (numbers)'!AJ7/AB7 -> 0.011331445 | AE7: ='ELCA (numbers)'!AK7/AB7 -> 0.021246459 | AF7: ='ELCA (numbers)'!AL7/AB7 -> 0.059490085 | AG7: =AF7-G7 -> 0.0051914425
A8: 238476 | B8: Carthage College | C8: 514 | D8: ='ELCA (numbers)'!E8/C8 -> 0.027237354 | E8: ='ELCA (numbers)'!F8/C8 -> 0.025291829 | F8: ='ELCA (numbers)'!G8/C8 -> 0.0077821012 | G8: ='ELCA (numbers)'!H8/C8 -> 0.060311284 | H8: 646 | I8: ='ELCA (numbers)'!K8/H8 -> 0.027863777 | J8: ='ELCA (numbers)'!L8/H8 -> 0.030959752 | K8: ='ELCA (numbers)'!M8/H8 -> 0.017027864 | L8: ='ELCA (numbers)'!N8/H8 -> 0.075851393 | M8: 571 | N8: ='ELCA (numbers)'!Q8/M8 -> 0.017513135 | O8: ='ELCA (numbers)'!R8/M8 -> 0.019264448 | P8: ='ELCA (numbers)'!S8/M8 -> 0.0052539405 | Q8: ='ELCA (numbers)'!T8/M8 -> 0.042031524 | R8: 567 | S8: ='ELCA (numbers)'!W8/R8 -> 0.029982363 | T8: ='ELCA (numbers)'!X8/R8 -> 0.029982363 | U8: ='ELCA (numbers)'!Y8/R8 -> 0.015873016 | V8: ='ELCA (numbers)'!Z8/R8 -> 0.075837743 | W8: 700 | X8: ='ELCA (numbers)'!AC8/W8 -> 0.032857143 | Y8: ='ELCA (numbers)'!AD8/W8 -> 0.022857143 | Z8: ='ELCA (numbers)'!AE8/W8 -> 0.01 | AA8: ='ELCA (numbers)'!AF8/W8 -> 0.065714286 | AB8: 726 | AC8: ='ELCA (numbers)'!AI8/AB8 -> 0.038567493 | AD8: ='ELCA (numbers)'!AJ8/AB8 -> 0.026170799 | AE8: ='ELCA (numbers)'!AK8/AB8 -> 0.012396694 | AF8: ='ELCA (numbers)'!AL8/AB8 -> 0.077134986 | AG8: =AF8-G8 -> 0.016823702
A9: 173300 | B9: Concordia College at Moorhead | C9: 787 | D9: ='ELCA (numbers)'!E9/C9 -> 0.047013977 | E9: ='ELCA (numbers)'!F9/C9 -> 0.025412961 | F9: ='ELCA (numbers)'!G9/C9 -> 0.043202033 | G9: ='ELCA (numbers)'!H9/C9 -> 0.11562897 | H9: 722 | I9: ='ELCA (numbers)'!K9/H9 -> 0.033240997 | J9: ='ELCA (numbers)'!L9/H9 -> 0.020775623 | K9: ='ELCA (numbers)'!M9/H9 -> 0.033240997 | L9: ='ELCA (numbers)'!N9/H9 -> 0.087257618 | M9: 803 | N9: ='ELCA (numbers)'!Q9/M9 -> 0.03486924 | O9: ='ELCA (numbers)'!R9/M9 -> 0.01618929 | P9: ='ELCA (numbers)'!S9/M9 -> 0.02241594 | Q9: ='ELCA (numbers)'!T9/M9 -> 0.073474471 | R9: 673 | S9: ='ELCA (numbers)'!W9/R9 -> 0.016344725 | T9: ='ELCA (numbers)'!X9/R9 -> 0.023774146 | U9: ='ELCA (numbers)'!Y9/R9 -> 0.02526003 | V9: ='ELCA (numbers)'!Z9/R9 -> 0.0653789 | W9: 792 | X9: ='ELCA (numbers)'!AC9/W9 -> 0.058080808 | Y9: ='ELCA (numbers)'!AD9/W9 -> 0.013888889 | Z9: ='ELCA (numbers)'!AE9/W9 -> 0.026515152 | AA9: ='ELCA (numbers)'!AF9/W9 -> 0.098484848 | AB9: 719 | AC9: ='ELCA (numbers)'!AI9/AB9 -> 0.040333797 | AD9: ='ELCA (numbers)'!AJ9/AB9 -> 0.013908206 | AE9: ='ELCA (numbers)'!AK9/AB9 -> 0.011126565 | AF9: ='ELCA (numbers)'!AL9/AB9 -> 0.065368567 | AG9: =AF9-G9 -> -0.050260403
A10: 172440 | B10: Finlandia University | C10: 61 | D10: ='ELCA (numbers)'!E10/C10 -> 0 | E10: ='ELCA (numbers)'!F10/C10 -> 0 | F10: ='ELCA (numbers)'!G10/C10 -> 0 | G10: ='ELCA (numbers)'!H10/C10 -> 0 | H10: 40 | I10: ='ELCA (numbers)'!K10/H10 -> 0 | J10: ='ELCA (numbers)'!L10/H10 -> 0 | K10: ='ELCA (numbers)'!M10/H10 -> 0 | L10: ='ELCA (numbers)'!N10/H10 -> 0 | M10: 86 | N10: ='ELCA (numbers)'!Q10/M10 -> 0 | O10: ='ELCA (numbers)'!R10/M10 -> 0 | P10: ='ELCA (numbers)'!S10/M10 -> 0 | Q10: ='ELCA (numbers)'!T10/M10 -> 0 | R10: 66 | S10: ='ELCA (numbers)'!W10/R10 -> 0 | T10: ='ELCA (numbers)'!X10/R10 -> 0 | U10: ='ELCA (numbers)'!Y10/R10 -> 0 | V10: ='ELCA (numbers)'!Z10/R10 -> 0 | W10: 57 | X10: ='ELCA (numbers)'!AC10/W10 -> 0.01754386 | Y10: ='ELCA (numbers)'!AD10/W10 -> 0 | Z10: ='ELCA (numbers)'!AE10/W10 -> 0 | AA10: ='ELCA (numbers)'!AF10/W10 -> 0.01754386 | AB10: 82 | AC10: ='ELCA (numbers)'!AI10/AB10 -> 0 | AD10: ='ELCA (numbers)'!AJ10/AB10 -> 0.012195122 | AE10: ='ELCA (numbers)'!AK10/AB10 -> 0 | AF10: ='ELCA (numbers)'!AL10/AB10 -> 0.012195122 | AG10: =AF10-G10 -> 0.012195122
A11: 212674 | B11: Gettysburg College | C11: 679 | D11: ='ELCA (numbers)'!E11/C11 -> 0.064801178 | E11: ='ELCA (numbers)'!F11/C11 -> 0.076583211 | F11: ='ELCA (numbers)'!G11/C11 -> 0.06185567 | G11: ='ELCA (numbers)'!H11/C11 -> 0.20324006 | H11: 687 | I11: ='ELCA (numbers)'!K11/H11 -> 0.0713246 | J11: ='ELCA (numbers)'!L11/H11 -> 0.075691412 | K11: ='ELCA (numbers)'!M11/H11 -> 0.053857351 | L11: ='ELCA (numbers)'!N11/H11 -> 0.20087336 | M11: 741 | N11: ='ELCA (numbers)'!Q11/M11 -> 0.087719298 | O11: ='ELCA (numbers)'!R11/M11 -> 0.0634278 | P11: ='ELCA (numbers)'!S11/M11 -> 0.043184885 | Q11: ='ELCA (numbers)'!T11/M11 -> 0.19433198 | R11: 736 | S11: ='ELCA (numbers)'!W11/R11 -> 0.076086957 | T11: ='ELCA (numbers)'!X11/R11 -> 0.091032609 | U11: ='ELCA (numbers)'!Y11/R11 -> 0.028532609 | V11: ='ELCA (numbers)'!Z11/R11 -> 0.19565217 | W11: 716 | X11: ='ELCA (numbers)'!AC11/W11 -> 0.079608939 | Y11: ='ELCA (numbers)'!AD11/W11 -> 0.075418994 | Z11: ='ELCA (numbers)'!AE11/W11 -> 0.05027933 | AA11: ='ELCA (numbers)'!AF11/W11 -> 0.20530726 | AB11: 750 | AC11: ='ELCA (numbers)'!AI11/AB11 -> 0.061333333 | AD11: ='ELCA (numbers)'!AJ11/AB11 -> 0.073333333 | AE11: ='ELCA (numbers)'!AK11/AB11 -> 0.058666667 | AF11: ='ELCA (numbers)'!AL11/AB11 -> 0.19333333 | AG11: =AF11-G11 -> -0.0099067256
A12: 153375 | B12: Grand View University | C12: 367 | D12: ='ELCA (numbers)'!E12/C12 -> 0.013623978 | E12: ='ELCA (numbers)'!F12/C12 -> 0 | F12: ='ELCA (numbers)'!G12/C12 -> 0.0054495913 | G12: ='ELCA (numbers)'!H12/C12 -> 0.019073569 | H12: 497 | I12: ='ELCA (numbers)'!K12/H12 -> 0.026156942 | J12: ='ELCA (numbers)'!L12/H12 -> 0 | K12: ='ELCA (numbers)'!M12/H12 -> 0.0060362173 | L12: ='ELCA (numbers)'!N12/H12 -> 0.032193159 | M12: 465 | N12: ='ELCA (numbers)'!Q12/M12 -> 0.015053763 | O12: ='ELCA (numbers)'!R12/M12 -> 0.021505376 | P12: ='ELCA (numbers)'!S12/M12 -> 0 | Q12: ='ELCA (numbers)'!T12/M12 -> 0.03655914 | R12: 549 | S12: ='ELCA (numbers)'!W12/R12 -> 0.016393443 | T12: ='ELCA (numbers)'!X12/R12 -> 0.010928962 | U12: ='ELCA (numbers)'!Y12/R12 -> 0.0054644809 | V12: ='ELCA (numbers)'!Z12/R12 -> 0.032786885 | W12: 570 | X12: ='ELCA (numbers)'!AC12/W12 -> 0.01754386 | Y12: ='ELCA (numbers)'!AD12/W12 -> 0.01754386 | Z12: ='ELCA (numbers)'!AE12/W12 -> 0.0052631579 | AA12: ='ELCA (numbers)'!AF12/W12 -> 0.040350877 | AB12: 554 | AC12: ='ELCA (numbers)'!AI12/AB12 -> 0.016245487 | AD12: ='ELCA (numbers)'!AJ12/AB12 -> 0.014440433 | AE12: ='ELCA (numbers)'!AK12/AB12 -> 0.0054151625 | AF12: ='ELCA (numbers)'!AL12/AB12 -> 0.036101083 | AG12: =AF12-G12 -> 0.017027514
A13: 173647 | B13: Gustavus Adolphus College | C13: 703 | D13: ='ELCA (numbers)'!E13/C13 -> 0.038406828 | E13: ='ELCA (numbers)'!F13/C13 -> 0.031294452 | F13: ='ELCA (numbers)'!G13/C13 -> 0.027027027 | G13: ='ELCA (numbers)'!H13/C13 -> 0.096728307 | H13: 689 | I13: ='ELCA (numbers)'!K13/H13 -> 0.042089985 | J13: ='ELCA (numbers)'!L13/H13 -> 0.031930334 | K13: ='ELCA (numbers)'!M13/H13 -> 0.030478955 | L13: ='ELCA (numbers)'!N13/H13 -> 0.10449927 | M13: 666 | N13: ='ELCA (numbers)'!Q13/M13 -> 0.045045045 | O13: ='ELCA (numbers)'!R13/M13 -> 0.033033033 | P13: ='ELCA (numbers)'!S13/M13 -> 0.022522523 | Q13: ='ELCA (numbers)'!T13/M13 -> 0.1006006 | R13: 586 | S13: ='ELCA (numbers)'!W13/R13 -> 0.040955631 | T13: ='ELCA (numbers)'!X13/R13 -> 0.037542662 | U13: ='ELCA (numbers)'!Y13/R13 -> 0.023890785 | V13: ='ELCA (numbers)'!Z13/R13 -> 0.10238908 | W13: 619 | X13: ='ELCA (numbers)'!AC13/W13 -> 0.046849758 | Y13: ='ELCA (numbers)'!AD13/W13 -> 0.048465267 | Z13: ='ELCA (numbers)'!AE13/W13 -> 0.02907916 | AA13: ='ELCA (numbers)'!AF13/W13 -> 0.12439418 | AB13: 650 | AC13: ='ELCA (numbers)'!AI13/AB13 -> 0.047692308 | AD13: ='ELCA (numbers)'!AJ13/AB13 -> 0.029230769 | AE13: ='ELCA (numbers)'!AK13/AB13 -> 0.024615385 | AF13: ='ELCA (numbers)'!AL13/AB13 -> 0.10153846 | AG13: =AF13-G13 -> 0.0048101543
... A27: 206525 | B27: Wittenberg University | C27: 478 | D27: ='ELCA (numbers)'!E27/C27 -> 0.09832636 | E27: ='ELCA (numbers)'!F27/C27 -> 0.033472803 | F27: ='ELCA (numbers)'!G27/C27 -> 0.014644351 | G27: ='ELCA (numbers)'!H27/C27 -> 0.14644351 | H27: 495 | I27: ='ELCA (numbers)'!K27/H27 -> 0.082828283 | J27: ='ELCA (numbers)'!L27/H27 -> 0.046464646 | K27: ='ELCA (numbers)'!M27/H27 -> 0.018181818 | L27: ='ELCA (numbers)'!N27/H27 -> 0.14747475 | M27: 484 | N27: ='ELCA (numbers)'!Q27/M27 -> 0.080578512 | O27: ='ELCA (numbers)'!R27/M27 -> 0.04338843 | P27: ='ELCA (numbers)'!S27/M27 -> 0.018595041 | Q27: ='ELCA (numbers)'!T27/M27 -> 0.14256198 | R27: 479 | S27: ='ELCA (numbers)'!W27/R27 -> 0.077244259 | T27: ='ELCA (numbers)'!X27/R27 -> 0.039665971 | U27: ='ELCA (numbers)'!Y27/R27 -> 0.010438413 | V27: ='ELCA (numbers)'!Z27/R27 -> 0.12734864 | W27: 476 | X27: ='ELCA (numbers)'!AC27/W27 -> 0.067226891 | Y27: ='ELCA (numbers)'!AD27/W27 -> 0.039915966 | Z27: ='ELCA (numbers)'!AE27/W27 -> 0.014705882 | AA27: ='ELCA (numbers)'!AF27/W27 -> 0.12184874 | AB27: 438 | AC27: ='ELCA (numbers)'!AI27/AB27 -> 0.061643836 | AD27: ='ELCA (numbers)'!AJ27/AB27 -> 0.043378995 | AE27: ='ELCA (numbers)'!AK27/AB27 -> 0.015981735 | AF27: ='ELCA (numbers)'!AL27/AB27 -> 0.12100457 | AG27: =AF27-G27 -> -0.025438948
B28: TOTALS | C28: =SUM(C2:C27) -> 12550 | D28: 655 | E28: 397 | F28: 355 | G28: 1407 | H28: =SUM(H2:H27) -> 12896 | I28: 641 | J28: 450 | K28: 326 | L28: 1417 | M28: =SUM(M2:M27) -> 12889 | N28: 623 | O28: 406 | P28: 299 | Q28: 1328 | R28: =SUM(R2:R27) -> 13143 | S28: 558 | T28: 420 | U28: 286 | V28: 1264 | W28: =SUM(W2:W27) -> 13801 | X28: 643 | Y28: 450 | Z28: 313 | AA28: 1406 | AB28: =SUM(AB2:AB27) -> 13977 | AC28: 568 | AD28: 372 | AE28: 253 | AF28: 1193 | AG28: =AF28-G28 -> -214
B29: Percentages | D29: 0.052191235 | E29: 0.031633466 | F29: 0.028286853 | G29: 0.11211155 | I29: 0.049705335 | J29: 0.034894541 | K29: 0.025279156 | L29: 0.10987903 | N29: 0.04833579 | O29: 0.031499728 | P29: 0.023198076 | Q29: 0.10303359 | S29: 0.04245606 | T29: 0.031956174 | U29: 0.021760633 | V29: 0.096172868 | X29: 0.046590827 | Y29: 0.032606333 | Z29: 0.022679516 | AA29: 0.10187668 | AC29: 0.040638191 | AD29: 0.026615153 | AE29: 0.018101166 | AF29: 0.085354511 | AG29: =AF29-G29 -> -0.026757043

Sheet ELCA (% of 1st only)
A1: UnitID | B1: Institution Name | C1: TOTAL (2004, just 1st) | D1: English (2004) | E1: History (2004) | F1: Philosophy (2004) | G1: HUMANITIES (2004) | H1: TOTAL (2006, just 1st) | I1: English (2006) | J1: History (2006) | K1: Philosophy (2006) | L1: HUMANITIES (2006) | M1: TOTAL (2008, just 1st) | N1: English (2008) | O1: History (2008) | P1: Philosophy (2008) | Q1: HUMANITIES (2008) | R1: TOTAL (2010, just 1st) | S1: English (2010) | T1: History (2010) | U1: Philosophy (2010) | V1: HUMANITIES (2010) | W1: TOTAL (2012, just 1st) | X1: English (2012) | Y1: History (2012) | Z1: Philosophy (2012) | AA1: HUMANITIES (2012) | AB1: TOTAL (2014, just 1st) | AC1: English (2014) | AD1: History (2014) | AE1: Philosophy (2014) | AF1: HUMANITIES (2014) | AG1: Humanities Change
A2: 173045 | B2: Augsburg College | C2: 453 | D2: ='ELCA (numbers)'!E2/C2 -> 0.041942605 | E2: ='ELCA (numbers)'!F2/C2 -> 0.04415011 | F2: ='ELCA (numbers)'!G2/C2 -> 0.024282561 | G2: ='ELCA (numbers)'!H2/C2 -> 0.11037528 | H2: 484 | I2: ='ELCA (numbers)'!K2/H2 -> 0.04338843 | J2: ='ELCA (numbers)'!L2/H2 -> 0.02892562 | K2: ='ELCA (numbers)'!M2/H2 -> 0.01446281 | L2: ='ELCA (numbers)'!N2/H2 -> 0.08677686 | M2: 589 | N2: ='ELCA (numbers)'!Q2/M2 -> 0.033955857 | O2: ='ELCA (numbers)'!R2/M2 -> 0.028862479 | P2: ='ELCA (numbers)'!S2/M2 -> 0.037351443 | Q2: ='ELCA (numbers)'!T2/M2 -> 0.10016978 | R2: 627 | S2: ='ELCA (numbers)'!W2/R2 -> 0.041467305 | T2: ='ELCA (numbers)'!X2/R2 -> 0.031897927 | U2: ='ELCA (numbers)'!Y2/R2 -> 0.03030303 | V2: ='ELCA (numbers)'!Z2/R2 -> 0.10366826 | W2: 603 | X2: ='ELCA (numbers)'!AC2/W2 -> 0.04145937 | Y2: ='ELCA (numbers)'!AD2/W2 -> 0.023217247 | Z2: ='ELCA (numbers)'!AE2/W2 -> 0.029850746 | AA2: ='ELCA (numbers)'!AF2/W2 -> 0.094527363 | AB2: 586 | AC2: ='ELCA (numbers)'!AI2/AB2 -> 0.039249147 | AD2: ='ELCA (numbers)'!AJ2/AB2 -> 0.030716724 | AE2: ='ELCA (numbers)'!AK2/AB2 -> 0.015358362 | AF2: ='ELCA (numbers)'!AL2/AB2 -> 0.085324232 | AG2: =AF2-G2 -> -0.025051044
A3: 143084 | B3: Augustana College (IL) | C3: 540 | D3: ='ELCA (numbers)'!E3/C3 -> 0.12962963 | E3: ='ELCA (numbers)'!F3/C3 -> 0.059259259 | F3: ='ELCA (numbers)'!G3/C3 -> 0.031481481 | G3: ='ELCA (numbers)'!H3/C3 -> 0.22037037 | H3: 509 | I3: ='ELCA (numbers)'!K3/H3 -> 0.1453831 | J3: ='ELCA (numbers)'!L3/H3 -> 0.060903733 | K3: ='ELCA (numbers)'!M3/H3 -> 0.027504912 | L3: ='ELCA (numbers)'!N3/H3 -> 0.23379175 | M3: 521 | N3: ='ELCA (numbers)'!Q3/M3 -> 0.12859885 | O3: ='ELCA (numbers)'!R3/M3 -> 0.055662188 | P3: ='ELCA (numbers)'!S3/M3 -> 0.032629559 | Q3: ='ELCA (numbers)'!T3/M3 -> 0.2168906 | R3: 585 | S3: ='ELCA (numbers)'!W3/R3 -> 0.054700855 | T3: ='ELCA (numbers)'!X3/R3 -> 0.023931624 | U3: ='ELCA (numbers)'!Y3/R3 -> 0.029059829 | V3: ='ELCA (numbers)'!Z3/R3 -> 0.10769231 | W3: 518 | X3: ='ELCA (numbers)'!AC3/W3 -> 0.079150579 | Y3: ='ELCA (numbers)'!AD3/W3 -> 0.017374517 | Z3: ='ELCA (numbers)'!AE3/W3 -> 0.034749035 | AA3: ='ELCA (numbers)'!AF3/W3 -> 0.13127413 | AB3: 607 | AC3: ='ELCA (numbers)'!AI3/AB3 -> 0.05601318 | AD3: ='ELCA (numbers)'!AJ3/AB3 -> 0.02306425 | AE3: ='ELCA (numbers)'!AK3/AB3 -> 0.039538715 | AF3: ='ELCA (numbers)'!AL3/AB3 -> 0.11861614 | AG3: =AF3-G3 -> -0.10175423
A4: 219000 | B4: Augustana College (SD) | C4: 369 | D4: ='ELCA (numbers)'!E4/C4 -> 0.043360434 | E4: ='ELCA (numbers)'!F4/C4 -> 0.013550136 | F4: ='ELCA (numbers)'!G4/C4 -> 0.046070461 | G4: ='ELCA (numbers)'!H4/C4 -> 0.10298103 | H4: 357 | I4: ='ELCA (numbers)'!K4/H4 -> 0.044817927 | J4: ='ELCA (numbers)'!L4/H4 -> 0.033613445 | K4: ='ELCA (numbers)'!M4/H4 -> 0.036414566 | L4: ='ELCA (numbers)'!N4/H4 -> 0.11484594 | M4: 341 | N4: ='ELCA (numbers)'!Q4/M4 -> 0.038123167 | O4: ='ELCA (numbers)'!R4/M4 -> 0.035190616 | P4: ='ELCA (numbers)'!S4/M4 -> 0.04398827 | Q4: ='ELCA (numbers)'!T4/M4 -> 0.11730205 | R4: 362 | S4: ='ELCA (numbers)'!W4/R4 -> 0.049723757 | T4: ='ELCA (numbers)'!X4/R4 -> 0.027624309 | U4: ='ELCA (numbers)'!Y4/R4 -> 0.027624309 | V4: ='ELCA (numbers)'!Z4/R4 -> 0.10497238 | W4: 359 | X4: ='ELCA (numbers)'!AC4/W4 -> 0.069637883 | Y4: ='ELCA (numbers)'!AD4/W4 -> 0.038997214 | Z4: ='ELCA (numbers)'!AE4/W4 -> 0.030640669 | AA4: ='ELCA (numbers)'!AF4/W4 -> 0.13927577 | AB4: 361 | AC4: ='ELCA (numbers)'!AI4/AB4 -> 0.049861496 | AD4: ='ELCA (numbers)'!AJ4/AB4 -> 0.027700831 | AE4: ='ELCA (numbers)'!AK4/AB4 -> 0.016620499 | AF4: ='ELCA (numbers)'!AL4/AB4 -> 0.094182825 | AG4: =AF4-G4 -> -0.0087982043
A5: 154721 | B5: Bethany College | C5: 115 | D5: ='ELCA (numbers)'!E5/C5 -> 0.026086957 | E5: ='ELCA (numbers)'!F5/C5 -> 0.043478261 | F5: ='ELCA (numbers)'!G5/C5 -> 0.017391304 | G5: ='ELCA (numbers)'!H5/C5 -> 0.086956522 | H5: 108 | I5: ='ELCA (numbers)'!K5/H5 -> 0.037037037 | J5: ='ELCA (numbers)'!L5/H5 -> 0.027777778 | K5: ='ELCA (numbers)'!M5/H5 -> 0.046296296 | L5: ='ELCA (numbers)'!N5/H5 -> 0.11111111 | M5: 98 | N5: ='ELCA (numbers)'!Q5/M5 -> 0 | O5: ='ELCA (numbers)'!R5/M5 -> 0.020408163 | P5: ='ELCA (numbers)'!S5/M5 -> 0 | Q5: ='ELCA (numbers)'!T5/M5 -> 0.020408163 | R5: 98 | S5: ='ELCA (numbers)'!W5/R5 -> 0.020408163 | T5: ='ELCA (numbers)'!X5/R5 -> 0.040816327 | U5: ='ELCA (numbers)'!Y5/R5 -> 0.010204082 | V5: ='ELCA (numbers)'!Z5/R5 -> 0.071428571 | W5: 97 | X5: ='ELCA (numbers)'!AC5/W5 -> 0 | Y5: ='ELCA (numbers)'!AD5/W5 -> 0.010309278 | Z5: ='ELCA (numbers)'!AE5/W5 -> 0 | AA5: ='ELCA (numbers)'!AF5/W5 -> 0.010309278 | AB5: 117 | AC5: ='ELCA (numbers)'!AI5/AB5 -> 0 | AD5: ='ELCA (numbers)'!AJ5/AB5 -> 0.034188034 | AE5: ='ELCA (numbers)'!AK5/AB5 -> 0 | AF5: ='ELCA (numbers)'!AL5/AB5 -> 0.034188034 | AG5: =AF5-G5 -> -0.052768488
A6: 110413 | B6: California Lutheran University | C6: 484 | D6: ='ELCA (numbers)'!E6/C6 -> 0.035123967 | E6: ='ELCA (numbers)'!F6/C6 -> 0.035123967 | F6: ='ELCA (numbers)'!G6/C6 -> 0.020661157 | G6: ='ELCA (numbers)'!H6/C6 -> 0.090909091 | H6: 458 | I6: ='ELCA (numbers)'!K6/H6 -> 0.03930131 | J6: ='ELCA (numbers)'!L6/H6 -> 0.030567686 | K6: ='ELCA (numbers)'!M6/H6 -> 0.015283843 | L6: ='ELCA (numbers)'!N6/H6 -> 0.085152838 | M6: 532 | N6: ='ELCA (numbers)'!Q6/M6 -> 0.02443609 | O6: ='ELCA (numbers)'!R6/M6 -> 0.018796992 | P6: ='ELCA (numbers)'!S6/M6 -> 0.018796992 | Q6: ='ELCA (numbers)'!T6/M6 -> 0.062030075 | R6: 523 | S6: ='ELCA (numbers)'!W6/R6 -> 0.026768642 | T6: ='ELCA (numbers)'!X6/R6 -> 0.015296367 | U6: ='ELCA (numbers)'!Y6/R6 -> 0.028680688 | V6: ='ELCA (numbers)'!Z6/R6 -> 0.070745698 | W6: 680 | X6: ='ELCA (numbers)'!AC6/W6 -> 0.035294118 | Y6: ='ELCA (numbers)'!AD6/W6 -> 0.022058824 | Z6: ='ELCA (numbers)'!AE6/W6 -> 0.011764706 | AA6: ='ELCA (numbers)'!AF6/W6 -> 0.069117647 | AB6: 740 | AC6: ='ELCA (numbers)'!AI6/AB6 -> 0.018918919 | AD6: ='ELCA (numbers)'!AJ6/AB6 -> 0.0094594595 | AE6: ='ELCA (numbers)'!AK6/AB6 -> 0.016216216 | AF6: ='ELCA (numbers)'!AL6/AB6 -> 0.044594595 | AG6: =AF6-G6 -> -0.046314496
A7: 201548 | B7: Capital University | C7: 663 | D7: ='ELCA (numbers)'!E7/C7 -> 0.028657617 | E7: ='ELCA (numbers)'!F7/C7 -> 0.021116139 | F7: ='ELCA (numbers)'!G7/C7 -> 0.0045248869 | G7: ='ELCA (numbers)'!H7/C7 -> 0.054298643 | H7: 657 | I7: ='ELCA (numbers)'!K7/H7 -> 0.01978691 | J7: ='ELCA (numbers)'!L7/H7 -> 0.02891933 | K7: ='ELCA (numbers)'!M7/H7 -> 0.01065449 | L7: ='ELCA (numbers)'!N7/H7 -> 0.059360731 | M7: 570 | N7: ='ELCA (numbers)'!Q7/M7 -> 0.019298246 | O7: ='ELCA (numbers)'!R7/M7 -> 0.0087719298 | P7: ='ELCA (numbers)'!S7/M7 -> 0.0070175439 | Q7: ='ELCA (numbers)'!T7/M7 -> 0.035087719 | R7: 665 | S7: ='ELCA (numbers)'!W7/R7 -> 0.031578947 | T7: ='ELCA (numbers)'!X7/R7 -> 0.010526316 | U7: ='ELCA (numbers)'!Y7/R7 -> 0.0090225564 | V7: ='ELCA (numbers)'!Z7/R7 -> 0.05112782 | W7: 560 | X7: ='ELCA (numbers)'!AC7/W7 -> 0.016071429 | Y7: ='ELCA (numbers)'!AD7/W7 -> 0.019642857 | Z7: ='ELCA (numbers)'!AE7/W7 -> 0.016071429 | AA7: ='ELCA (numbers)'!AF7/W7 -> 0.051785714 | AB7: 607 | AC7: ='ELCA (numbers)'!AI7/AB7 -> 0.031301483 | AD7: ='ELCA (numbers)'!AJ7/AB7 -> 0.013179572 | AE7: ='ELCA (numbers)'!AK7/AB7 -> 0.024711697 | AF7: ='ELCA (numbers)'!AL7/AB7 -> 0.069192751 | AG7: =AF7-G7 -> 0.014894109
A8: 238476 | B8: Carthage College | C8: 370 | D8: ='ELCA (numbers)'!E8/C8 -> 0.037837838 | E8: ='ELCA (numbers)'!F8/C8 -> 0.035135135 | F8: ='ELCA (numbers)'!G8/C8 -> 0.010810811 | G8: ='ELCA (numbers)'!H8/C8 -> 0.083783784 | H8: 489 | I8: ='ELCA (numbers)'!K8/H8 -> 0.036809816 | J8: ='ELCA (numbers)'!L8/H8 -> 0.040899796 | K8: ='ELCA (numbers)'!M8/H8 -> 0.022494888 | L8: ='ELCA (numbers)'!N8/H8 -> 0.1002045 | M8: 439 | N8: ='ELCA (numbers)'!Q8/M8 -> 0.022779043 | O8: ='ELCA (numbers)'!R8/M8 -> 0.025056948 | P8: ='ELCA (numbers)'!S8/M8 -> 0.006833713 | Q8: ='ELCA (numbers)'!T8/M8 -> 0.054669704 | R8: 461 | S8: ='ELCA (numbers)'!W8/R8 -> 0.036876356 | T8: ='ELCA (numbers)'!X8/R8 -> 0.036876356 | U8: ='ELCA (numbers)'!Y8/R8 -> 0.019522777 | V8: ='ELCA (numbers)'!Z8/R8 -> 0.093275488 | W8: 576 | X8: ='ELCA (numbers)'!AC8/W8 -> 0.039930556 | Y8: ='ELCA (numbers)'!AD8/W8 -> 0.027777778 | Z8: ='ELCA (numbers)'!AE8/W8 -> 0.012152778 | AA8: ='ELCA (numbers)'!AF8/W8 -> 0.079861111 | AB8: 607 | AC8: ='ELCA (numbers)'!AI8/AB8 -> 0.046128501 | AD8: ='ELCA (numbers)'!AJ8/AB8 -> 0.031301483 | AE8: ='ELCA (numbers)'!AK8/AB8 -> 0.014827018 | AF8: ='ELCA (numbers)'!AL8/AB8 -> 0.092257002 | AG8: =AF8-G8 -> 0.0084732179
A9: 173300 | B9: Concordia College at Moorhead | C9: 583 | D9: ='ELCA (numbers)'!E9/C9 -> 0.063464837 | E9: ='ELCA (numbers)'!F9/C9 -> 0.034305317 | F9: ='ELCA (numbers)'!G9/C9 -> 0.058319039 | G9: ='ELCA (numbers)'!H9/C9 -> 0.15608919 | H9: 555 | I9: ='ELCA (numbers)'!K9/H9 -> 0.043243243 | J9: ='ELCA (numbers)'!L9/H9 -> 0.027027027 | K9: ='ELCA (numbers)'!M9/H9 -> 0.043243243 | L9: ='ELCA (numbers)'!N9/H9 -> 0.11351351 | M9: 611 | N9: ='ELCA (numbers)'!Q9/M9 -> 0.045826514 | O9: ='ELCA (numbers)'!R9/M9 -> 0.021276596 | P9: ='ELCA (numbers)'!S9/M9 -> 0.029459902 | Q9: ='ELCA (numbers)'!T9/M9 -> 0.096563011 | R9: 532 | S9: ='ELCA (numbers)'!W9/R9 -> 0.020676692 | T9: ='ELCA (numbers)'!X9/R9 -> 0.030075188 | U9: ='ELCA (numbers)'!Y9/R9 -> 0.031954887 | V9: ='ELCA (numbers)'!Z9/R9 -> 0.082706767 | W9: 627 | X9: ='ELCA (numbers)'!AC9/W9 -> 0.073365231 | Y9: ='ELCA (numbers)'!AD9/W9 -> 0.01754386 | Z9: ='ELCA (numbers)'!AE9/W9 -> 0.033492823 | AA9: ='ELCA (numbers)'!AF9/W9 -> 0.12440191 | AB9: 584 | AC9: ='ELCA (numbers)'!AI9/AB9 -> 0.049657534 | AD9: ='ELCA (numbers)'!AJ9/AB9 -> 0.017123288 | AE9: ='ELCA (numbers)'!AK9/AB9 -> 0.01369863 | AF9: ='ELCA (numbers)'!AL9/AB9 -> 0.080479452 | AG9: =AF9-G9 -> -0.075609742
A10: 172440 | B10: Finlandia University | C10: 61 | D10: ='ELCA (numbers)'!E10/C10 -> 0 | E10: ='ELCA (numbers)'!F10/C10 -> 0 | F10: ='ELCA (numbers)'!G10/C10 -> 0 | G10: ='ELCA (numbers)'!H10/C10 -> 0 | H10: 40 | I10: ='ELCA (numbers)'!K10/H10 -> 0 | J10: ='ELCA (numbers)'!L10/H10 -> 0 | K10: ='ELCA (numbers)'!M10/H10 -> 0 | L10: ='ELCA (numbers)'!N10/H10 -> 0 | M10: 86 | N10: ='ELCA (numbers)'!Q10/M10 -> 0 | O10: ='ELCA (numbers)'!R10/M10 -> 0 | P10: ='ELCA (numbers)'!S10/M10 -> 0 | Q10: ='ELCA (numbers)'!T10/M10 -> 0 | R10: 66 | S10: ='ELCA (numbers)'!W10/R10 -> 0 | T10: ='ELCA (numbers)'!X10/R10 -> 0 | U10: ='ELCA (numbers)'!Y10/R10 -> 0 | V10: ='ELCA (numbers)'!Z10/R10 -> 0 | W10: 57 | X10: ='ELCA (numbers)'!AC10/W10 -> 0.01754386 | Y10: ='ELCA (numbers)'!AD10/W10 -> 0 | Z10: ='ELCA (numbers)'!AE10/W10 -> 0 | AA10: ='ELCA (numbers)'!AF10/W10 -> 0.01754386 | AB10: 82 | AC10: ='ELCA (numbers)'!AI10/AB10 -> 0 | AD10: ='ELCA (numbers)'!AJ10/AB10 -> 0.012195122 | AE10: ='ELCA (numbers)'!AK10/AB10 -> 0 | AF10: ='ELCA (numbers)'!AL10/AB10 -> 0.012195122 | AG10: =AF10-G10 -> 0.012195122
A11: 212674 | B11: Gettysburg College | C11: 597 | D11: ='ELCA (numbers)'!E11/C11 -> 0.073701843 | E11: ='ELCA (numbers)'!F11/C11 -> 0.087102178 | F11: ='ELCA (numbers)'!G11/C11 -> 0.070351759 | G11: ='ELCA (numbers)'!H11/C11 -> 0.23115578 | H11: 594 | I11: ='ELCA (numbers)'!K11/H11 -> 0.082491582 | J11: ='ELCA (numbers)'!L11/H11 -> 0.087542088 | K11: ='ELCA (numbers)'!M11/H11 -> 0.062289562 | L11: ='ELCA (numbers)'!N11/H11 -> 0.23232323 | M11: 645 | N11: ='ELCA (numbers)'!Q11/M11 -> 0.10077519 | O11: ='ELCA (numbers)'!R11/M11 -> 0.072868217 | P11: ='ELCA (numbers)'!S11/M11 -> 0.049612403 | Q11: ='ELCA (numbers)'!T11/M11 -> 0.22325581 | R11: 623 | S11: ='ELCA (numbers)'!W11/R11 -> 0.08988764 | T11: ='ELCA (numbers)'!X11/R11 -> 0.10754414 | U11: ='ELCA (numbers)'!Y11/R11 -> 0.033707865 | V11: ='ELCA (numbers)'!Z11/R11 -> 0.23113965 | W11: 617 | X11: ='ELCA (numbers)'!AC11/W11 -> 0.092382496 | Y11: ='ELCA (numbers)'!AD11/W11 -> 0.087520259 | Z11: ='ELCA (numbers)'!AE11/W11 -> 0.05834684 | AA11: ='ELCA (numbers)'!AF11/W11 -> 0.23824959 | AB11: 660 | AC11: ='ELCA (numbers)'!AI11/AB11 -> 0.06969697 | AD11: ='ELCA (numbers)'!AJ11/AB11 -> 0.083333333 | AE11: ='ELCA (numbers)'!AK11/AB11 -> 0.066666667 | AF11: ='ELCA (numbers)'!AL11/AB11 -> 0.21969697 | AG11: =AF11-G11 -> -0.011458809
A12: 153375 | B12: Grand View University | C12: 334 | D12: ='ELCA (numbers)'!E12/C12 -> 0.01497006 | E12: ='ELCA (numbers)'!F12/C12 -> 0 | F12: ='ELCA (numbers)'!G12/C12 -> 0.005988024 | G12: ='ELCA (numbers)'!H12/C12 -> 0.020958084 | H12: 425 | I12: ='ELCA (numbers)'!K12/H12 -> 0.030588235 | J12: ='ELCA (numbers)'!L12/H12 -> 0 | K12: ='ELCA (numbers)'!M12/H12 -> 0.0070588235 | L12: ='ELCA (numbers)'!N12/H12 -> 0.037647059 | M12: 411 | N12: ='ELCA (numbers)'!Q12/M12 -> 0.01703163 | O12: ='ELCA (numbers)'!R12/M12 -> 0.0243309 | P12: ='ELCA (numbers)'!S12/M12 -> 0 | Q12: ='ELCA (numbers)'!T12/M12 -> 0.04136253 | R12: 495 | S12: ='ELCA (numbers)'!W12/R12 -> 0.018181818 | T12: ='ELCA (numbers)'!X12/R12 -> 0.012121212 | U12: ='ELCA (numbers)'!Y12/R12 -> 0.0060606061 | V12: ='ELCA (numbers)'!Z12/R12 -> 0.036363636 | W12: 496 | X12: ='ELCA (numbers)'!AC12/W12 -> 0.02016129 | Y12: ='ELCA (numbers)'!AD12/W12 -> 0.02016129 | Z12: ='ELCA (numbers)'!AE12/W12 -> 0.0060483871 | AA12: ='ELCA (numbers)'!AF12/W12 -> 0.046370968 | AB12: 478 | AC12: ='ELCA (numbers)'!AI12/AB12 -> 0.018828452 | AD12: ='ELCA (numbers)'!AJ12/AB12 -> 0.016736402 | AE12: ='ELCA (numbers)'!AK12/AB12 -> 0.0062761506 | AF12: ='ELCA (numbers)'!AL12/AB12 -> 0.041841004 | AG12: =AF12-G12 -> 0.02088292
A13: 173647 | B13: Gustavus Adolphus College | C13: 703 | D13: ='ELCA (numbers)'!E13/C13 -> 0.038406828 | E13: ='ELCA (numbers)'!F13/C13 -> 0.031294452 | F13: ='ELCA (numbers)'!G13/C13 -> 0.027027027 | G13: ='ELCA (numbers)'!H13/C13 -> 0.096728307 | H13: 689 | I13: ='ELCA (numbers)'!K13/H13 -> 0.042089985 | J13: ='ELCA (numbers)'!L13/H13 -> 0.031930334 | K13: ='ELCA (numbers)'!M13/H13 -> 0.030478955 | L13: ='ELCA (numbers)'!N13/H13 -> 0.10449927 | M13: 666 | N13: ='ELCA (numbers)'!Q13/M13 -> 0.045045045 | O13: ='ELCA (numbers)'!R13/M13 -> 0.033033033 | P13: ='ELCA (numbers)'!S13/M13 -> 0.022522523 | Q13: ='ELCA (numbers)'!T13/M13 -> 0.1006006 | R13: 586 | S13: ='ELCA (numbers)'!W13/R13 -> 0.040955631 | T13: ='ELCA (numbers)'!X13/R13 -> 0.037542662 | U13: ='ELCA (numbers)'!Y13/R13 -> 0.023890785 | V13: ='ELCA (numbers)'!Z13/R13 -> 0.10238908 | W13: 619 | X13: ='ELCA (numbers)'!AC13/W13 -> 0.046849758 | Y13: ='ELCA (numbers)'!AD13/W13 -> 0.048465267 | Z13: ='ELCA (numbers)'!AE13/W13 -> 0.02907916 | AA13: ='ELCA (numbers)'!AF13/W13 -> 0.12439418 | AB13: 650 | AC13: ='ELCA (numbers)'!AI13/AB13 -> 0.047692308 | AD13: ='ELCA (numbers)'!AJ13/AB13 -> 0.029230769 | AE13: ='ELCA (numbers)'!AK13/AB13 -> 0.024615385 | AF13: ='ELCA (numbers)'!AL13/AB13 -> 0.10153846 | AG13: =AF13-G13 -> 0.0048101543
... A27: 206525 | B27: Wittenberg University | C27: 438 | D27: ='ELCA (numbers)'!E27/C27 -> 0.10730594 | E27: ='ELCA (numbers)'!F27/C27 -> 0.03652968 | F27: ='ELCA (numbers)'!G27/C27 -> 0.015981735 | G27: ='ELCA (numbers)'!H27/C27 -> 0.15981735 | H27: 438 | I27: ='ELCA (numbers)'!K27/H27 -> 0.093607306 | J27: ='ELCA (numbers)'!L27/H27 -> 0.052511416 | K27: ='ELCA (numbers)'!M27/H27 -> 0.020547945 | L27: ='ELCA (numbers)'!N27/H27 -> 0.16666667 | M27: 452 | N27: ='ELCA (numbers)'!Q27/M27 -> 0.086283186 | O27: ='ELCA (numbers)'!R27/M27 -> 0.046460177 | P27: ='ELCA (numbers)'!S27/M27 -> 0.019911504 | Q27: ='ELCA (numbers)'!T27/M27 -> 0.15265487 | R27: 434 | S27: ='ELCA (numbers)'!W27/R27 -> 0.085253456 | T27: ='ELCA (numbers)'!X27/R27 -> 0.043778802 | U27: ='ELCA (numbers)'!Y27/R27 -> 0.011520737 | V27: ='ELCA (numbers)'!Z27/R27 -> 0.140553 | W27: 417 | X27: ='ELCA (numbers)'!AC27/W27 -> 0.076738609 | Y27: ='ELCA (numbers)'!AD27/W27 -> 0.045563549 | Z27: ='ELCA (numbers)'!AE27/W27 -> 0.016786571 | AA27: ='ELCA (numbers)'!AF27/W27 -> 0.13908873 | AB27: 393 | AC27: ='ELCA (numbers)'!AI27/AB27 -> 0.06870229 | AD27: ='ELCA (numbers)'!AJ27/AB27 -> 0.048346056 | AE27: ='ELCA (numbers)'!AK27/AB27 -> 0.017811705 | AF27: ='ELCA (numbers)'!AL27/AB27 -> 0.13486005 | AG27: =AF27-G27 -> -0.024957301
B28: TOTALS | C28: =SUM(C2:C27) -> 10817 | D28: 655 | E28: 397 | F28: 355 | G28: 1407 | H28: =SUM(H2:H27) -> 11058 | I28: 641 | J28: 450 | K28: 326 | L28: 1417 | M28: =SUM(M2:M27) -> 11224 | N28: 623 | O28: 406 | P28: 299 | Q28: 1328 | R28: =SUM(R2:R27) -> 11291 | S28: 558 | T28: 420 | U28: 286 | V28: 1264 | W28: =SUM(W2:W27) -> 11752 | X28: 643 | Y28: 450 | Z28: 313 | AA28: 1406 | AB28: =SUM(AB2:AB27) -> 11988 | AC28: 568 | AD28: 372 | AE28: 253 | AF28: 1193 | AG28: =AF28-G28 -> -214
B29: Percentages | D29: 0.052191235 | E29: 0.031633466 | F29: 0.028286853 | G29: 0.11211155 | I29: 0.049705335 | J29: 0.034894541 | K29: 0.025279156 | L29: 0.10987903 | N29: 0.04833579 | O29: 0.031499728 | P29: 0.023198076 | Q29: 0.10303359 | S29: 0.04245606 | T29: 0.031956174 | U29: 0.021760633 | V29: 0.096172868 | X29: 0.046590827 | Y29: 0.032606333 | Z29: 0.022679516 | AA29: 0.10187668 | AC29: 0.040638191 | AD29: 0.026615153 | AE29: 0.018101166 | AF29: 0.085354511 | AG29: =AF29-G29 -> -0.026757043

Sheet Jesuit (raw)
A1: UnitID | B1: Institution Name | C1: Grand total (C2014_A First major Grand total Bachelor's degree) | D1: Grand total (C2014_A First major English Language and Literature/Letters Bachelor's degree) | E1: Grand total (C2014_A First major History Bachelor's degree) | F1: Grand total (C2014_A First major Philosophy and Religious Studies Bachelor's degree) | G1: Grand total (C2014_A Second major Grand total Bachelor's degree) | H1: Grand total (C2014_A Second major English Language and Literature/Letters Bachelor's degree) | I1: Grand total (C2014_A Second major History Bachelor's degree) | J1: Grand total (C2014_A Second major Philosophy and Religious Studies Bachelor's degree) | K1: Grand total (C2012_A_RV First major Grand total Bachelor's degree) | L1: Grand total (C2012_A_RV First major English Language and Literature/Letters Bachelor's degree) | M1: Grand total (C2012_A_RV First major History Bachelor's degree) | N1: Grand total (C2012_A_RV First major Philosophy and Religious Studies Bachelor's degree) | O1: Grand total (C2012_A_RV Second major Grand total Bachelor's degree) | P1: Grand total (C2012_A_RV Second major English Language and Literature/Letters Bachelor's degree) | Q1: Grand total (C2012_A_RV Second major History Bachelor's degree) | R1: Grand total (C2012_A_RV Second major Philosophy and Religious Studies Bachelor's degree) | S1: Grand total (C2010_A_RV First major Grand total Bachelor's degree) | T1: Grand total (C2010_A_RV First major English Language and Literature/Letters Bachelor's degree) | U1: Grand total (C2010_A_RV First major History Bachelor's degree) | V1: Grand total (C2010_A_RV First major Philosophy and Religious Studies Bachelor's degree) | W1: Grand total (C2010_A_RV Second major Grand total Bachelor's degree) | X1: Grand total (C2010_A_RV Second major English Language and Literature/Letters Bachelor's degree) | Y1: Grand total (C2010_A_RV Second major History Bachelor's degree) | Z1: Grand total (C2010_A_RV Second major Philosophy and Religious Studies Bachelor's degree) | AA1: Grand total (C2008_A_RV First major Grand total Bachelor's degree) | AB1: Grand total (C2008_A_RV First major English language and literature/letters. Bachelor's degree) | AC1: Grand total (C2008_A_RV First major History Bachelor's degree) | AD1: Grand total (C2008_A_RV First major Philosophy and religious studies. Bachelor's degree) | AE1: Grand total (C2008_A_RV Second major Grand total Bachelor's degree) | AF1: Grand total (C2008_A_RV Second major English language and literature/letters. Bachelor's degree) | AG1: Grand total (C2008_A_RV Second major History Bachelor's degree) | AH1: Grand total (C2008_A_RV Second major Philosophy and religious studies. Bachelor's degree) | AI1: Grand total (C2006_A First major Grand total Bachelor's degree) | AJ1: Grand total (C2006_A First major English language and literature/letters. Bachelor's degree) | AK1: Grand total (C2006_A First major History Bachelor's degree) | AL1: Grand total (C2006_A First major Philosophy and religious studies. Bachelor's degree) | AM1: Grand total (C2006_A Second major Grand total Bachelor's degree) | AN1: Grand total (C2006_A Second major English language and literature/letters. Bachelor's degree) | AO1: Grand total (C2006_A Second major History Bachelor's degree) | AP1: Grand total (C2006_A Second major Philosophy and religious studies. Bachelor's degree) | AQ1: Grand total (C2004_A First major Grand total Bachelor's degree) | AR1: Grand total (C2004_A First major English language and literature/letters. Bachelor's degree) | AS1: Grand total (C2004_A First major History Bachelor's degree) | AT1: Grand total (C2004_A First major Philosophy and religious studies. Bachelor's degree) | AU1: Grand total (C2004_A Second major Grand total Bachelor's degree) | AV1: Grand total (C2004_A Second major English language and literature/letters. Bachelor's degree) | AW1: Grand total (C2004_A Second major History Bachelor's degree) | AX1: Grand total (C2004_A Second major Philosophy and religious studies. Bachelor's degree)
A2: 164924 | B2: Boston College | C2: 2341 | D2: 139 | E2: 91 | F2: 47 | G2: 694 | H2: 68 | I2: 36 | J2: 50 | K2: 2327 | L2: 153 | M2: 103 | N2: 48 | O2: 792 | P2: 49 | Q2: 45 | R2: 79 | S2: 2366 | T2: 141 | U2: 146 | V2: 56 | W2: 772 | X2: 67 | Y2: 48 | Z2: 79 | AA2: 2319 | AB2: 188 | AC2: 153 | AD2: 47 | AE2: 708 | AF2: 57 | AG2: 44 | AH2: 65 | AI2: 2229 | AJ2: 202 | AK2: 167 | AL2: 45 | AM2: 656 | AN2: 45 | AO2: 40 | AP2: 62 | AQ2: 2223 | AR2: 210 | AS2: 148 | AT2: 51 | AU2: 651 | AV2: 49 | AW2: 35 | AX2: 52
A3: 189705 | B3: Canisius College | C3: 660 | D3: 17 | E3: 18 | F3: 1 | G3: 182 | H3: 14 | I3: 9 | J3: 4 | K3: 738 | L3: 18 | M3: 21 | N3: 6 | O3: 193 | P3: 17 | Q3: 11 | R3: 0 | S3: 714 | T3: 21 | U3: 28 | V3: 4 | W3: 174 | X3: 10 | Y3: 9 | Z3: 2 | AA3: 811 | AB3: 27 | AC3: 26 | AD3: 6 | AE3: 146 | AF3: 6 | AG3: 16 | AH3: 4 | AI3: 714 | AJ3: 21 | AK3: 18 | AL3: 5 | AM3: 134 | AN3: 4 | AO3: 10 | AP3: 1 | AQ3: 731 | AR3: 19 | AS3: 17 | AT3: 5 | AU3: 113 | AV3: 6 | AW3: 7 | AX3: 5
A4: 166124 | B4: College of the Holy Cross | C4: 679 | D4: 80 | E4: 67 | F4: 24 | G4: 110 | H4: 4 | I4: 9 | J4: 8 | K4: 692 | L4: 70 | M4: 53 | N4: 15 | O4: 106 | P4: 11 | Q4: 4 | R4: 10 | S4: 716 | T4: 95 | U4: 62 | V4: 16 | W4: 105 | X4: 6 | Y4: 4 | Z4: 11 | AA4: 670 | AB4: 96 | AC4: 72 | AD4: 24 | AE4: 101 | AF4: 5 | AG4: 7 | AH4: 11 | AI4: 700 | AJ4: 74 | AK4: 76 | AL4: 19 | AM4: 108 | AN4: 8 | AO4: 8 | AP4: 13 | AQ4: 675 | AR4: 90 | AS4: 75 | AT4: 50 | AU4: 93 | AV4: 2 | AW4: 4 | AX4: 10
A5: 181002 | B5: Creighton University | C5: 993 | D5: 22 | E5: 21 | F5: 12 | G5: 144 | H5: 2 | I5: 1 | J5: 4 | K5: 1029 | L5: 35 | M5: 12 | N5: 13 | O5: 139 | P5: 3 | Q5: 1 | R5: 4 | S5: 906 | T5: 24 | U5: 15 | V5: 15 | W5: 133 | X5: 2 | Y5: 1 | Z5: 4 | AA5: 887 | AB5: 29 | AC5: 20 | AD5: 18 | AE5: 118 | AF5: 4 | AG5: 3 | AH5: 9 | AI5: 833 | AJ5: 28 | AK5: 17 | AL5: 14 | AM5: 95 | AN5: 4 | AO5: 2 | AP5: 4 | AQ5: 814 | AR5: 34 | AS5: 8 | AT5: 13 | AU5: 83 | AV5: 1 | AW5: 0 | AX5: 2
A6: 129242 | B6: Fairfield University | C6: 899 | D6: 63 | E6: 15 | F6: 4 | G6: 107 | H6: 4 | I6: 2 | J6: 2 | K6: 901 | L6: 64 | M6: 10 | N6: 4 | O6: 138 | P6: 12 | Q6: 1 | R6: 6 | S6: 922 | T6: 67 | U6: 20 | V6: 4 | W6: 139 | X6: 4 | Y6: 2 | Z6: 5 | AA6: 886 | AB6: 51 | AC6: 17 | AD6: 9 | AE6: 129 | AF6: 7 | AG6: 3 | AH6: 4 | AI6: 824 | AJ6: 71 | AK6: 24 | AL6: 2 | AM6: 105 | AN6: 7 | AO6: 1 | AP6: 4 | AQ6: 996 | AR6: 95 | AS6: 20 | AT6: 10 | AU6: 130 | AV6: 7 | AW6: 1 | AX6: 2
A7: 191241 | B7: Fordham University | C7: 1938 | D7: 99 | E7: 55 | F7: 50 | G7: 241 | H7: 13 | I7: 7 | J7: 32 | K7: 1919 | L7: 98 | M7: 91 | N7: 48 | O7: 215 | P7: 10 | Q7: 15 | R7: 25 | S7: 1805 | T7: 104 | U7: 74 | V7: 39 | W7: 164 | X7: 4 | Y7: 14 | Z7: 13 | AA7: 1865 | AB7: 129 | AC7: 73 | AD7: 36 | AE7: 203 | AF7: 5 | AG7: 13 | AH7: 17 | AI7: 1674 | AJ7: 100 | AK7: 90 | AL7: 45 | AQ7: 1604 | AR7: 118 | AS7: 80 | AT7: 38 | AU7: 172 | AV7: 7 | AW7: 14 | AX7: 18
A8: 131496 | B8: Georgetown University | C8: 1794 | D8: 94 | E8: 33 | F8: 22 | G8: 407 | H8: 29 | I8: 12 | J8: 9 | K8: 1871 | L8: 111 | M8: 47 | N8: 29 | O8: 435 | P8: 39 | Q8: 14 | R8: 11 | S8: 1834 | T8: 134 | U8: 43 | V8: 26 | W8: 441 | X8: 33 | Y8: 18 | Z8: 14 | AA8: 1730 | AB8: 137 | AC8: 54 | AD8: 30 | AE8: 443 | AF8: 26 | AG8: 16 | AH8: 9 | AI8: 1705 | AJ8: 133 | AK8: 55 | AL8: 27 | AM8: 410 | AN8: 29 | AO8: 9 | AP8: 10 | AQ8: 1670 | AR8: 147 | AS8: 45 | AT8: 22 | AU8: 404 | AV8: 26 | AW8: 14 | AX8: 9
A9: 235316 | B9: Gonzaga University | C9: 1144 | D9: 41 | E9: 25 | F9: 9 | G9: 135 | H9: 6 | I9: 5 | J9: 6 | K9: 1109 | L9: 49 | M9: 36 | N9: 24 | O9: 137 | P9: 4 | Q9: 7 | R9: 6 | S9: 1025 | T9: 35 | U9: 49 | V9: 23 | W9: 110 | X9: 4 | Y9: 5 | Z9: 4 | AA9: 994 | AB9: 31 | AC9: 52 | AD9: 20 | AE9: 84 | AF9: 0 | AG9: 8 | AH9: 2 | AI9: 894 | AJ9: 35 | AK9: 32 | AL9: 20 | AM9: 90 | AN9: 1 | AO9: 7 | AP9: 2 | AQ9: 766 | AR9: 33 | AS9: 48 | AT9: 21 | AU9: 58 | AV9: 3 | AW9: 0 | AX9: 5
A10: 203368 | B10: John Carroll University | C10: 627 | D10: 38 | E10: 20 | F10: 13 | G10: 45 | H10: 0 | I10: 3 | J10: 1 | K10: 661 | L10: 38 | M10: 24 | N10: 15 | O10: 63 | P10: 1 | Q10: 3 | R10: 5 | S10: 658 | T10: 29 | U10: 26 | V10: 15 | W10: 64 | X10: 3 | Y10: 3 | Z10: 6 | AA10: 677 | AB10: 36 | AC10: 29 | AD10: 14 | AE10: 52 | AF10: 2 | AG10: 5 | AH10: 3 | AI10: 757 | AJ10: 36 | AK10: 30 | AL10: 9 | AM10: 41 | AN10: 2 | AO10: 4 | AP10: 2 | AQ10: 734 | AR10: 41 | AS10: 30 | AT10: 9 | AU10: 63 | AV10: 4 | AW10: 1 | AX10: 4
A11: 192323 | B11: Le Moyne College | C11: 592 | D11: 44 | E11: 24 | F11: 4 | G11: 46 | H11: 5 | J11: 2 | K11: 599 | L11: 34 | M11: 34 | N11: 3 | O11: 55 | P11: 3 | Q11: 1 | R11: 1 | S11: 551 | T11: 41 | U11: 27 | V11: 4 | W11: 39 | X11: 3 | Z11: 2 | AA11: 526 | AB11: 37 | AC11: 30 | AD11: 9 | AE11: 16 | AF11: 2 | AH11: 0 | AI11: 605 | AJ11: 48 | AK11: 40 | AL11: 10 | AM11: 16 | AN11: 0 | AO11: 0 | AP11: 0 | AQ11: 510 | AR11: 66 | AS11: 35 | AT11: 5 | AU11: 16 | AV11: 1 | AX11: 4
A12: 117946 | B12: Loyola Marymount University | C12: 1579 | D12: 67 | E12: 38 | F12: 16 | G12: 94 | H12: 4 | I12: 4 | J12: 5 | K12: 1369 | L12: 82 | M12: 43 | N12: 21 | O12: 65 | P12: 6 | Q12: 4 | R12: 2 | S12: 1350 | T12: 71 | U12: 31 | V12: 13 | W12: 75 | X12: 4 | Y12: 4 | Z12: 3 | AA12: 1417 | AB12: 75 | AC12: 36 | AD12: 17 | AE12: 87 | AF12: 7 | AG12: 1 | AH12: 5 | AI12: 1270 | AJ12: 92 | AK12: 43 | AL12: 17 | AM12: 66 | AN12: 6 | AO12: 1 | AP12: 1 | AQ12: 1306 | AR12: 58 | AS12: 35 | AT12: 21 | AU12: 58 | AV12: 4 | AW12: 1
A13: 146719 | B13: Loyola University Chicago | C13: 2287 | D13: 86 | E13: 71 | F13: 26 | G13: 421 | H13: 9 | I13: 8 | J13: 10 | K13: 2396 | L13: 105 | M13: 78 | N13: 33 | O13: 193 | P13: 6 | Q13: 10 | R13: 3 | S13: 2149 | T13: 86 | U13: 67 | V13: 32 | W13: 530 | X13: 10 | Y13: 11 | Z13: 15 | AA13: 2089 | AB13: 94 | AC13: 65 | AD13: 32 | AE13: 302 | AF13: 6 | AG13: 10 | AH13: 13 | AI13: 1722 | AJ13: 68 | AK13: 54 | AL13: 44 | AM13: 230 | AN13: 7 | AO13: 5 | AP13: 9 | AQ13: 1196 | AR13: 51 | AS13: 20 | AT13: 16 | AU13: 107 | AV13: 0 | AW13: 4 | AX13: 0
A14: 163046 | B14: Loyola University Maryland | C14: 908 | D14: 46 | E14: 18 | F14: 8 | G14: 37 | H14: 1 | I14: 1 | J14: 3 | K14: 903 | L14: 57 | M14: 21 | N14: 5 | S14: 830 | T14: 53 | U14: 18 | V14: 8 | W14: 45 | X14: 2 | Y14: 1 | Z14: 2 | AA14: 819 | AB14: 51 | AC14: 39 | AD14: 9 | AE14: 43 | AF14: 1 | AG14: 1 | AH14: 5 | AI14: 815 | AJ14: 38 | AK14: 33 | AL14: 12 | AQ14: 802 | AR14: 44 | AS14: 29 | AT14: 15
A15: 159656 | B15: Loyola University New Orleans | C15: 519 | D15: 42 | E15: 16 | F15: 10 | G15: 40 | H15: 0 | I15: 3 | J15: 1 | K15: 546 | L15: 38 | M15: 21 | N15: 14 | O15: 47 | P15: 3 | Q15: 1 | R15: 3 | S15: 518 | T15: 30 | U15: 19 | V15: 14 | W15: 50 | X15: 2 | Y15: 1 | Z15: 3 | AA15: 653 | AB15: 34 | AC15: 25 | AD15: 18 | AE15: 58 | AF15: 1 | AG15: 6 | AH15: 2 | AI15: 533 | AJ15: 33 | AK15: 22 | AL15: 12 | AM15: 39 | AN15: 1 | AO15: 1 | AP15: 2 | AQ15: 784 | AR15: 39 | AS15: 22 | AT15: 13 | AU15: 97 | AV15: 5 | AW15: 5 | AX15: 7
A16: 239105 | B16: Marquette University | C16: 1827 | D16: 40 | E16: 33 | F16: 6 | G16: 492 | H16: 30 | I16: 22 | J16: 12 | K16: 1678 | L16: 47 | M16: 31 | N16: 12 | O16: 483 | P16: 30 | Q16: 34 | R16: 12 | S16: 1670 | T16: 68 | U16: 42 | V16: 10 | W16: 533 | X16: 22 | Y16: 32 | Z16: 12 | AA16: 1766 | AB16: 55 | AC16: 60 | AD16: 7 | AE16: 500 | AF16: 10 | AG16: 22 | AH16: 8 | AI16: 1617 | AJ16: 70 | AK16: 52 | AL16: 12 | AM16: 449 | AN16: 18 | AO16: 23 | AP16: 15 | AQ16: 1549 | AR16: 53 | AS16: 42 | AT16: 21 | AU16: 355 | AV16: 14 | AW16: 27 | AX16: 22
A17: 127918 | B17: Regis University | C17: 1222 | D17: 16 | E17: 10 | F17: 14 | G17: 54 | I17: 1 | J17: 4 | K17: 1342 | L17: 10 | M17: 6 | N17: 10 | O17: 41 | P17: 1 | Q17: 1 | R17: 1 | S17: 1310 | T17: 18 | U17: 7 | V17: 6 | W17: 37 | X17: 0 | Y17: 1 | Z17: 1 | AA17: 1301 | AB17: 12 | AC17: 7 | AD17: 9 | AE17: 45 | AH17: 2 | AI17: 1356 | AJ17: 8 | AK17: 7 | AL17: 5 | AM17: 44 | AN17: 1 | AO17: 0 | AP17: 1 | AQ17: 1279 | AR17: 7 | AS17: 5 | AT17: 4 | AU17: 64 | AV17: 0 | AW17: 3 | AX17: 1
A18: 179043 | B18: Rockhurst University | C18: 456 | D18: 10 | E18: 7 | F18: 3 | G18: 62 | H18: 2 | I18: 0 | J18: 8 | K18: 437 | L18: 21 | M18: 9 | N18: 4 | O18: 66 | P18: 2 | Q18: 1 | R18: 6 | S18: 423 | T18: 17 | U18: 8 | V18: 7 | W18: 59 | X18: 3 | Y18: 3 | Z18: 9 | AA18: 403 | AB18: 21 | AC18: 7 | AD18: 9 | AE18: 50 | AF18: 1 | AG18: 1 | AH18: 6 | AI18: 368 | AJ18: 22 | AK18: 9 | AL18: 7 | AM18: 36 | AN18: 1 | AO18: 0 | AP18: 6 | AQ18: 382 | AR18: 21 | AS18: 6 | AT18: 3 | AU18: 46 | AV18: 2 | AW18: 1 | AX18: 4
A19: 215770 | B19: Saint Joseph's University | C19: 1168 | D19: 61 | E19: 27 | F19: 5 | G19: 180 | H19: 3 | I19: 2 | J19: 3 | K19: 1278 | L19: 72 | M19: 20 | N19: 8 | O19: 108 | P19: 2 | Q19: 0 | R19: 5 | S19: 1031 | T19: 68 | U19: 21 | V19: 16 | W19: 29 | X19: 2 | Y19: 0 | Z19: 2 | AA19: 1103 | AB19: 80 | AC19: 31 | AD19: 11 | AE19: 16 | AF19: 1 | AG19: 0 | AH19: 3 | AI19: 1051 | AJ19: 57 | AK19: 32 | AL19: 4 | AM19: 13 | AN19: 1 | AO19: 0 | AP19: 0 | AQ19: 960 | AR19: 67 | AS19: 26 | AT19: 11 | AU19: 18 | AW19: 1 | AX19: 1
A20: 179159 | B20: Saint Louis University | C20: 1850 | D20: 30 | E20: 16 | F20: 9 | G20: 153 | H20: 11 | I20: 6 | J20: 5 | K20: 1629 | L20: 31 | M20: 21 | N20: 15 | O20: 120 | P20: 6 | Q20: 3 | R20: 3 | S20: 1627 | T20: 29 | U20: 27 | V20: 13 | W20: 144 | X20: 14 | Y20: 2 | Z20: 5 | AA20: 1538 | AB20: 34 | AC20: 20 | AD20: 24 | AE20: 130 | AF20: 4 | AG20: 5 | AH20: 3 | AI20: 1504 | AJ20: 33 | AK20: 27 | AL20: 26 | AM20: 105 | AN20: 10 | AO20: 2 | AP20: 3 | AQ20: 1614 | AR20: 46 | AS20: 30 | AT20: 23 | AU20: 192 | AV20: 3 | AW20: 7 | AX20: 5
A21: 186432 | B21: Saint Peter's University | C21: 446 | D21: 16 | E21: 10 | F21: 0 | K21: 489 | L21: 9 | M21: 8 | N21: 1 | S21: 411 | T21: 3 | U21: 9 | V21: 2 | AA21: 457 | AB21: 9 | AC21: 9 | AD21: 3 | AI21: 372 | AJ21: 13 | AK21: 8 | AL21: 2 | AQ21: 401 | AR21: 7 | AS21: 6 | AT21: 4
A22: 122931 | B22: Santa Clara University | C22: 1332 | D22: 40 | E22: 25 | F22: 9 | G22: 166 | H22: 3 | I22: 7 | J22: 5 | K22: 1297 | L22: 42 | M22: 26 | N22: 25 | O22: 172 | P22: 6 | Q22: 4 | R22: 9 | S22: 1429 | T22: 64 | U22: 44 | V22: 36 | W22: 137 | X22: 3 | Y22: 2 | Z22: 8 | AA22: 1316 | AB22: 53 | AC22: 35 | AD22: 36 | AE22: 76 | AF22: 4 | AG22: 1 | AH22: 7 | AI22: 1293 | AJ22: 70 | AK22: 34 | AL22: 35 | AM22: 104 | AN22: 6 | AO22: 2 | AP22: 9 | AQ22: 1138 | AR22: 48 | AS22: 25 | AT22: 39 | AU22: 74 | AV22: 4 | AW22: 2 | AX22: 5
A23: 236595 | B23: Seattle University | C23: 1381 | D23: 50 | E23: 21 | F23: 17 | G23: 145 | H23: 6 | I23: 3 | J23: 5 | K23: 1250 | L23: 60 | M23: 22 | N23: 26 | O23: 92 | P23: 4 | Q23: 1 | R23: 3 | S23: 1107 | T23: 69 | U23: 20 | V23: 26 | W23: 112 | X23: 4 | Y23: 2 | Z23: 9 | AA23: 1128 | AB23: 46 | AC23: 17 | AD23: 13 | AE23: 133 | AF23: 9 | AG23: 2 | AH23: 4 | AI23: 1066 | AJ23: 54 | AK23: 30 | AL23: 29 | AM23: 91 | AN23: 8 | AP23: 8 | AQ23: 941 | AR23: 42 | AS23: 16 | AT23: 19 | AU23: 6 | AV23: 2
A24: 102234 | B24: Spring Hill College | C24: 239 | D24: 10 | E24: 8 | F24: 8 | G24: 18 | H24: 5 | J24: 1 | K24: 242 | L24: 4 | M24: 8 | N24: 10 | O24: 10 | R24: 2 | S24: 261 | T24: 4 | U24: 8 | V24: 9 | W24: 11 | X24: 0 | Y24: 1 | Z24: 1 | AA24: 232 | AB24: 11 | AC24: 3 | AD24: 0 | AE24: 17 | AF24: 3 | AG24: 2 | AI24: 218 | AJ24: 14 | AK24: 8 | AL24: 6 | AM24: 19 | AN24: 2 | AO24: 3 | AP24: 2 | AQ24: 247 | AR24: 18 | AS24: 2 | AT24: 2 | AU24: 20 | AV24: 4 | AX24: 1
A25: 169716 | B25: University of Detroit Mercy | C25: 729 | D25: 8 | E25: 10 | F25: 5 | G25: 16 | H25: 1 | J25: 4 | K25: 740 | L25: 9 | M25: 8 | N25: 5 | O25: 14 | P25: 1 | Q25: 3 | R25: 1 | S25: 693 | T25: 8 | U25: 9 | V25: 0 | W25: 6 | X25: 0 | Y25: 1 | Z25: 1 | AA25: 602 | AB25: 7 | AC25: 6 | AD25: 5 | AE25: 26 | AF25: 2 | AG25: 2 | AH25: 2 | AI25: 633 | AJ25: 15 | AK25: 8 | AL25: 3 | AM25: 36 | AN25: 12 | AO25: 1 | AP25: 3 | AQ25: 576 | AR25: 24 | AS25: 10 | AT25: 2 | AU25: 21 | AV25: 3 | AW25: 2 | AX25: 2
A26: 122612 | B26: University of San Francisco | C26: 1506 | D26: 46 | E26: 31 | F26: 15 | G26: 56 | H26: 0 | I26: 0 | J26: 1 | K26: 1398 | L26: 28 | M26: 33 | N26: 13 | O26: 49 | P26: 0 | Q26: 2 | R26: 1 | S26: 1283 | T26: 48 | U26: 20 | V26: 15 | W26: 70 | X26: 0 | Y26: 2 | Z26: 2 | AA26: 1281 | AB26: 35 | AC26: 27 | AD26: 8 | AE26: 58 | AF26: 0 | AG26: 0 | AH26: 2 | AI26: 1152 | AJ26: 33 | AK26: 31 | AL26: 12 | AM26: 73 | AN26: 0 | AO26: 1 | AP26: 3 | AQ26: 1164 | AR26: 39 | AS26: 36 | AT26: 14 | AU26: 47 | AV26: 1 | AW26: 2 | AX26: 2
A27: 215929 | B27: University of Scranton | C27: 853 | D27: 16 | E27: 18 | F27: 12 | G27: 74 | H27: 2 | I27: 8 | J27: 31 | K27: 902 | L27: 24 | M27: 39 | N27: 13 | O27: 77 | P27: 4 | R27: 28 | S27: 950 | T27: 27 | U27: 41 | V27: 11 | W27: 94 | X27: 3 | Y27: 14 | Z27: 36 | AA27: 869 | AB27: 33 | AC27: 25 | AD27: 10 | AE27: 110 | AF27: 4 | AG27: 18 | AH27: 40 | AI27: 953 | AJ27: 28 | AK27: 36 | AL27: 21 | AM27: 118 | AN27: 9 | AO27: 16 | AP27: 43 | AQ27: 841 | AR27: 21 | AS27: 24 | AT27: 20 | AU27: 86 | AV27: 2 | AW27: 2 | AX27: 36
A28: 238078 | B28: Wheeling Jesuit University | C28: 227 | D28: 10 | E28: 10 | F28: 1 | G28: 10 | H28: 0 | J28: 3 | K28: 179 | L28: 3 | M28: 4 | N28: 2 | S28: 230 | T28: 1 | U28: 6 | V28: 4 | AA28: 243 | AB28: 14 | AC28: 6 | AD28: 1 | AI28: 302 | AJ28: 9 | AK28: 13 | AL28: 3 | AQ28: 275 | AR28: 14 | AS28: 9 | AT28: 0
A29: 206622 | B29: Xavier University | C29: 907 | D29: 19 | E29: 19 | F29: 6 | G29: 76 | H29: 6 | I29: 3 | J29: 1 | K29: 804 | L29: 17 | M29: 30 | N29: 15 | O29: 57 | P29: 2 | Q29: 0 | R29: 4 | S29: 861 | T29: 24 | U29: 18 | V29: 10 | W29: 75 | X29: 0 | Y29: 12 | Z29: 3 | AA29: 930 | AB29: 36 | AC29: 21 | AD29: 21 | AE29: 70 | AF29: 3 | AG29: 4 | AH29: 1 | AI29: 834 | AJ29: 35 | AK29: 24 | AL29: 14 | AM29: 0 | AN29: 0 | AO29: 0 | AP29: 0 | AQ29: 834 | AR29: 35 | AS29: 20 | AT29: 6 | AU29: 75 | AV29: 1 | AW29: 2 | AX29: 1
B30: TOTALS | C30: =SUM(C2:C29) -> 31103 | D30: =SUM(D2:D29) -> 1250 | E30: =SUM(E2:E29) -> 757 | F30: =SUM(F2:F29) -> 356 | G30: =SUM(G2:G29) -> 4205 | H30: =SUM(H2:H29) -> 228 | I30: =SUM(I2:I29) -> 152 | J30: =SUM(J2:J29) -> 220 | ... AX30: =SUM(AX2:AX29) -> 198

Sheet Jesuit (numbers)
A1: UnitID | B1: Institution Name | C1: TOTAL (2004, including 2nd) | D1: TOTAL (2004, just 1st) | E1: English (2004) | F1: History (2004) | G1: Philosophy (2004) | H1: HUMANITIES (2004) | I1: TOTAL (2006, including 2nd) | J1: TOTAL (2006, just 1st) | K1: English (2006) | L1: History (2006) | M1: Philosophy (2006) | N1: HUMANITIES (2006) | O1: TOTAL (2008, including 2nd) | P1: TOTAL (2008, just 1st) | Q1: English (2008) | R1: History (2008) | S1: Philosophy (2008) | T1: HUMANITIES (2008) | U1: TOTAL (2010, including 2nd) | V1: TOTAL (2010, just 1st) | W1: English (2010) | X1: History (2010) | Y1: Philosophy (2010) | Z1: HUMANITIES (2010) | AA1: TOTAL (2012, including 2nd) | AB1: TOTAL (2012, just 1st) | AC1: English (2012) | AD1: History (2012) | AE1: Philosophy (2012) | AF1: HUMANITIES (2012) | AG1: TOTAL (2014, including 2nd) | AH1: TOTAL (2014, just 1st) | AI1: English (2014) | AJ1: History (2014) | AK1: Philosophy (2014) | AL1: HUMANITIES (2014) | AM1: Humanities Change
A2: 164924 | B2: Boston College | C2: 2874 | D2: 2223 | E2: 259 | F2: 183 | G2: 103 | H2: 545 | I2: 2885 | J2: 2229 | K2: 247 | L2: 207 | M2: 107 | N2: 561 | O2: 3027 | P2: 2319 | Q2: 245 | R2: 197 | S2: 112 | T2: 554 | U2: 3138 | V2: 2366 | W2: 208 | X2: 194 | Y2: 135 | Z2: 537 | AA2: 3119 | AB2: 2327 | AC2: 202 | AD2: 148 | AE2: 127 | AF2: 477 | AG2: 3035 | AH2: 2341 | AI2: 207 | AJ2: 127 | AK2: 97 | AL2: 431 | AM2: =AL2-H2 -> -114
A3: 189705 | B3: Canisius College | C3: 844 | D3: 731 | E3: 25 | F3: 24 | G3: 10 | H3: 59 | I3: 848 | J3: 714 | K3: 25 | L3: 28 | M3: 6 | N3: 59 | O3: 957 | P3: 811 | Q3: 33 | R3: 42 | S3: 10 | T3: 85 | U3: 888 | V3: 714 | W3: 31 | X3: 37 | Y3: 6 | Z3: 74 | AA3: 931 | AB3: 738 | AC3: 35 | AD3: 32 | AE3: 6 | AF3: 73 | AG3: 842 | AH3: 660 | AI3: 31 | AJ3: 27 | AK3: 5 | AL3: 63 | AM3: =AL3-H3 -> 4
A4: 166124 | B4: College of the Holy Cross | C4: 768 | D4: 675 | E4: 92 | F4: 79 | G4: 60 | H4: 231 | I4: 808 | J4: 700 | K4: 82 | L4: 84 | M4: 32 | N4: 198 | O4: 771 | P4: 670 | Q4: 101 | R4: 79 | S4: 35 | T4: 215 | U4: 821 | V4: 716 | W4: 101 | X4: 66 | Y4: 27 | Z4: 194 | AA4: 798 | AB4: 692 | AC4: 81 | AD4: 57 | AE4: 25 | AF4: 163 | AG4: 789 | AH4: 679 | AI4: 84 | AJ4: 76 | AK4: 32 | AL4: 192 | AM4: =AL4-H4 -> -39
A5: 181002 | B5: Creighton University | C5: 897 | D5: 814 | E5: 35 | F5: 8 | G5: 15 | H5: 58 | I5: 928 | J5: 833 | K5: 32 | L5: 19 | M5: 18 | N5: 69 | O5: 1005 | P5: 887 | Q5: 33 | R5: 23 | S5: 27 | T5: 83 | U5: 1039 | V5: 906 | W5: 26 | X5: 16 | Y5: 19 | Z5: 61 | AA5: 1168 | AB5: 1029 | AC5: 38 | AD5: 13 | AE5: 17 | AF5: 68 | AG5: 1137 | AH5: 993 | AI5: 24 | AJ5: 22 | AK5: 16 | AL5: 62 | AM5: =AL5-H5 -> 4
A6: 129242 | B6: Fairfield University | C6: 1126 | D6: 996 | E6: 102 | F6: 21 | G6: 12 | H6: 135 | I6: 929 | J6: 824 | K6: 78 | L6: 25 | M6: 6 | N6: 109 | O6: 1015 | P6: 886 | Q6: 58 | R6: 20 | S6: 13 | T6: 91 | U6: 1061 | V6: 922 | W6: 71 | X6: 22 | Y6: 9 | Z6: 102 | AA6: 1039 | AB6: 901 | AC6: 76 | AD6: 11 | AE6: 10 | AF6: 97 | AG6: 1006 | AH6: 899 | AI6: 67 | AJ6: 17 | AK6: 6 | AL6: 90 | AM6: =AL6-H6 -> -45
A7: 191241 | B7: Fordham University | C7: 1776 | D7: 1604 | E7: 125 | F7: 94 | G7: 56 | H7: 275 | I7: 1674 | J7: 1674 | K7: 100 | L7: 90 | M7: 45 | N7: 235 | O7: 2068 | P7: 1865 | Q7: 134 | R7: 86 | S7: 53 | T7: 273 | U7: 1969 | V7: 1805 | W7: 108 | X7: 88 | Y7: 52 | Z7: 248 | AA7: 2134 | AB7: 1919 | AC7: 108 | AD7: 106 | AE7: 73 | AF7: 287 | AG7: 2179 | AH7: 1938 | AI7: 112 | AJ7: 62 | AK7: 82 | AL7: 256 | AM7: =AL7-H7 -> -19
A8: 131496 | B8: Georgetown University | C8: 2074 | D8: 1670 | E8: 173 | F8: 59 | G8: 31 | H8: 263 | I8: 2115 | J8: 1705 | K8: 162 | L8: 64 | M8: 37 | N8: 263 | O8: 2173 | P8: 1730 | Q8: 163 | R8: 70 | S8: 39 | T8: 272 | U8: 2275 | V8: 1834 | W8: 167 | X8: 61 | Y8: 40 | Z8: 268 | AA8: 2306 | AB8: 1871 | AC8: 150 | AD8: 61 | AE8: 40 | AF8: 251 | AG8: 2201 | AH8: 1794 | AI8: 123 | AJ8: 45 | AK8: 31 | AL8: 199 | AM8: =AL8-H8 -> -64
A9: 235316 | B9: Gonzaga University | C9: 824 | D9: 766 | E9: 36 | F9: 48 | G9: 26 | H9: 110 | I9: 984 | J9: 894 | K9: 36 | L9: 39 | M9: 22 | N9: 97 | O9: 1078 | P9: 994 | Q9: 31 | R9: 60 | S9: 22 | T9: 113 | U9: 1135 | V9: 1025 | W9: 39 | X9: 54 | Y9: 27 | Z9: 120 | AA9: 1246 | AB9: 1109 | AC9: 53 | AD9: 43 | AE9: 30 | AF9: 126 | AG9: 1279 | AH9: 1144 | AI9: 47 | AJ9: 30 | AK9: 15 | AL9: 92 | AM9: =AL9-H9 -> -18
A10: 203368 | B10: John Carroll University | C10: 797 | D10: 734 | E10: 45 | F10: 31 | G10: 13 | H10: 89 | I10: 798 | J10: 757 | K10: 38 | L10: 34 | M10: 11 | N10: 83 | O10: 729 | P10: 677 | Q10: 38 | R10: 34 | S10: 17 | T10: 89 | U10: 722 | V10: 658 | W10: 32 | X10: 29 | Y10: 21 | Z10: 82 | AA10: 724 | AB10: 661 | AC10: 39 | AD10: 27 | AE10: 20 | AF10: 86 | AG10: 672 | AH10: 627 | AI10: 38 | AJ10: 23 | AK10: 14 | AL10: 75 | AM10: =AL10-H10 -> -14
A11: 192323 | B11: Le Moyne College | C11: 526 | D11: 510 | E11: 67 | F11: 35 | G11: 9 | H11: 111 | I11: 621 | J11: 605 | K11: 48 | L11: 40 | M11: 10 | N11: 98 | O11: 542 | P11: 526 | Q11: 39 | R11: 30 | S11: 9 | T11: 78 | U11: 590 | V11: 551 | W11: 44 | X11: 27 | Y11: 6 | Z11: 77 | AA11: 654 | AB11: 599 | AC11: 37 | AD11: 35 | AE11: 4 | AF11: 76 | AG11: 638 | AH11: 592 | AI11: 49 | AJ11: 24 | AK11: 6 | AL11: 79 | AM11: =AL11-H11 -> -32
A12: 117946 | B12: Loyola Marymount University | C12: 1364 | D12: 1306 | E12: 62 | F12: 36 | G12: 21 | H12: 119 | I12: 1336 | J12: 1270 | K12: 98 | L12: 44 | M12: 18 | N12: 160 | O12: 1504 | P12: 1417 | Q12: 82 | R12: 37 | S12: 22 | T12: 141 | U12: 1425 | V12: 1350 | W12: 75 | X12: 35 | Y12: 16 | Z12: 126 | AA12: 1434 | AB12: 1369 | AC12: 88 | AD12: 47 | AE12: 23 | AF12: 158 | AG12: 1673 | AH12: 1579 | AI12: 71 | AJ12: 42 | AK12: 21 | AL12: 134 | AM12: =AL12-H12 -> 15
A13: 146719 | B13: Loyola University Chicago | C13: 1303 | D13: 1196 | E13: 51 | F13: 24 | G13: 16 | H13: 91 | I13: 1952 | J13: 1722 | K13: 75 | L13: 59 | M13: 53 | N13: 187 | O13: 2391 | P13: 2089 | Q13: 100 | R13: 75 | S13: 45 | T13: 220 | U13: 2679 | V13: 2149 | W13: 96 | X13: 78 | Y13: 47 | Z13: 221 | AA13: 2589 | AB13: 2396 | AC13: 111 | AD13: 88 | AE13: 36 | AF13: 235 | AG13: 2708 | AH13: 2287 | AI13: 95 | AJ13: 79 | AK13: 36 | AL13: 210 | AM13: =AL13-H13 -> 119
... A29: 206622 | B29: Xavier University | C29: 909 | D29: 834 | E29: 36 | F29: 22 | G29: 7 | H29: 65 | I29: 834 | J29: 834 | K29: 35 | L29: 24 | M29: 14 | N29: 73 | O29: 1000 | P29: 930 | Q29: 39 | R29: 25 | S29: 22 | T29: 86 | U29: 936 | V29: 861 | W29: 24 | X29: 30 | Y29: 13 | Z29: 67 | AA29: 861 | AB29: 804 | AC29: 19 | AD29: 30 | AE29: 19 | AF29: 68 | AG29: 983 | AH29: 907 | AI29: 25 | AJ29: 22 | AK29: 7 | AL29: 54 | AM29: =AL29-H29 -> -11
B30: TOTALS | C30: 30061 | D30: 27012 | E30: 1638 | F30: 1004 | G30: 655 | H30: 3297 | I30: 31072 | J30: 27994 | K30: 1622 | L30: 1156 | M30: 663 | N30: 3441 | O30: 33233 | P30: 29512 | Q30: 1631 | R30: 1155 | S30: 673 | T30: 3459 | U30: 33778 | V30: 29630 | W30: 1584 | X30: 1098 | Y30: 686 | Z30: 3368 | AA30: 34592 | AB30: 30725 | AC30: 1551 | AD30: 1025 | AE30: 667 | AF30: 3243 | AG30: 35308 | AH30: 31103 | AI30: 1478 | AJ30: 909 | AK30: 576 | AL30: 2963 | AM30: =AL30-H30 -> -334
B31: Percentages (including 2nd) | E31: 0.054489205 | F31: 0.033398756 | G31: 0.021789029 | H31: 0.10967699 | K31: 0.052201339 | L31: 0.037203913 | M31: 0.021337539 | N31: 0.11074279 | Q31: 0.049077724 | R31: 0.034754611 | S31: 0.020250955 | T31: 0.10408329 | W31: 0.046894428 | X31: 0.032506365 | Y31: 0.020309077 | Z31: 0.09970987 | AC31: 0.044836957 | AD31: 0.029631129 | AE31: 0.019281915 | AF31: 0.09375 | AI31: 0.041860202 | AJ31: 0.025744874 | AK31: 0.016313583 | AL31: 0.083918659 | AM31: =AL31-H31 -> -0.025758331
B32: Percentages (just 1st) | E32: 0.060639716 | F32: 0.037168666 | G32: 0.024248482 | H32: 0.12205686 | K32: 0.057940987 | L32: 0.041294563 | M32: 0.023683646 | N32: 0.1229192 | Q32: 0.055265655 | R32: 0.039136622 | S32: 0.022804283 | T32: 0.11720656 | W32: 0.053459332 | X32: 0.037057037 | Y32: 0.023152211 | Z32: 0.11366858 | AC32: 0.050480065 | AD32: 0.033360456 | AE32: 0.021708706 | AF32: 0.10554923 | AI32: 0.047519532 | AJ32: 0.029225477 | AK32: 0.018519114 | AL32: 0.095264122 | AM32: =AL32-H32 -> -0.026792741
B34: Percent of graduates with 2nd major | C34: 0.11287576 | I34: 0.10995213 | O34: 0.1260843 | U34: 0.13999325 | AA34: 0.12585842 | AG34: 0.13519596

Sheet Jesuit (% of 1st and 2nd)
A1: UnitID | B1: Institution Name | C1: TOTAL (2004, including 2nd) | D1: English (2004) | E1: History (2004) | F1: Philosophy (2004) | G1: HUMANITIES (2004) | H1: TOTAL (2006, including 2nd) | I1: English (2006) | J1: History (2006) | K1: Philosophy (2006) | L1: HUMANITIES (2006) | M1: TOTAL (2008, including 2nd) | N1: English (2008) | O1: History (2008) | P1: Philosophy (2008) | Q1: HUMANITIES (2008) | R1: TOTAL (2010, including 2nd) | S1: English (2010) | T1: History (2010) | U1: Philosophy (2010) | V1: HUMANITIES (2010) | W1: TOTAL (2012, including 2nd) | X1: English (2012) | Y1: History (2012) | Z1: Philosophy (2012) | AA1: HUMANITIES (2012) | AB1: TOTAL (2014, including 2nd) | AC1: English (2014) | AD1: History (2014) | AE1: Philosophy (2014) | AF1: HUMANITIES (2014)
A2: 164924 | B2: Boston College | C2: 2874 | D2: ='Jesuit (numbers)'!E2/C2 -> 0.090118302 | E2: ='Jesuit (numbers)'!F2/C2 -> 0.063674322 | F2: ='Jesuit (numbers)'!G2/C2 -> 0.035838553 | G2: ='Jesuit (numbers)'!H2/C2 -> 0.18963118 | H2: 2885 | I2: ='Jesuit (numbers)'!K2/H2 -> 0.085615251 | J2: ='Jesuit (numbers)'!L2/H2 -> 0.071750433 | K2: ='Jesuit (numbers)'!M2/H2 -> 0.037088388 | L2: ='Jesuit (numbers)'!N2/H2 -> 0.19445407 | M2: 3027 | N2: ='Jesuit (numbers)'!Q2/M2 -> 0.080938223 | O2: ='Jesuit (numbers)'!R2/M2 -> 0.065080938 | P2: ='Jesuit (numbers)'!S2/M2 -> 0.03700033 | Q2: ='Jesuit (numbers)'!T2/M2 -> 0.18301949 | R2: 3138 | S2: ='Jesuit (numbers)'!W2/R2 -> 0.066284257 | T2: ='Jesuit (numbers)'!X2/R2 -> 0.061822817 | U2: ='Jesuit (numbers)'!Y2/R2 -> 0.043021033 | V2: ='Jesuit (numbers)'!Z2/R2 -> 0.17112811 | W2: 3119 | X2: ='Jesuit (numbers)'!AC2/W2 -> 0.064764348 | Y2: ='Jesuit (numbers)'!AD2/W2 -> 0.047451106 | Z2: ='Jesuit (numbers)'!AE2/W2 -> 0.040718179 | AA2: ='Jesuit (numbers)'!AF2/W2 -> 0.15293363 | AB2: 3035 | AC2: ='Jesuit (numbers)'!AI2/AB2 -> 0.068204283 | AD2: ='Jesuit (numbers)'!AJ2/AB2 -> 0.04184514 | AE2: ='Jesuit (numbers)'!AK2/AB2 -> 0.031960461 | AF2: ='Jesuit (numbers)'!AL2/AB2 -> 0.14200988
A3: 189705 | B3: Canisius College | C3: 844 | D3: ='Jesuit (numbers)'!E3/C3 -> 0.029620853 | E3: ='Jesuit (numbers)'!F3/C3 -> 0.028436019 | F3: ='Jesuit (numbers)'!G3/C3 -> 0.011848341 | G3: ='Jesuit (numbers)'!H3/C3 -> 0.069905213 | H3: 848 | I3: ='Jesuit (numbers)'!K3/H3 -> 0.029481132 | J3: ='Jesuit (numbers)'!L3/H3 -> 0.033018868 | K3: ='Jesuit (numbers)'!M3/H3 -> 0.0070754717 | L3: ='Jesuit (numbers)'!N3/H3 -> 0.069575472 | M3: 957 | N3: ='Jesuit (numbers)'!Q3/M3 -> 0.034482759 | O3: ='Jesuit (numbers)'!R3/M3 -> 0.043887147 | P3: ='Jesuit (numbers)'!S3/M3 -> 0.010449321 | Q3: ='Jesuit (numbers)'!T3/M3 -> 0.088819227 | R3: 888 | S3: ='Jesuit (numbers)'!W3/R3 -> 0.03490991 | T3: ='Jesuit (numbers)'!X3/R3 -> 0.041666667 | U3: ='Jesuit (numbers)'!Y3/R3 -> 0.0067567568 | V3: ='Jesuit (numbers)'!Z3/R3 -> 0.083333333 | W3: 931 | X3: ='Jesuit (numbers)'!AC3/W3 -> 0.037593985 | Y3: ='Jesuit (numbers)'!AD3/W3 -> 0.034371643 | Z3: ='Jesuit (numbers)'!AE3/W3 -> 0.0064446831 | AA3: ='Jesuit (numbers)'!AF3/W3 -> 0.078410311 | AB3: 842 | AC3: ='Jesuit (numbers)'!AI3/AB3 -> 0.036817102 | AD3: ='Jesuit (numbers)'!AJ3/AB3 -> 0.032066508 | AE3: ='Jesuit (numbers)'!AK3/AB3 -> 0.0059382423 | AF3: ='Jesuit (numbers)'!AL3/AB3 -> 0.074821853
A4: 166124 | B4: College of the Holy Cross | C4: 768 | D4: ='Jesuit (numbers)'!E4/C4 -> 0.11979167 | E4: ='Jesuit (numbers)'!F4/C4 -> 0.10286458 | F4: ='Jesuit (numbers)'!G4/C4 -> 0.078125 | G4: ='Jesuit (numbers)'!H4/C4 -> 0.30078125 | H4: 808 | I4: ='Jesuit (numbers)'!K4/H4 -> 0.10148515 | J4: ='Jesuit (numbers)'!L4/H4 -> 0.1039604 | K4: ='Jesuit (numbers)'!M4/H4 -> 0.03960396 | L4: ='Jesuit (numbers)'!N4/H4 -> 0.2450495 | M4: 771 | N4: ='Jesuit (numbers)'!Q4/M4 -> 0.1309987 | O4: ='Jesuit (numbers)'!R4/M4 -> 0.10246433 | P4: ='Jesuit (numbers)'!S4/M4 -> 0.04539559 | Q4: ='Jesuit (numbers)'!T4/M4 -> 0.27885863 | R4: 821 | S4: ='Jesuit (numbers)'!W4/R4 -> 0.12302071 | T4: ='Jesuit (numbers)'!X4/R4 -> 0.080389769 | U4: ='Jesuit (numbers)'!Y4/R4 -> 0.032886724 | V4: ='Jesuit (numbers)'!Z4/R4 -> 0.2362972 | W4: 798 | X4: ='Jesuit (numbers)'!AC4/W4 -> 0.10150376 | Y4: ='Jesuit (numbers)'!AD4/W4 -> 0.071428571 | Z4: ='Jesuit (numbers)'!AE4/W4 -> 0.031328321 | AA4: ='Jesuit (numbers)'!AF4/W4 -> 0.20426065 | AB4: 789 | AC4: ='Jesuit (numbers)'!AI4/AB4 -> 0.10646388 | AD4: ='Jesuit (numbers)'!AJ4/AB4 -> 0.096324461 | AE4: ='Jesuit (numbers)'!AK4/AB4 -> 0.040557668 | AF4: ='Jesuit (numbers)'!AL4/AB4 -> 0.24334601
A5: 181002 | B5: Creighton University | C5: 897 | D5: ='Jesuit (numbers)'!E5/C5 -> 0.039018952 | E5: ='Jesuit (numbers)'!F5/C5 -> 0.0089186176 | F5: ='Jesuit (numbers)'!G5/C5 -> 0.016722408 | G5: ='Jesuit (numbers)'!H5/C5 -> 0.064659978 | H5: 928 | I5: ='Jesuit (numbers)'!K5/H5 -> 0.034482759 | J5: ='Jesuit (numbers)'!L5/H5 -> 0.020474138 | K5: ='Jesuit (numbers)'!M5/H5 -> 0.019396552 | L5: ='Jesuit (numbers)'!N5/H5 -> 0.074353448 | M5: 1005 | N5: ='Jesuit (numbers)'!Q5/M5 -> 0.032835821 | O5: ='Jesuit (numbers)'!R5/M5 -> 0.022885572 | P5: ='Jesuit (numbers)'!S5/M5 -> 0.026865672 | Q5: ='Jesuit (numbers)'!T5/M5 -> 0.082587065 | R5: 1039 | S5: ='Jesuit (numbers)'!W5/R5 -> 0.025024062 | T5: ='Jesuit (numbers)'!X5/R5 -> 0.015399423 | U5: ='Jesuit (numbers)'!Y5/R5 -> 0.018286814 | V5: ='Jesuit (numbers)'!Z5/R5 -> 0.058710298 | W5: 1168 | X5: ='Jesuit (numbers)'!AC5/W5 -> 0.032534247 | Y5: ='Jesuit (numbers)'!AD5/W5 -> 0.011130137 | Z5: ='Jesuit (numbers)'!AE5/W5 -> 0.014554795 | AA5: ='Jesuit (numbers)'!AF5/W5 -> 0.058219178 | AB5: 1137 | AC5: ='Jesuit (numbers)'!AI5/AB5 -> 0.021108179 | AD5: ='Jesuit (numbers)'!AJ5/AB5 -> 0.019349164 | AE5: ='Jesuit (numbers)'!AK5/AB5 -> 0.01407212 | AF5: ='Jesuit (numbers)'!AL5/AB5 -> 0.054529464
A6: 129242 | B6: Fairfield University | C6: 1126 | D6: ='Jesuit (numbers)'!E6/C6 -> 0.090586146 | E6: ='Jesuit (numbers)'!F6/C6 -> 0.018650089 | F6: ='Jesuit (numbers)'!G6/C6 -> 0.010657194 | G6: ='Jesuit (numbers)'!H6/C6 -> 0.11989343 | H6: 929 | I6: ='Jesuit (numbers)'!K6/H6 -> 0.083961249 | J6: ='Jesuit (numbers)'!L6/H6 -> 0.026910657 | K6: ='Jesuit (numbers)'!M6/H6 -> 0.0064585576 | L6: ='Jesuit (numbers)'!N6/H6 -> 0.11733046 | M6: 1015 | N6: ='Jesuit (numbers)'!Q6/M6 -> 0.057142857 | O6: ='Jesuit (numbers)'!R6/M6 -> 0.019704433 | P6: ='Jesuit (numbers)'!S6/M6 -> 0.012807882 | Q6: ='Jesuit (numbers)'!T6/M6 -> 0.089655172 | R6: 1061 | S6: ='Jesuit (numbers)'!W6/R6 -> 0.066918002 | T6: ='Jesuit (numbers)'!X6/R6 -> 0.020735156 | U6: ='Jesuit (numbers)'!Y6/R6 -> 0.0084825636 | V6: ='Jesuit (numbers)'!Z6/R6 -> 0.096135721 | W6: 1039 | X6: ='Jesuit (numbers)'!AC6/W6 -> 0.073147257 | Y6: ='Jesuit (numbers)'!AD6/W6 -> 0.010587103 | Z6: ='Jesuit (numbers)'!AE6/W6 -> 0.0096246391 | AA6: ='Jesuit (numbers)'!AF6/W6 -> 0.093358999 | AB6: 1006 | AC6: ='Jesuit (numbers)'!AI6/AB6 -> 0.066600398 | AD6: ='Jesuit (numbers)'!AJ6/AB6 -> 0.016898608 | AE6: ='Jesuit (numbers)'!AK6/AB6 -> 0.0059642147 | AF6: ='Jesuit (numbers)'!AL6/AB6 -> 0.089463221
A7: 191241 | B7: Fordham University | C7: 1776 | D7: ='Jesuit (numbers)'!E7/C7 -> 0.070382883 | E7: ='Jesuit (numbers)'!F7/C7 -> 0.052927928 | F7: ='Jesuit (numbers)'!G7/C7 -> 0.031531532 | G7: ='Jesuit (numbers)'!H7/C7 -> 0.15484234 | H7: 1674 | I7: ='Jesuit (numbers)'!K7/H7 -> 0.059737157 | J7: ='Jesuit (numbers)'!L7/H7 -> 0.053763441 | K7: ='Jesuit (numbers)'!M7/H7 -> 0.02688172 | L7: ='Jesuit (numbers)'!N7/H7 -> 0.14038232 | M7: 2068 | N7: ='Jesuit (numbers)'!Q7/M7 -> 0.064796905 | O7: ='Jesuit (numbers)'!R7/M7 -> 0.041586074 | P7: ='Jesuit (numbers)'!S7/M7 -> 0.025628627 | Q7: ='Jesuit (numbers)'!T7/M7 -> 0.13201161 | R7: 1969 | S7: ='Jesuit (numbers)'!W7/R7 -> 0.054850178 | T7: ='Jesuit (numbers)'!X7/R7 -> 0.044692737 | U7: ='Jesuit (numbers)'!Y7/R7 -> 0.026409345 | V7: ='Jesuit (numbers)'!Z7/R7 -> 0.12595226 | W7: 2134 | X7: ='Jesuit (numbers)'!AC7/W7 -> 0.050609185 | Y7: ='Jesuit (numbers)'!AD7/W7 -> 0.049671978 | Z7: ='Jesuit (numbers)'!AE7/W7 -> 0.03420806 | AA7: ='Jesuit (numbers)'!AF7/W7 -> 0.13448922 | AB7: 2179 | AC7: ='Jesuit (numbers)'!AI7/AB7 -> 0.051399725 | AD7: ='Jesuit (numbers)'!AJ7/AB7 -> 0.028453419 | AE7: ='Jesuit (numbers)'!AK7/AB7 -> 0.037631941 | AF7: ='Jesuit (numbers)'!AL7/AB7 -> 0.11748508
A8: 131496 | B8: Georgetown University | C8: 2074 | D8: ='Jesuit (numbers)'!E8/C8 -> 0.083413693 | E8: ='Jesuit (numbers)'!F8/C8 -> 0.028447445 | F8: ='Jesuit (numbers)'!G8/C8 -> 0.014946962 | G8: ='Jesuit (numbers)'!H8/C8 -> 0.1268081 | H8: 2115 | I8: ='Jesuit (numbers)'!K8/H8 -> 0.076595745 | J8: ='Jesuit (numbers)'!L8/H8 -> 0.030260047 | K8: ='Jesuit (numbers)'!M8/H8 -> 0.01749409 | L8: ='Jesuit (numbers)'!N8/H8 -> 0.12434988 | M8: 2173 | N8: ='Jesuit (numbers)'!Q8/M8 -> 0.075011505 | O8: ='Jesuit (numbers)'!R8/M8 -> 0.03221353 | P8: ='Jesuit (numbers)'!S8/M8 -> 0.017947538 | Q8: ='Jesuit (numbers)'!T8/M8 -> 0.12517257 | R8: 2275 | S8: ='Jesuit (numbers)'!W8/R8 -> 0.073406593 | T8: ='Jesuit (numbers)'!X8/R8 -> 0.026813187 | U8: ='Jesuit (numbers)'!Y8/R8 -> 0.017582418 | V8: ='Jesuit (numbers)'!Z8/R8 -> 0.1178022 | W8: 2306 | X8: ='Jesuit (numbers)'!AC8/W8 -> 0.065047702 | Y8: ='Jesuit (numbers)'!AD8/W8 -> 0.026452732 | Z8: ='Jesuit (numbers)'!AE8/W8 -> 0.017346054 | AA8: ='Jesuit (numbers)'!AF8/W8 -> 0.10884649 | AB8: 2201 | AC8: ='Jesuit (numbers)'!AI8/AB8 -> 0.055883689 | AD8: ='Jesuit (numbers)'!AJ8/AB8 -> 0.020445252 | AE8: ='Jesuit (numbers)'!AK8/AB8 -> 0.014084507 | AF8: ='Jesuit (numbers)'!AL8/AB8 -> 0.090413448
A9: 235316 | B9: Gonzaga University | C9: 824 | D9: ='Jesuit (numbers)'!E9/C9 -> 0.04368932 | E9: ='Jesuit (numbers)'!F9/C9 -> 0.058252427 | F9: ='Jesuit (numbers)'!G9/C9 -> 0.031553398 | G9: ='Jesuit (numbers)'!H9/C9 -> 0.13349515 | H9: 984 | I9: ='Jesuit (numbers)'!K9/H9 -> 0.036585366 | J9: ='Jesuit (numbers)'!L9/H9 -> 0.039634146 | K9: ='Jesuit (numbers)'!M9/H9 -> 0.022357724 | L9: ='Jesuit (numbers)'!N9/H9 -> 0.098577236 | M9: 1078 | N9: ='Jesuit (numbers)'!Q9/M9 -> 0.028756957 | O9: ='Jesuit (numbers)'!R9/M9 -> 0.055658627 | P9: ='Jesuit (numbers)'!S9/M9 -> 0.020408163 | Q9: ='Jesuit (numbers)'!T9/M9 -> 0.10482375 | R9: 1135 | S9: ='Jesuit (numbers)'!W9/R9 -> 0.034361233 | T9: ='Jesuit (numbers)'!X9/R9 -> 0.047577093 | U9: ='Jesuit (numbers)'!Y9/R9 -> 0.023788546 | V9: ='Jesuit (numbers)'!Z9/R9 -> 0.10572687 | W9: 1246 | X9: ='Jesuit (numbers)'!AC9/W9 -> 0.042536116 | Y9: ='Jesuit (numbers)'!AD9/W9 -> 0.034510433 | Z9: ='Jesuit (numbers)'!AE9/W9 -> 0.024077047 | AA9: ='Jesuit (numbers)'!AF9/W9 -> 0.1011236 | AB9: 1279 | AC9: ='Jesuit (numbers)'!AI9/AB9 -> 0.036747459 | AD9: ='Jesuit (numbers)'!AJ9/AB9 -> 0.023455825 | AE9: ='Jesuit (numbers)'!AK9/AB9 -> 0.011727912 | AF9: ='Jesuit (numbers)'!AL9/AB9 -> 0.071931196
A10: 203368 | B10: John Carroll University | C10: 797 | D10: ='Jesuit (numbers)'!E10/C10 -> 0.056461731 | E10: ='Jesuit (numbers)'!F10/C10 -> 0.038895859 | F10: ='Jesuit (numbers)'!G10/C10 -> 0.016311167 | G10: ='Jesuit (numbers)'!H10/C10 -> 0.11166876 | H10: 798 | I10: ='Jesuit (numbers)'!K10/H10 -> 0.047619048 | J10: ='Jesuit (numbers)'!L10/H10 -> 0.042606516 | K10: ='Jesuit (numbers)'!M10/H10 -> 0.013784461 | L10: ='Jesuit (numbers)'!N10/H10 -> 0.10401003 | M10: 729 | N10: ='Jesuit (numbers)'!Q10/M10 -> 0.0521262 | O10: ='Jesuit (numbers)'!R10/M10 -> 0.046639232 | P10: ='Jesuit (numbers)'!S10/M10 -> 0.023319616 | Q10: ='Jesuit (numbers)'!T10/M10 -> 0.12208505 | R10: 722 | S10: ='Jesuit (numbers)'!W10/R10 -> 0.04432133 | T10: ='Jesuit (numbers)'!X10/R10 -> 0.040166205 | U10: ='Jesuit (numbers)'!Y10/R10 -> 0.029085873 | V10: ='Jesuit (numbers)'!Z10/R10 -> 0.11357341 | W10: 724 | X10: ='Jesuit (numbers)'!AC10/W10 -> 0.053867403 | Y10: ='Jesuit (numbers)'!AD10/W10 -> 0.037292818 | Z10: ='Jesuit (numbers)'!AE10/W10 -> 0.027624309 | AA10: ='Jesuit (numbers)'!AF10/W10 -> 0.11878453 | AB10: 672 | AC10: ='Jesuit (numbers)'!AI10/AB10 -> 0.056547619 | AD10: ='Jesuit (numbers)'!AJ10/AB10 -> 0.03422619 | AE10: ='Jesuit (numbers)'!AK10/AB10 -> 0.020833333 | AF10: ='Jesuit (numbers)'!AL10/AB10 -> 0.11160714
A11: 192323 | B11: Le Moyne College | C11: 526 | D11: ='Jesuit (numbers)'!E11/C11 -> 0.12737643 | E11: ='Jesuit (numbers)'!F11/C11 -> 0.066539924 | F11: ='Jesuit (numbers)'!G11/C11 -> 0.017110266 | G11: ='Jesuit (numbers)'!H11/C11 -> 0.21102662 | H11: 621 | I11: ='Jesuit (numbers)'!K11/H11 -> 0.077294686 | J11: ='Jesuit (numbers)'!L11/H11 -> 0.064412238 | K11: ='Jesuit (numbers)'!M11/H11 -> 0.01610306 | L11: ='Jesuit (numbers)'!N11/H11 -> 0.15780998 | M11: 542 | N11: ='Jesuit (numbers)'!Q11/M11 -> 0.07195572 | O11: ='Jesuit (numbers)'!R11/M11 -> 0.055350554 | P11: ='Jesuit (numbers)'!S11/M11 -> 0.016605166 | Q11: ='Jesuit (numbers)'!T11/M11 -> 0.14391144 | R11: 590 | S11: ='Jesuit (numbers)'!W11/R11 -> 0.074576271 | T11: ='Jesuit (numbers)'!X11/R11 -> 0.045762712 | U11: ='Jesuit (numbers)'!Y11/R11 -> 0.010169492 | V11: ='Jesuit (numbers)'!Z11/R11 -> 0.13050847 | W11: 654 | X11: ='Jesuit (numbers)'!AC11/W11 -> 0.056574924 | Y11: ='Jesuit (numbers)'!AD11/W11 -> 0.05351682 | Z11: ='Jesuit (numbers)'!AE11/W11 -> 0.006116208 | AA11: ='Jesuit (numbers)'!AF11/W11 -> 0.11620795 | AB11: 638 | AC11: ='Jesuit (numbers)'!AI11/AB11 -> 0.076802508 | AD11: ='Jesuit (numbers)'!AJ11/AB11 -> 0.037617555 | AE11: ='Jesuit (numbers)'!AK11/AB11 -> 0.0094043887 | AF11: ='Jesuit (numbers)'!AL11/AB11 -> 0.12382445
A12: 117946 | B12: Loyola Marymount University | C12: 1364 | D12: ='Jesuit (numbers)'!E12/C12 -> 0.045454545 | E12: ='Jesuit (numbers)'!F12/C12 -> 0.026392962 | F12: ='Jesuit (numbers)'!G12/C12 -> 0.015395894 | G12: ='Jesuit (numbers)'!H12/C12 -> 0.087243402 | H12: 1336 | I12: ='Jesuit (numbers)'!K12/H12 -> 0.073353293 | J12: ='Jesuit (numbers)'!L12/H12 -> 0.032934132 | K12: ='Jesuit (numbers)'!M12/H12 -> 0.013473054 | L12: ='Jesuit (numbers)'!N12/H12 -> 0.11976048 | M12: 1504 | N12: ='Jesuit (numbers)'!Q12/M12 -> 0.054521277 | O12: ='Jesuit (numbers)'!R12/M12 -> 0.024601064 | P12: ='Jesuit (numbers)'!S12/M12 -> 0.01462766 | Q12: ='Jesuit (numbers)'!T12/M12 -> 0.09375 | R12: 1425 | S12: ='Jesuit (numbers)'!W12/R12 -> 0.052631579 | T12: ='Jesuit (numbers)'!X12/R12 -> 0.024561404 | U12: ='Jesuit (numbers)'!Y12/R12 -> 0.01122807 | V12: ='Jesuit (numbers)'!Z12/R12 -> 0.088421053 | W12: 1434 | X12: ='Jesuit (numbers)'!AC12/W12 -> 0.061366806 | Y12: ='Jesuit (numbers)'!AD12/W12 -> 0.032775453 | Z12: ='Jesuit (numbers)'!AE12/W12 -> 0.016039052 | AA12: ='Jesuit (numbers)'!AF12/W12 -> 0.11018131 | AB12: 1673 | AC12: ='Jesuit (numbers)'!AI12/AB12 -> 0.042438733 | AD12: ='Jesuit (numbers)'!AJ12/AB12 -> 0.025104603 | AE12: ='Jesuit (numbers)'!AK12/AB12 -> 0.012552301 | AF12: ='Jesuit (numbers)'!AL12/AB12 -> 0.080095637
A13: 146719 | B13: Loyola University Chicago | C13: 1303 | D13: ='Jesuit (numbers)'!E13/C13 -> 0.039140445 | E13: ='Jesuit (numbers)'!F13/C13 -> 0.018419033 | F13: ='Jesuit (numbers)'!G13/C13 -> 0.012279355 | G13: ='Jesuit (numbers)'!H13/C13 -> 0.069838833 | H13: 1952 | I13: ='Jesuit (numbers)'!K13/H13 -> 0.038422131 | J13: ='Jesuit (numbers)'!L13/H13 -> 0.03022541 | K13: ='Jesuit (numbers)'!M13/H13 -> 0.027151639 | L13: ='Jesuit (numbers)'!N13/H13 -> 0.09579918 | M13: 2391 | N13: ='Jesuit (numbers)'!Q13/M13 -> 0.041823505 | O13: ='Jesuit (numbers)'!R13/M13 -> 0.031367629 | P13: ='Jesuit (numbers)'!S13/M13 -> 0.018820577 | Q13: ='Jesuit (numbers)'!T13/M13 -> 0.092011711 | R13: 2679 | S13: ='Jesuit (numbers)'!W13/R13 -> 0.035834267 | T13: ='Jesuit (numbers)'!X13/R13 -> 0.029115342 | U13: ='Jesuit (numbers)'!Y13/R13 -> 0.01754386 | V13: ='Jesuit (numbers)'!Z13/R13 -> 0.082493468 | W13: 2589 | X13: ='Jesuit (numbers)'!AC13/W13 -> 0.042873696 | Y13: ='Jesuit (numbers)'!AD13/W13 -> 0.033989958 | Z13: ='Jesuit (numbers)'!AE13/W13 -> 0.013904983 | AA13: ='Jesuit (numbers)'!AF13/W13 -> 0.090768637 | AB13: 2708 | AC13: ='Jesuit (numbers)'!AI13/AB13 -> 0.035081241 | AD13: ='Jesuit (numbers)'!AJ13/AB13 -> 0.029172821 | AE13: ='Jesuit (numbers)'!AK13/AB13 -> 0.013293944 | AF13: ='Jesuit (numbers)'!AL13/AB13 -> 0.077548006
... A29: 206622 | B29: Xavier University | C29: 909 | D29: ='Jesuit (numbers)'!E29/C29 -> 0.03960396 | E29: ='Jesuit (numbers)'!F29/C29 -> 0.02420242 | F29: ='Jesuit (numbers)'!G29/C29 -> 0.0077007701 | G29: ='Jesuit (numbers)'!H29/C29 -> 0.071507151 | H29: 834 | I29: ='Jesuit (numbers)'!K29/H29 -> 0.041966427 | J29: ='Jesuit (numbers)'!L29/H29 -> 0.028776978 | K29: ='Jesuit (numbers)'!M29/H29 -> 0.016786571 | L29: ='Jesuit (numbers)'!N29/H29 -> 0.087529976 | M29: 1000 | N29: ='Jesuit (numbers)'!Q29/M29 -> 0.039 | O29: ='Jesuit (numbers)'!R29/M29 -> 0.025 | P29: ='Jesuit (numbers)'!S29/M29 -> 0.022 | Q29: ='Jesuit (numbers)'!T29/M29 -> 0.086 | R29: 936 | S29: ='Jesuit (numbers)'!W29/R29 -> 0.025641026 | T29: ='Jesuit (numbers)'!X29/R29 -> 0.032051282 | U29: ='Jesuit (numbers)'!Y29/R29 -> 0.013888889 | V29: ='Jesuit (numbers)'!Z29/R29 -> 0.071581197 | W29: 861 | X29: ='Jesuit (numbers)'!AC29/W29 -> 0.022067364 | Y29: ='Jesuit (numbers)'!AD29/W29 -> 0.034843206 | Z29: ='Jesuit (numbers)'!AE29/W29 -> 0.022067364 | AA29: ='Jesuit (numbers)'!AF29/W29 -> 0.078977933 | AB29: 983 | AC29: ='Jesuit (numbers)'!AI29/AB29 -> 0.02543235 | AD29: ='Jesuit (numbers)'!AJ29/AB29 -> 0.022380468 | AE29: ='Jesuit (numbers)'!AK29/AB29 -> 0.007121058 | AF29: ='Jesuit (numbers)'!AL29/AB29 -> 0.054933876
B30: TOTALS | C30: =SUM(C2:C29) -> 30061 | D30: 1638 | E30: 1004 | F30: 655 | G30: 3297 | H30: =SUM(H2:H29) -> 31072 | I30: 1622 | J30: 1156 | K30: 663 | L30: 3441 | M30: =SUM(M2:M29) -> 33233 | N30: 1631 | O30: 1155 | P30: 673 | Q30: 3459 | R30: =SUM(R2:R29) -> 33778 | S30: 1584 | T30: 1098 | U30: 686 | V30: 3368 | W30: =SUM(W2:W29) -> 34592 | X30: 1551 | Y30: 1025 | Z30: 667 | AA30: 3243 | AB30: =SUM(AB2:AB29) -> 35308 | AC30: 1478 | AD30: 909 | AE30: 576 | AF30: 2963
B31: Percentages | D31: 0.054489205 | E31: 0.033398756 | F31: 0.021789029 | G31: 0.10967699 | I31: 0.052201339 | J31: 0.037203913 | K31: 0.021337539 | L31: 0.11074279 | N31: 0.049077724 | O31: 0.034754611 | P31: 0.020250955 | Q31: 0.10408329 | S31: 0.046894428 | T31: 0.032506365 | U31: 0.020309077 | V31: 0.09970987 | X31: 0.044836957 | Y31: 0.029631129 | Z31: 0.019281915 | AA31: 0.09375 | AC31: 0.041860202 | AD31: 0.025744874 | AE31: 0.016313583 | AF31: 0.083918659

Sheet Jesuit (% of 1st only)
A1: UnitID | B1: Institution Name | C1: TOTAL (2004, 1st only) | D1: English (2004) | E1: History (2004) | F1: Philosophy (2004) | G1: HUMANITIES (2004) | H1: TOTAL (2006, 1st only) | I1: English (2006) | J1: History (2006) | K1: Philosophy (2006) | L1: HUMANITIES (2006) | M1: TOTAL (2008, 1st only) | N1: English (2008) | O1: History (2008) | P1: Philosophy (2008) | Q1: HUMANITIES (2008) | R1: TOTAL (2010, 1st only) | S1: English (2010) | T1: History (2010) | U1: Philosophy (2010) | V1: HUMANITIES (2010) | W1: TOTAL (2012, 1st only) | X1: English (2012) | Y1: History (2012) | Z1: Philosophy (2012) | AA1: HUMANITIES (2012) | AB1: TOTAL (2014, 1st only) | AC1: English (2014) | AD1: History (2014) | AE1: Philosophy (2014) | AF1: HUMANITIES (2014) | AG1: Humanities Change
A2: 164924 | B2: Boston College | C2: 2223 | D2: ='Jesuit (numbers)'!E2/C2 -> 0.11650922 | E2: ='Jesuit (numbers)'!F2/C2 -> 0.082321188 | F2: ='Jesuit (numbers)'!G2/C2 -> 0.046333783 | G2: ='Jesuit (numbers)'!H2/C2 -> 0.24516419 | H2: 2229 | I2: ='Jesuit (numbers)'!K2/H2 -> 0.11081202 | J2: ='Jesuit (numbers)'!L2/H2 -> 0.092866756 | K2: ='Jesuit (numbers)'!M2/H2 -> 0.048003589 | L2: ='Jesuit (numbers)'!N2/H2 -> 0.25168237 | M2: 2319 | N2: ='Jesuit (numbers)'!Q2/M2 -> 0.10564899 | O2: ='Jesuit (numbers)'!R2/M2 -> 0.08495041 | P2: ='Jesuit (numbers)'!S2/M2 -> 0.04829668 | Q2: ='Jesuit (numbers)'!T2/M2 -> 0.23889608 | R2: 2366 | S2: ='Jesuit (numbers)'!W2/R2 -> 0.087912088 | T2: ='Jesuit (numbers)'!X2/R2 -> 0.081994928 | U2: ='Jesuit (numbers)'!Y2/R2 -> 0.057058326 | V2: ='Jesuit (numbers)'!Z2/R2 -> 0.22696534 | W2: 2327 | X2: ='Jesuit (numbers)'!AC2/W2 -> 0.086807048 | Y2: ='Jesuit (numbers)'!AD2/W2 -> 0.063601203 | Z2: ='Jesuit (numbers)'!AE2/W2 -> 0.054576708 | AA2: ='Jesuit (numbers)'!AF2/W2 -> 0.20498496 | AB2: 2341 | AC2: ='Jesuit (numbers)'!AI2/AB2 -> 0.088423751 | AD2: ='Jesuit (numbers)'!AJ2/AB2 -> 0.05425032 | AE2: ='Jesuit (numbers)'!AK2/AB2 -> 0.041435284 | AF2: ='Jesuit (numbers)'!AL2/AB2 -> 0.18410935 | AG2: =AF2-G2 -> -0.061054838
A3: 189705 | B3: Canisius College | C3: 731 | D3: ='Jesuit (numbers)'!E3/C3 -> 0.034199726 | E3: ='Jesuit (numbers)'!F3/C3 -> 0.032831737 | F3: ='Jesuit (numbers)'!G3/C3 -> 0.013679891 | G3: ='Jesuit (numbers)'!H3/C3 -> 0.080711354 | H3: 714 | I3: ='Jesuit (numbers)'!K3/H3 -> 0.035014006 | J3: ='Jesuit (numbers)'!L3/H3 -> 0.039215686 | K3: ='Jesuit (numbers)'!M3/H3 -> 0.0084033613 | L3: ='Jesuit (numbers)'!N3/H3 -> 0.082633053 | M3: 811 | N3: ='Jesuit (numbers)'!Q3/M3 -> 0.040690506 | O3: ='Jesuit (numbers)'!R3/M3 -> 0.051787916 | P3: ='Jesuit (numbers)'!S3/M3 -> 0.012330456 | Q3: ='Jesuit (numbers)'!T3/M3 -> 0.10480888 | R3: 714 | S3: ='Jesuit (numbers)'!W3/R3 -> 0.043417367 | T3: ='Jesuit (numbers)'!X3/R3 -> 0.051820728 | U3: ='Jesuit (numbers)'!Y3/R3 -> 0.0084033613 | V3: ='Jesuit (numbers)'!Z3/R3 -> 0.10364146 | W3: 738 | X3: ='Jesuit (numbers)'!AC3/W3 -> 0.047425474 | Y3: ='Jesuit (numbers)'!AD3/W3 -> 0.043360434 | Z3: ='Jesuit (numbers)'!AE3/W3 -> 0.0081300813 | AA3: ='Jesuit (numbers)'!AF3/W3 -> 0.098915989 | AB3: 660 | AC3: ='Jesuit (numbers)'!AI3/AB3 -> 0.046969697 | AD3: ='Jesuit (numbers)'!AJ3/AB3 -> 0.040909091 | AE3: ='Jesuit (numbers)'!AK3/AB3 -> 0.0075757576 | AF3: ='Jesuit (numbers)'!AL3/AB3 -> 0.095454545 | AG3: =AF3-G3 -> 0.014743191
A4: 166124 | B4: College of the Holy Cross | C4: 675 | D4: ='Jesuit (numbers)'!E4/C4 -> 0.1362963 | E4: ='Jesuit (numbers)'!F4/C4 -> 0.11703704 | F4: ='Jesuit (numbers)'!G4/C4 -> 0.088888889 | G4: ='Jesuit (numbers)'!H4/C4 -> 0.34222222 | H4: 700 | I4: ='Jesuit (numbers)'!K4/H4 -> 0.11714286 | J4: ='Jesuit (numbers)'!L4/H4 -> 0.12 | K4: ='Jesuit (numbers)'!M4/H4 -> 0.045714286 | L4: ='Jesuit (numbers)'!N4/H4 -> 0.28285714 | M4: 670 | N4: ='Jesuit (numbers)'!Q4/M4 -> 0.15074627 | O4: ='Jesuit (numbers)'!R4/M4 -> 0.11791045 | P4: ='Jesuit (numbers)'!S4/M4 -> 0.052238806 | Q4: ='Jesuit (numbers)'!T4/M4 -> 0.32089552 | R4: 716 | S4: ='Jesuit (numbers)'!W4/R4 -> 0.14106145 | T4: ='Jesuit (numbers)'!X4/R4 -> 0.092178771 | U4: ='Jesuit (numbers)'!Y4/R4 -> 0.037709497 | V4: ='Jesuit (numbers)'!Z4/R4 -> 0.27094972 | W4: 692 | X4: ='Jesuit (numbers)'!AC4/W4 -> 0.11705202 | Y4: ='Jesuit (numbers)'!AD4/W4 -> 0.082369942 | Z4: ='Jesuit (numbers)'!AE4/W4 -> 0.036127168 | AA4: ='Jesuit (numbers)'!AF4/W4 -> 0.23554913 | AB4: 679 | AC4: ='Jesuit (numbers)'!AI4/AB4 -> 0.12371134 | AD4: ='Jesuit (numbers)'!AJ4/AB4 -> 0.11192931 | AE4: ='Jesuit (numbers)'!AK4/AB4 -> 0.04712813 | AF4: ='Jesuit (numbers)'!AL4/AB4 -> 0.28276878 | AG4: =AF4-G4 -> -0.059453445
A5: 181002 | B5: Creighton University | C5: 814 | D5: ='Jesuit (numbers)'!E5/C5 -> 0.042997543 | E5: ='Jesuit (numbers)'!F5/C5 -> 0.0098280098 | F5: ='Jesuit (numbers)'!G5/C5 -> 0.018427518 | G5: ='Jesuit (numbers)'!H5/C5 -> 0.071253071 | H5: 833 | I5: ='Jesuit (numbers)'!K5/H5 -> 0.038415366 | J5: ='Jesuit (numbers)'!L5/H5 -> 0.022809124 | K5: ='Jesuit (numbers)'!M5/H5 -> 0.021608643 | L5: ='Jesuit (numbers)'!N5/H5 -> 0.082833133 | M5: 887 | N5: ='Jesuit (numbers)'!Q5/M5 -> 0.037204059 | O5: ='Jesuit (numbers)'!R5/M5 -> 0.025930101 | P5: ='Jesuit (numbers)'!S5/M5 -> 0.030439684 | Q5: ='Jesuit (numbers)'!T5/M5 -> 0.093573844 | R5: 906 | S5: ='Jesuit (numbers)'!W5/R5 -> 0.028697572 | T5: ='Jesuit (numbers)'!X5/R5 -> 0.017660044 | U5: ='Jesuit (numbers)'!Y5/R5 -> 0.020971302 | V5: ='Jesuit (numbers)'!Z5/R5 -> 0.067328918 | W5: 1029 | X5: ='Jesuit (numbers)'!AC5/W5 -> 0.036929057 | Y5: ='Jesuit (numbers)'!AD5/W5 -> 0.012633625 | Z5: ='Jesuit (numbers)'!AE5/W5 -> 0.016520894 | AA5: ='Jesuit (numbers)'!AF5/W5 -> 0.066083576 | AB5: 993 | AC5: ='Jesuit (numbers)'!AI5/AB5 -> 0.024169184 | AD5: ='Jesuit (numbers)'!AJ5/AB5 -> 0.022155086 | AE5: ='Jesuit (numbers)'!AK5/AB5 -> 0.01611279 | AF5: ='Jesuit (numbers)'!AL5/AB5 -> 0.062437059 | AG5: =AF5-G5 -> -0.0088160118
A6: 129242 | B6: Fairfield University | C6: 996 | D6: ='Jesuit (numbers)'!E6/C6 -> 0.10240964 | E6: ='Jesuit (numbers)'!F6/C6 -> 0.021084337 | F6: ='Jesuit (numbers)'!G6/C6 -> 0.012048193 | G6: ='Jesuit (numbers)'!H6/C6 -> 0.13554217 | H6: 824 | I6: ='Jesuit (numbers)'!K6/H6 -> 0.094660194 | J6: ='Jesuit (numbers)'!L6/H6 -> 0.030339806 | K6: ='Jesuit (numbers)'!M6/H6 -> 0.0072815534 | L6: ='Jesuit (numbers)'!N6/H6 -> 0.13228155 | M6: 886 | N6: ='Jesuit (numbers)'!Q6/M6 -> 0.065462754 | O6: ='Jesuit (numbers)'!R6/M6 -> 0.022573363 | P6: ='Jesuit (numbers)'!S6/M6 -> 0.014672686 | Q6: ='Jesuit (numbers)'!T6/M6 -> 0.1027088 | R6: 922 | S6: ='Jesuit (numbers)'!W6/R6 -> 0.077006508 | T6: ='Jesuit (numbers)'!X6/R6 -> 0.023861171 | U6: ='Jesuit (numbers)'!Y6/R6 -> 0.0097613883 | V6: ='Jesuit (numbers)'!Z6/R6 -> 0.11062907 | W6: 901 | X6: ='Jesuit (numbers)'!AC6/W6 -> 0.084350721 | Y6: ='Jesuit (numbers)'!AD6/W6 -> 0.012208657 | Z6: ='Jesuit (numbers)'!AE6/W6 -> 0.011098779 | AA6: ='Jesuit (numbers)'!AF6/W6 -> 0.10765816 | AB6: 899 | AC6: ='Jesuit (numbers)'!AI6/AB6 -> 0.074527253 | AD6: ='Jesuit (numbers)'!AJ6/AB6 -> 0.0189099 | AE6: ='Jesuit (numbers)'!AK6/AB6 -> 0.0066740823 | AF6: ='Jesuit (numbers)'!AL6/AB6 -> 0.10011123 | AG6: =AF6-G6 -> -0.035430934
A7: 191241 | B7: Fordham University | C7: 1604 | D7: ='Jesuit (numbers)'!E7/C7 -> 0.077930175 | E7: ='Jesuit (numbers)'!F7/C7 -> 0.058603491 | F7: ='Jesuit (numbers)'!G7/C7 -> 0.034912718 | G7: ='Jesuit (numbers)'!H7/C7 -> 0.17144638 | H7: 1674 | I7: ='Jesuit (numbers)'!K7/H7 -> 0.059737157 | J7: ='Jesuit (numbers)'!L7/H7 -> 0.053763441 | K7: ='Jesuit (numbers)'!M7/H7 -> 0.02688172 | L7: ='Jesuit (numbers)'!N7/H7 -> 0.14038232 | M7: 1865 | N7: ='Jesuit (numbers)'!Q7/M7 -> 0.071849866 | O7: ='Jesuit (numbers)'!R7/M7 -> 0.046112601 | P7: ='Jesuit (numbers)'!S7/M7 -> 0.028418231 | Q7: ='Jesuit (numbers)'!T7/M7 -> 0.1463807 | R7: 1805 | S7: ='Jesuit (numbers)'!W7/R7 -> 0.059833795 | T7: ='Jesuit (numbers)'!X7/R7 -> 0.048753463 | U7: ='Jesuit (numbers)'!Y7/R7 -> 0.028808864 | V7: ='Jesuit (numbers)'!Z7/R7 -> 0.13739612 | W7: 1919 | X7: ='Jesuit (numbers)'!AC7/W7 -> 0.056279312 | Y7: ='Jesuit (numbers)'!AD7/W7 -> 0.055237103 | Z7: ='Jesuit (numbers)'!AE7/W7 -> 0.038040646 | AA7: ='Jesuit (numbers)'!AF7/W7 -> 0.14955706 | AB7: 1938 | AC7: ='Jesuit (numbers)'!AI7/AB7 -> 0.057791538 | AD7: ='Jesuit (numbers)'!AJ7/AB7 -> 0.031991744 | AE7: ='Jesuit (numbers)'!AK7/AB7 -> 0.042311662 | AF7: ='Jesuit (numbers)'!AL7/AB7 -> 0.13209494 | AG7: =AF7-G7 -> -0.039351441
A8: 131496 | B8: Georgetown University | C8: 1670 | D8: ='Jesuit (numbers)'!E8/C8 -> 0.10359281 | E8: ='Jesuit (numbers)'!F8/C8 -> 0.035329341 | F8: ='Jesuit (numbers)'!G8/C8 -> 0.018562874 | G8: ='Jesuit (numbers)'!H8/C8 -> 0.15748503 | H8: 1705 | I8: ='Jesuit (numbers)'!K8/H8 -> 0.095014663 | J8: ='Jesuit (numbers)'!L8/H8 -> 0.037536657 | K8: ='Jesuit (numbers)'!M8/H8 -> 0.02170088 | L8: ='Jesuit (numbers)'!N8/H8 -> 0.1542522 | M8: 1730 | N8: ='Jesuit (numbers)'!Q8/M8 -> 0.094219653 | O8: ='Jesuit (numbers)'!R8/M8 -> 0.040462428 | P8: ='Jesuit (numbers)'!S8/M8 -> 0.022543353 | Q8: ='Jesuit (numbers)'!T8/M8 -> 0.15722543 | R8: 1834 | S8: ='Jesuit (numbers)'!W8/R8 -> 0.091057797 | T8: ='Jesuit (numbers)'!X8/R8 -> 0.033260632 | U8: ='Jesuit (numbers)'!Y8/R8 -> 0.021810251 | V8: ='Jesuit (numbers)'!Z8/R8 -> 0.14612868 | W8: 1871 | X8: ='Jesuit (numbers)'!AC8/W8 -> 0.080171032 | Y8: ='Jesuit (numbers)'!AD8/W8 -> 0.032602886 | Z8: ='Jesuit (numbers)'!AE8/W8 -> 0.021378942 | AA8: ='Jesuit (numbers)'!AF8/W8 -> 0.13415286 | AB8: 1794 | AC8: ='Jesuit (numbers)'!AI8/AB8 -> 0.068561873 | AD8: ='Jesuit (numbers)'!AJ8/AB8 -> 0.025083612 | AE8: ='Jesuit (numbers)'!AK8/AB8 -> 0.017279822 | AF8: ='Jesuit (numbers)'!AL8/AB8 -> 0.11092531 | AG8: =AF8-G8 -> -0.046559723
A9: 235316 | B9: Gonzaga University | C9: 766 | D9: ='Jesuit (numbers)'!E9/C9 -> 0.046997389 | E9: ='Jesuit (numbers)'!F9/C9 -> 0.062663185 | F9: ='Jesuit (numbers)'!G9/C9 -> 0.033942559 | G9: ='Jesuit (numbers)'!H9/C9 -> 0.14360313 | H9: 894 | I9: ='Jesuit (numbers)'!K9/H9 -> 0.040268456 | J9: ='Jesuit (numbers)'!L9/H9 -> 0.043624161 | K9: ='Jesuit (numbers)'!M9/H9 -> 0.024608501 | L9: ='Jesuit (numbers)'!N9/H9 -> 0.10850112 | M9: 994 | N9: ='Jesuit (numbers)'!Q9/M9 -> 0.031187123 | O9: ='Jesuit (numbers)'!R9/M9 -> 0.060362173 | P9: ='Jesuit (numbers)'!S9/M9 -> 0.022132797 | Q9: ='Jesuit (numbers)'!T9/M9 -> 0.11368209 | R9: 1025 | S9: ='Jesuit (numbers)'!W9/R9 -> 0.03804878 | T9: ='Jesuit (numbers)'!X9/R9 -> 0.052682927 | U9: ='Jesuit (numbers)'!Y9/R9 -> 0.026341463 | V9: ='Jesuit (numbers)'!Z9/R9 -> 0.11707317 | W9: 1109 | X9: ='Jesuit (numbers)'!AC9/W9 -> 0.047790803 | Y9: ='Jesuit (numbers)'!AD9/W9 -> 0.03877367 | Z9: ='Jesuit (numbers)'!AE9/W9 -> 0.027051398 | AA9: ='Jesuit (numbers)'!AF9/W9 -> 0.11361587 | AB9: 1144 | AC9: ='Jesuit (numbers)'!AI9/AB9 -> 0.041083916 | AD9: ='Jesuit (numbers)'!AJ9/AB9 -> 0.026223776 | AE9: ='Jesuit (numbers)'!AK9/AB9 -> 0.013111888 | AF9: ='Jesuit (numbers)'!AL9/AB9 -> 0.08041958 | AG9: =AF9-G9 -> -0.063183553
A10: 203368 | B10: John Carroll University | C10: 734 | D10: ='Jesuit (numbers)'!E10/C10 -> 0.061307902 | E10: ='Jesuit (numbers)'!F10/C10 -> 0.042234332 | F10: ='Jesuit (numbers)'!G10/C10 -> 0.017711172 | G10: ='Jesuit (numbers)'!H10/C10 -> 0.12125341 | H10: 757 | I10: ='Jesuit (numbers)'!K10/H10 -> 0.050198151 | J10: ='Jesuit (numbers)'!L10/H10 -> 0.044914135 | K10: ='Jesuit (numbers)'!M10/H10 -> 0.014531044 | L10: ='Jesuit (numbers)'!N10/H10 -> 0.10964333 | M10: 677 | N10: ='Jesuit (numbers)'!Q10/M10 -> 0.056129985 | O10: ='Jesuit (numbers)'!R10/M10 -> 0.050221566 | P10: ='Jesuit (numbers)'!S10/M10 -> 0.025110783 | Q10: ='Jesuit (numbers)'!T10/M10 -> 0.13146233 | R10: 658 | S10: ='Jesuit (numbers)'!W10/R10 -> 0.048632219 | T10: ='Jesuit (numbers)'!X10/R10 -> 0.044072948 | U10: ='Jesuit (numbers)'!Y10/R10 -> 0.031914894 | V10: ='Jesuit (numbers)'!Z10/R10 -> 0.12462006 | W10: 661 | X10: ='Jesuit (numbers)'!AC10/W10 -> 0.059001513 | Y10: ='Jesuit (numbers)'!AD10/W10 -> 0.040847201 | Z10: ='Jesuit (numbers)'!AE10/W10 -> 0.030257186 | AA10: ='Jesuit (numbers)'!AF10/W10 -> 0.1301059 | AB10: 627 | AC10: ='Jesuit (numbers)'!AI10/AB10 -> 0.060606061 | AD10: ='Jesuit (numbers)'!AJ10/AB10 -> 0.036682616 | AE10: ='Jesuit (numbers)'!AK10/AB10 -> 0.022328549 | AF10: ='Jesuit (numbers)'!AL10/AB10 -> 0.11961722 | AG10: =AF10-G10 -> -0.0016361811
A11: 192323 | B11: Le Moyne College | C11: 510 | D11: ='Jesuit (numbers)'!E11/C11 -> 0.13137255 | E11: ='Jesuit (numbers)'!F11/C11 -> 0.068627451 | F11: ='Jesuit (numbers)'!G11/C11 -> 0.017647059 | G11: ='Jesuit (numbers)'!H11/C11 -> 0.21764706 | H11: 605 | I11: ='Jesuit (numbers)'!K11/H11 -> 0.079338843 | J11: ='Jesuit (numbers)'!L11/H11 -> 0.066115702 | K11: ='Jesuit (numbers)'!M11/H11 -> 0.016528926 | L11: ='Jesuit (numbers)'!N11/H11 -> 0.16198347 | M11: 526 | N11: ='Jesuit (numbers)'!Q11/M11 -> 0.074144487 | O11: ='Jesuit (numbers)'!R11/M11 -> 0.057034221 | P11: ='Jesuit (numbers)'!S11/M11 -> 0.017110266 | Q11: ='Jesuit (numbers)'!T11/M11 -> 0.14828897 | R11: 551 | S11: ='Jesuit (numbers)'!W11/R11 -> 0.079854809 | T11: ='Jesuit (numbers)'!X11/R11 -> 0.049001815 | U11: ='Jesuit (numbers)'!Y11/R11 -> 0.010889292 | V11: ='Jesuit (numbers)'!Z11/R11 -> 0.13974592 | W11: 599 | X11: ='Jesuit (numbers)'!AC11/W11 -> 0.061769616 | Y11: ='Jesuit (numbers)'!AD11/W11 -> 0.058430718 | Z11: ='Jesuit (numbers)'!AE11/W11 -> 0.0066777963 | AA11: ='Jesuit (numbers)'!AF11/W11 -> 0.12687813 | AB11: 592 | AC11: ='Jesuit (numbers)'!AI11/AB11 -> 0.08277027 | AD11: ='Jesuit (numbers)'!AJ11/AB11 -> 0.040540541 | AE11: ='Jesuit (numbers)'!AK11/AB11 -> 0.010135135 | AF11: ='Jesuit (numbers)'!AL11/AB11 -> 0.13344595 | AG11: =AF11-G11 -> -0.084201113
A12: 117946 | B12: Loyola Marymount University | C12: 1306 | D12: ='Jesuit (numbers)'!E12/C12 -> 0.047473201 | E12: ='Jesuit (numbers)'!F12/C12 -> 0.027565084 | F12: ='Jesuit (numbers)'!G12/C12 -> 0.016079632 | G12: ='Jesuit (numbers)'!H12/C12 -> 0.091117917 | H12: 1270 | I12: ='Jesuit (numbers)'!K12/H12 -> 0.077165354 | J12: ='Jesuit (numbers)'!L12/H12 -> 0.034645669 | K12: ='Jesuit (numbers)'!M12/H12 -> 0.014173228 | L12: ='Jesuit (numbers)'!N12/H12 -> 0.12598425 | M12: 1417 | N12: ='Jesuit (numbers)'!Q12/M12 -> 0.057868737 | O12: ='Jesuit (numbers)'!R12/M12 -> 0.026111503 | P12: ='Jesuit (numbers)'!S12/M12 -> 0.015525759 | Q12: ='Jesuit (numbers)'!T12/M12 -> 0.099505999 | R12: 1350 | S12: ='Jesuit (numbers)'!W12/R12 -> 0.055555556 | T12: ='Jesuit (numbers)'!X12/R12 -> 0.025925926 | U12: ='Jesuit (numbers)'!Y12/R12 -> 0.011851852 | V12: ='Jesuit (numbers)'!Z12/R12 -> 0.093333333 | W12: 1369 | X12: ='Jesuit (numbers)'!AC12/W12 -> 0.064280497 | Y12: ='Jesuit (numbers)'!AD12/W12 -> 0.034331629 | Z12: ='Jesuit (numbers)'!AE12/W12 -> 0.016800584 | AA12: ='Jesuit (numbers)'!AF12/W12 -> 0.11541271 | AB12: 1579 | AC12: ='Jesuit (numbers)'!AI12/AB12 -> 0.044965168 | AD12: ='Jesuit (numbers)'!AJ12/AB12 -> 0.026599113 | AE12: ='Jesuit (numbers)'!AK12/AB12 -> 0.013299557 | AF12: ='Jesuit (numbers)'!AL12/AB12 -> 0.084863838 | AG12: =AF12-G12 -> -0.0062540794
A13: 146719 | B13: Loyola University Chicago | C13: 1196 | D13: ='Jesuit (numbers)'!E13/C13 -> 0.04264214 | E13: ='Jesuit (numbers)'!F13/C13 -> 0.02006689 | F13: ='Jesuit (numbers)'!G13/C13 -> 0.013377926 | G13: ='Jesuit (numbers)'!H13/C13 -> 0.076086957 | H13: 1722 | I13: ='Jesuit (numbers)'!K13/H13 -> 0.043554007 | J13: ='Jesuit (numbers)'!L13/H13 -> 0.034262485 | K13: ='Jesuit (numbers)'!M13/H13 -> 0.030778165 | L13: ='Jesuit (numbers)'!N13/H13 -> 0.10859466 | M13: 2089 | N13: ='Jesuit (numbers)'!Q13/M13 -> 0.047869794 | O13: ='Jesuit (numbers)'!R13/M13 -> 0.035902346 | P13: ='Jesuit (numbers)'!S13/M13 -> 0.021541407 | Q13: ='Jesuit (numbers)'!T13/M13 -> 0.10531355 | R13: 2149 | S13: ='Jesuit (numbers)'!W13/R13 -> 0.04467194 | T13: ='Jesuit (numbers)'!X13/R13 -> 0.036295952 | U13: ='Jesuit (numbers)'!Y13/R13 -> 0.021870638 | V13: ='Jesuit (numbers)'!Z13/R13 -> 0.10283853 | W13: 2396 | X13: ='Jesuit (numbers)'!AC13/W13 -> 0.046327212 | Y13: ='Jesuit (numbers)'!AD13/W13 -> 0.03672788 | Z13: ='Jesuit (numbers)'!AE13/W13 -> 0.015025042 | AA13: ='Jesuit (numbers)'!AF13/W13 -> 0.098080134 | AB13: 2287 | AC13: ='Jesuit (numbers)'!AI13/AB13 -> 0.041539134 | AD13: ='Jesuit (numbers)'!AJ13/AB13 -> 0.03454307 | AE13: ='Jesuit (numbers)'!AK13/AB13 -> 0.015741146 | AF13: ='Jesuit (numbers)'!AL13/AB13 -> 0.091823349 | AG13: =AF13-G13 -> 0.015736393
... A29: 206622 | B29: Xavier University | C29: 834 | D29: ='Jesuit (numbers)'!E29/C29 -> 0.043165468 | E29: ='Jesuit (numbers)'!F29/C29 -> 0.026378897 | F29: ='Jesuit (numbers)'!G29/C29 -> 0.0083932854 | G29: ='Jesuit (numbers)'!H29/C29 -> 0.07793765 | H29: 834 | I29: ='Jesuit (numbers)'!K29/H29 -> 0.041966427 | J29: ='Jesuit (numbers)'!L29/H29 -> 0.028776978 | K29: ='Jesuit (numbers)'!M29/H29 -> 0.016786571 | L29: ='Jesuit (numbers)'!N29/H29 -> 0.087529976 | M29: 930 | N29: ='Jesuit (numbers)'!Q29/M29 -> 0.041935484 | O29: ='Jesuit (numbers)'!R29/M29 -> 0.02688172 | P29: ='Jesuit (numbers)'!S29/M29 -> 0.023655914 | Q29: ='Jesuit (numbers)'!T29/M29 -> 0.092473118 | R29: 861 | S29: ='Jesuit (numbers)'!W29/R29 -> 0.027874564 | T29: ='Jesuit (numbers)'!X29/R29 -> 0.034843206 | U29: ='Jesuit (numbers)'!Y29/R29 -> 0.015098722 | V29: ='Jesuit (numbers)'!Z29/R29 -> 0.077816492 | W29: 804 | X29: ='Jesuit (numbers)'!AC29/W29 -> 0.023631841 | Y29: ='Jesuit (numbers)'!AD29/W29 -> 0.037313433 | Z29: ='Jesuit (numbers)'!AE29/W29 -> 0.023631841 | AA29: ='Jesuit (numbers)'!AF29/W29 -> 0.084577114 | AB29: 907 | AC29: ='Jesuit (numbers)'!AI29/AB29 -> 0.027563396 | AD29: ='Jesuit (numbers)'!AJ29/AB29 -> 0.024255788 | AE29: ='Jesuit (numbers)'!AK29/AB29 -> 0.0077177508 | AF29: ='Jesuit (numbers)'!AL29/AB29 -> 0.059536935 | AG29: =AF29-G29 -> -0.018400715
B30: TOTALS | C30: =SUM(C2:C29) -> 27012 | D30: 1638 | E30: 1004 | F30: 655 | G30: 3297 | H30: =SUM(H2:H29) -> 27994 | I30: 1622 | J30: 1156 | K30: 663 | L30: 3441 | M30: =SUM(M2:M29) -> 29512 | N30: 1631 | O30: 1155 | P30: 673 | Q30: 3459 | R30: =SUM(R2:R29) -> 29630 | S30: 1584 | T30: 1098 | U30: 686 | V30: 3368 | W30: =SUM(W2:W29) -> 30725 | X30: 1551 | Y30: 1025 | Z30: 667 | AA30: 3243 | AB30: =SUM(AB2:AB29) -> 31103 | AC30: 1478 | AD30: 909 | AE30: 576 | AF30: 2963
B31: Percentages | D31: 0.060639716 | E31: 0.037168666 | F31: 0.024248482 | G31: 0.12205686 | I31: 0.057940987 | J31: 0.041294563 | K31: 0.023683646 | L31: 0.1229192 | N31: 0.055265655 | O31: 0.039136622 | P31: 0.022804283 | Q31: 0.11720656 | S31: 0.053459332 | T31: 0.037057037 | U31: 0.023152211 | V31: 0.11366858 | X31: 0.050480065 | Y31: 0.033360456 | Z31: 0.021708706 | AA31: 0.10554923 | AC31: 0.047519532 | AD31: 0.029225477 | AE31: 0.018519114 | AF31: 0.095264122 | AG31: =AF31-G31 -> -0.026792741

Sheet CCCU (raw)
A1: UnitID | B1: Institution Name | C1: Grand total (C2004_A First major Bachelor's degree English language and literature/letters.) | D1: Grand total (C2004_A Second major Bachelor's degree English language and literature/letters.) | E1: Grand total (C2006_A First major Bachelor's degree English language and literature/letters.) | F1: Grand total (C2006_A Second major Bachelor's degree English language and literature/letters.) | G1: Grand total (C2008_A First major Bachelor's degree English language and literature/letters.) | H1: Grand total (C2008_A Second major Bachelor's degree English language and literature/letters.) | I1: Grand total (C2010_A First major Bachelor's degree English Language and Literature/Letters) | J1: Grand total (C2010_A Second major Bachelor's degree English Language and Literature/Letters) | K1: Grand total (C2012_A First major Bachelor's degree English Language and Literature/Letters) | L1: Grand total (C2012_A Second major Bachelor's degree English Language and Literature/Letters) | M1: Grand total (C2014_A First major Bachelor's degree English Language and Literature/Letters) | N1: Grand total (C2014_A Second major Bachelor's degree English Language and Literature/Letters) | O1: Grand total (C2004_A First major Bachelor's degree History) | P1: Grand total (C2004_A Second major Bachelor's degree History) | Q1: Grand total (C2006_A First major Bachelor's degree History) | R1: Grand total (C2006_A Second major Bachelor's degree History) | S1: Grand total (C2008_A First major Bachelor's degree History) | T1: Grand total (C2008_A Second major Bachelor's degree History) | U1: Grand total (C2010_A First major Bachelor's degree History) | V1: Grand total (C2010_A Second major Bachelor's degree History) | W1: Grand total (C2012_A First major Bachelor's degree History) | X1: Grand total (C2012_A Second major Bachelor's degree History) | Y1: Grand total (C2014_A First major Bachelor's degree History) | Z1: Grand total (C2014_A Second major Bachelor's degree History) | AA1: Grand total (C2003_A First major Bachelor's degree Nursing) | AB1: Grand total (C2004_A First major Bachelor's degree Philosophy and religious studies.) | AC1: Grand total (C2004_A Second major Bachelor's degree Philosophy and religious studies.) | AD1: Grand total (C2006_A First major Bachelor's degree Philosophy and religious studies.) | AE1: Grand total (C2006_A Second major Bachelor's degree Philosophy and religious studies.) | AF1: Grand total (C2008_A First major Bachelor's degree Philosophy and religious studies.) | AG1: Grand total (C2008_A Second major Bachelor's degree Philosophy and religious studies.) | AH1: Grand total (C2010_A First major Bachelor's degree Philosophy and Religious Studies) | AI1: Grand total (C2010_A Second major Bachelor's degree Philosophy and Religious Studies) | AJ1: Grand total (C2012_A First major Bachelor's degree Philosophy and Religious Studies) | AK1: Grand total (C2012_A Second major Bachelor's degree Philosophy and Religious Studies) | AL1: Grand total (C2014_A First major Bachelor's degree Philosophy and Religious Studies) | AM1: Grand total (C2014_A Second major Bachelor's degree Philosophy and Religious Studies) | AN1: Grand total (C2004_A First major Bachelor's degree Grand total) | AO1: Grand total (C2004_A Second major Bachelor's degree Grand total) | AP1: Grand total (C2006_A First major Bachelor's degree Grand total) | AQ1: Grand total (C2006_A Second major Bachelor's degree Grand total) | AR1: Grand total (C2008_A First major Bachelor's degree Grand total) | AS1: Grand total (C2008_A Second major Bachelor's degree Grand total) | AT1: Grand total (C2010_A First major Bachelor's degree Grand total) | AU1: Grand total (C2010_A Second major Bachelor's degree Grand total) | AV1: Grand total (C2012_A First major Bachelor's degree Grand total) | AW1: Grand total (C2012_A Second major Bachelor's degree Grand total) | AX1: Grand total (C2014_A First major Bachelor's degree Grand total) | AY1: Grand total (C2014_A Second major Bachelor's degree Grand total)
A2: a 1 | B2: a 2 | C2: eng 04 a | D2: eng 04 b | E2: eng 06 a | F2: eng 06 b | G2: eng 08 a | H2: eng 08 b | I2: eng 10 a | J2: eng 10 b | K2: eng 12 a | L2: eng 12 b | M2: eng 14 a | N2: eng 14 b | O2: his 04 a | P2: his 04 b | Q2: his 06 a | R2: his 06 b | S2: his 08 a | T2: his 08 b | U2: his 10 a | V2: his 10 b | W2: his 12 a | X2: his 12 b | Y2: his 14 a | Z2: his 14 b | AA2: nur 03 a | AB2: phi 04 a | AC2: phi 04 b | AD2: phi 06 a | AE2: phi 06 b | AF2: phi 08 a | AG2: phi 08 b | AH2: phi 10 a | AI2: phi 10 b | AJ2: phi 12 a | AK2: phi 12 b | AL2: phi 14 a | AM2: phi 14 b | AN2: tot 04 a | AO2: tot 04 b | AP2: tot 06 a | AQ2: tot 06 b | AR2: tot 08 a | AS2: tot 08 b | AT2: tot 10 a | AU2: tot 10 b | AV2: tot 12 a | AW2: tot 12 b | AX2: tot 14 a | AY2: tot 14 b
A3: 222178 | B3: Abilene Christian University | C3: 47 | E3: 49 | F3: 0 | G3: 29 | H3: 0 | I3: 29 | K3: 24 | M3: 20 | O3: 10 | Q3: 15 | R3: 1 | S3: 6 | T3: 0 | U3: 8 | V3: 0 | W3: 11 | X3: 0 | Y3: 7 | Z3: 0 | AA3: 22 | AN3: 817 | AO3: 54 | AP3: 790 | AQ3: 35 | AR3: 850 | AS3: 42 | AT3: 818 | AU3: 18 | AV3: 805 | AW3: 27 | AX3: 792 | AY3: 30
A4: 150066 | B4: Anderson University | C4: 9 | E4: 5 | F4: 2 | G4: 10 | H4: 2 | I4: 9 | J4: 2 | K4: 3 | L4: 3 | M4: 6 | N4: 2 | O4: 9 | P4: 4 | Q4: 15 | R4: 4 | S4: 14 | T4: 2 | U4: 25 | V4: 0 | W4: 18 | X4: 4 | Y4: 9 | Z4: 4 | AA4: 20 | AB4: 12 | AC4: 4 | AD4: 13 | AE4: 5 | AF4: 12 | AG4: 2 | AH4: 13 | AI4: 2 | AJ4: 8 | AK4: 0 | AL4: 4 | AM4: 0 | AN4: 394 | AO4: 34 | AP4: 437 | AQ4: 48 | AR4: 478 | AS4: 57 | AT4: 401 | AU4: 48 | AV4: 418 | AW4: 58 | AX4: 377 | AY4: 41
A5: 217633 | B5: Anderson University | C5: 3 | E5: 7 | G5: 6 | I5: 1 | J5: 1 | K5: 1 | L5: 1 | M5: 15 | N5: 1 | O5: 5 | Q5: 8 | S5: 3 | U5: 5 | W5: 5 | Y5: 6 | Z5: 1 | AB5: 14 | AC5: 1 | AD5: 18 | AF5: 4 | AH5: 14 | AJ5: 14 | AL5: 33 | AM5: 1 | AN5: 222 | AO5: 9 | AP5: 259 | AR5: 220 | AS5: 9 | AT5: 235 | AU5: 16 | AV5: 249 | AW5: 16 | AX5: 451 | AY5: 15
A6: 156213 | B6: Asbury University | C6: 32 | D6: 2 | E6: 27 | F6: 0 | G6: 21 | H6: 0 | I6: 5 | J6: 4 | K6: 19 | L6: 1 | M6: 13 | N6: 2 | O6: 16 | P6: 1 | Q6: 9 | R6: 1 | S6: 13 | T6: 1 | U6: 14 | V6: 2 | W6: 9 | X6: 1 | Y6: 4 | Z6: 0 | AB6: 5 | AC6: 1 | AD6: 7 | AE6: 1 | AF6: 2 | AG6: 2 | AH6: 2 | AI6: 1 | AJ6: 2 | AK6: 1 | AL6: 0 | AM6: 0 | AN6: 254 | AO6: 13 | AP6: 273 | AQ6: 14 | AR6: 222 | AS6: 20 | AT6: 286 | AU6: 30 | AV6: 240 | AW6: 23 | AX6: 260 | AY6: 42
A7: 109785 | B7: Azusa Pacific University | C7: 26 | D7: 2 | E7: 27 | F7: 3 | G7: 32 | H7: 1 | I7: 44 | J7: 3 | K7: 45 | L7: 4 | M7: 60 | N7: 1 | O7: 10 | Q7: 0 | R7: 0 | S7: 20 | U7: 16 | V7: 3 | W7: 13 | X7: 9 | Y7: 25 | Z7: 2 | AA7: 80 | AB7: 3 | AD7: 7 | AF7: 12 | AG7: 2 | AH7: 2 | AI7: 0 | AJ7: 10 | AK7: 1 | AL7: 10 | AM7: 5 | AN7: 1091 | AO7: 16 | AP7: 1160 | AQ7: 21 | AR7: 1282 | AS7: 24 | AT7: 1137 | AU7: 49 | AV7: 1401 | AW7: 36 | AX7: 1741 | AY7: 23
A8: 175421 | B8: Belhaven University | C8: 12 | E8: 13 | G8: 5 | I8: 13 | K8: 5 | M8: 15 | O8: 12 | Q8: 11 | R8: 1 | S8: 11 | U8: 6 | W8: 12 | Y8: 4 | AB8: 0 | AD8: 3 | AE8: 0 | AF8: 2 | AH8: 2 | AJ8: 1 | AL8: 1 | AN8: 385 | AO8: 6 | AP8: 373 | AQ8: 5 | AR8: 412 | AT8: 472 | AV8: 462 | AX8: 498
A9: 150145 | B9: Bethel College-Indiana | C9: 4 | E9: 5 | G9: 4 | I9: 4 | K9: 5 | M9: 6 | O9: 3 | Q9: 8 | S9: 1 | U9: 3 | W9: 1 | Y9: 3 | AA9: 34 | AB9: 8 | AD9: 14 | AF9: 10 | AH9: 10 | AJ9: 12 | AL9: 4 | AN9: 305 | AP9: 329 | AR9: 348 | AT9: 419 | AV9: 465 | AX9: 450
A10: 173160 | B10: Bethel University | C10: 21 | D10: 0 | E10: 17 | F10: 2 | G10: 24 | H10: 2 | I10: 15 | J10: 1 | K10: 17 | L10: 0 | M10: 13 | N10: 0 | O10: 17 | P10: 4 | Q10: 12 | R10: 6 | S10: 23 | T10: 2 | U10: 14 | V10: 2 | W10: 10 | X10: 5 | Y10: 6 | Z10: 5 | AA10: 83 | AB10: 12 | AC10: 4 | AD10: 8 | AE10: 3 | AF10: 7 | AG10: 6 | AH10: 8 | AI10: 10 | AJ10: 4 | AK10: 8 | AL10: 2 | AM10: 1 | AN10: 692 | AO10: 38 | AP10: 750 | AQ10: 53 | AR10: 766 | AS10: 64 | AT10: 843 | AU10: 75 | AV10: 856 | AW10: 77 | AX10: 842 | AY10: 68
A11: 110097 | B11: Biola University | C11: 29 | E11: 22 | G11: 42 | I11: 39 | K11: 31 | M11: 41 | O11: 11 | Q11: 12 | S11: 10 | U11: 18 | W11: 19 | Y11: 13 | AA11: 21 | AB11: 12 | AD11: 9 | AF11: 10 | AH11: 15 | AJ11: 8 | AL11: 14 | AN11: 690 | AP11: 778 | AR11: 896 | AT11: 913 | AV11: 897 | AX11: 932
A12: 231554 | B12: Bluefield College | C12: 2 | D12: 0 | E12: 3 | F12: 0 | G12: 4 | H12: 0 | I12: 0 | J12: 0 | K12: 4 | L12: 0 | M12: 1 | N12: 0 | O12: 1 | P12: 0 | Q12: 6 | R12: 0 | S12: 4 | T12: 0 | U12: 2 | V12: 0 | W12: 2 | X12: 0 | Y12: 2 | Z12: 0 | AB12: 5 | AD12: 7 | AF12: 4 | AH12: 6 | AJ12: 2 | AL12: 0 | AM12: 0 | AN12: 230 | AO12: 1 | AP12: 255 | AQ12: 0 | AR12: 277 | AS12: 0 | AT12: 205 | AU12: 0 | AV12: 208 | AW12: 2 | AX12: 225 | AY12: 5
A13: 201371 | B13: Bluffton University | C13: 5 | D13: 0 | E13: 6 | F13: 1 | G13: 8 | H13: 0 | I13: 6 | J13: 2 | K13: 10 | L13: 4 | M13: 5 | N13: 1 | O13: 4 | P13: 0 | Q13: 3 | R13: 0 | S13: 7 | T13: 0 | U13: 13 | V13: 1 | W13: 9 | X13: 0 | Y13: 5 | Z13: 0 | AB13: 2 | AC13: 0 | AD13: 2 | AE13: 0 | AF13: 2 | AG13: 0 | AH13: 3 | AI13: 0 | AJ13: 4 | AK13: 0 | AN13: 230 | AO13: 20 | AP13: 242 | AQ13: 21 | AR13: 253 | AS13: 21 | AT13: 219 | AU13: 21 | AV13: 240 | AW13: 32 | AX13: 187 | AY13: 22
A14: 219790 | B14: Bryan College-Dayton | C14: 6 | E14: 6 | G14: 7 | I14: 9 | K14: 3 | L14: 1 | M14: 14 | N14: 3 | O14: 8 | Q14: 8 | S14: 1 | T14: 1 | U14: 5 | W14: 5 | X14: 1 | Y14: 5 | AF14: 2 | AH14: 2 | AJ14: 2 | AL14: 2 | AN14: 127 | AO14: 1 | AP14: 175 | AQ14: 1 | AR14: 247 | AS14: 1 | AT14: 303 | AU14: 2 | AV14: 300 | AW14: 9 | AX14: 293 | AY14: 11
A15: 110361 | B15: California Baptist University | C15: 22 | D15: 1 | E15: 25 | F15: 2 | G15: 32 | H15: 1 | I15: 33 | J15: 3 | K15: 27 | M15: 30 | O15: 9 | P15: 6 | Q15: 16 | R15: 7 | S15: 19 | T15: 3 | U15: 21 | V15: 4 | W15: 15 | X15: 1 | Y15: 17 | AB15: 4 | AD15: 15 | AE15: 2 | AF15: 27 | AG15: 2 | AH15: 28 | AI15: 3 | AJ15: 31 | AK15: 2 | AL15: 29 | AM15: 6 | AN15: 418 | AO15: 12 | AP15: 564 | AQ15: 31 | AR15: 626 | AS15: 22 | AT15: 711 | AU15: 28 | AV15: 825 | AW15: 25 | AX15: 1029 | AY15: 28
A16: 169080 | B16: Calvin College | C16: 59 | D16: 5 | E16: 38 | F16: 5 | G16: 32 | H16: 7 | I16: 35 | J16: 9 | K16: 27 | L16: 4 | M16: 30 | N16: 5 | O16: 24 | P16: 4 | Q16: 48 | R16: 5 | S16: 21 | T16: 7 | U16: 21 | V16: 2 | W16: 10 | X16: 6 | Y16: 9 | Z16: 5 | AA16: 47 | AB16: 28 | AC16: 10 | AD16: 27 | AE16: 12 | AF16: 33 | AG16: 6 | AH16: 19 | AI16: 17 | AJ16: 20 | AK16: 16 | AL16: 23 | AM16: 16 | AN16: 872 | AO16: 80 | AP16: 919 | AQ16: 111 | AR16: 823 | AS16: 104 | AT16: 908 | AU16: 130 | AV16: 795 | AW16: 110 | AX16: 852 | AY16: 148
A17: 156365 | B17: Campbellsville University | C17: 4 | E17: 5 | G17: 4 | I17: 7 | J17: 1 | K17: 5 | M17: 6 | N17: 1 | O17: 1 | P17: 2 | Q17: 4 | R17: 1 | S17: 1 | U17: 3 | V17: 1 | W17: 7 | X17: 2 | Y17: 2 | Z17: 2 | AN17: 196 | AO17: 29 | AP17: 175 | AQ17: 16 | AR17: 220 | AS17: 13 | AT17: 256 | AU17: 10 | AV17: 325 | AW17: 9 | AX17: 333 | AY17: 24
A18: 219806 | B18: Carson-Newman University | C18: 3 | D18: 7 | E18: 5 | F18: 0 | G18: 5 | H18: 2 | I18: 7 | J18: 0 | K18: 4 | L18: 0 | M18: 7 | N18: 0 | O18: 14 | P18: 2 | Q18: 12 | R18: 0 | S18: 11 | T18: 0 | U18: 9 | V18: 0 | W18: 3 | X18: 0 | Y18: 2 | Z18: 0 | AA18: 10 | AB18: 27 | AC18: 6 | AD18: 23 | AE18: 0 | AF18: 13 | AG18: 4 | AH18: 14 | AI18: 1 | AJ18: 14 | AK18: 2 | AL18: 15 | AM18: 8 | AN18: 394 | AO18: 34 | AP18: 403 | AQ18: 0 | AR18: 347 | AS18: 33 | AT18: 326 | AU18: 2 | AV18: 333 | AW18: 4 | AX18: 328 | AY18: 54
A19: 201654 | B19: Cedarville University | C19: 27 | D19: 0 | E19: 19 | F19: 0 | G19: 23 | H19: 0 | I19: 16 | J19: 0 | K19: 13 | L19: 2 | M19: 21 | N19: 2 | O19: 12 | P19: 2 | Q19: 12 | R19: 1 | S19: 14 | T19: 2 | U19: 13 | V19: 3 | W19: 16 | X19: 5 | Y19: 12 | Z19: 1 | AA19: 37 | AB19: 2 | AC19: 0 | AD19: 3 | AE19: 0 | AF19: 5 | AG19: 0 | AH19: 4 | AI19: 0 | AJ19: 3 | AK19: 1 | AL19: 2 | AM19: 0 | AN19: 620 | AO19: 51 | AP19: 625 | AQ19: 60 | AR19: 617 | AS19: 57 | AT19: 629 | AU19: 47 | AV19: 622 | AW19: 43 | AX19: 722 | AY19: 39
A20: 217688 | B20: Charleston Southern University | C20: 6 | E20: 7 | F20: 2 | G20: 8 | I20: 3 | J20: 1 | K20: 9 | M20: 6 | N20: 1 | O20: 5 | Q20: 8 | R20: 2 | S20: 8 | T20: 1 | U20: 12 | W20: 8 | X20: 2 | Y20: 12 | Z20: 0 | AA20: 25 | AB20: 12 | AD20: 23 | AE20: 7 | AF20: 19 | AG20: 4 | AH20: 18 | AI20: 6 | AJ20: 13 | AK20: 5 | AL20: 16 | AM20: 3 | AN20: 327 | AP20: 386 | AQ20: 27 | AR20: 437 | AS20: 19 | AT20: 464 | AU20: 21 | AV20: 412 | AW20: 21 | AX20: 481 | AY20: 24
A21: 178697 | B21: College of the Ozarks | C21: 6 | D21: 1 | E21: 13 | G21: 21 | H21: 0 | I21: 17 | K21: 12 | L21: 0 | M21: 12 | N21: 1 | O21: 6 | P21: 2 | Q21: 9 | S21: 4 | U21: 9 | V21: 0 | W21: 5 | X21: 0 | Y21: 7 | Z21: 0 | AA21: 1 | AB21: 5 | AC21: 1 | AD21: 9 | AE21: 0 | AF21: 9 | AG21: 9 | AH21: 5 | AI21: 4 | AJ21: 4 | AK21: 1 | AL21: 6 | AM21: 0 | AN21: 284 | AO21: 20 | AP21: 266 | AQ21: 17 | AR21: 291 | AS21: 33 | AT21: 297 | AU21: 44 | AV21: 303 | AW21: 49 | AX21: 317 | AY21: 48
A22: 126669 | B22: Colorado Christian University | C22: 11 | E22: 2 | G22: 9 | I22: 7 | K22: 12 | M22: 6 | N22: 1 | O22: 2 | Q22: 1 | S22: 2 | U22: 10 | W22: 7 | Y22: 7 | Z22: 0 | AN22: 471 | AO22: 5 | AP22: 156 | AQ22: 0 | AR22: 332 | AS22: 0 | AT22: 424 | AV22: 406 | AW22: 6 | AX22: 501 | AY22: 15
A23: 112075 | B23: Concordia University-Irvine | C23: 12 | D23: 1 | E23: 13 | F23: 1 | G23: 14 | H23: 2 | I23: 17 | K23: 17 | M23: 7 | Q23: 12 | R23: 1 | S23: 10 | U23: 6 | W23: 17 | X23: 1 | Y23: 15 | AH23: 1 | AJ23: 0 | AL23: 0 | AN23: 285 | AO23: 13 | AP23: 312 | AQ23: 13 | AR23: 299 | AS23: 5 | AT23: 352 | AV23: 429 | AW23: 7 | AX23: 506 | AY23: 3
A24: 210331 | B24: Corban University | E24: 2 | G24: 18 | I24: 13 | K24: 8 | M24: 14 | Q24: 5 | AN24: 186 | AP24: 152 | AR24: 191 | AT24: 201 | AV24: 221 | AX24: 202
A25: 170037 | B25: Cornerstone University | C25: 10 | E25: 11 | G25: 8 | I25: 7 | K25: 5 | M25: 2 | O25: 3 | P25: 1 | Q25: 3 | S25: 6 | U25: 5 | W25: 3 | Y25: 2 | AB25: 2 | AD25: 3 | AF25: 1 | AH25: 4 | AJ25: 1 | AN25: 371 | AO25: 36 | AP25: 357 | AR25: 366 | AT25: 386 | AV25: 377 | AX25: 461
A26: 139393 | B26: Covenant College | C26: 17 | D26: 2 | E26: 24 | F26: 0 | G26: 16 | H26: 0 | I26: 23 | J26: 1 | K26: 13 | L26: 0 | M26: 33 | N26: 0 | O26: 23 | P26: 6 | Q26: 11 | R26: 3 | S26: 16 | T26: 1 | U26: 24 | V26: 0 | W26: 10 | X26: 0 | Y26: 14 | Z26: 1 | AB26: 15 | AC26: 4 | AD26: 11 | AE26: 2 | AF26: 5 | AG26: 1 | AH26: 13 | AI26: 0 | AJ26: 9 | AK26: 0 | AL26: 9 | AM26: 0 | AN26: 402 | AO26: 20 | AP26: 341 | AQ26: 9 | AR26: 347 | AS26: 4 | AT26: 376 | AU26: 8 | AV26: 224 | AW26: 14 | AX26: 243 | AY26: 10
A27: 174862 | B27: Crown College | C27: 2 | E27: 4 | G27: 1 | I27: 1 | J27: 0 | K27: 1 | L27: 0 | M27: 3 | N27: 1 | O27: 4 | Q27: 0 | S27: 0 | U27: 0 | W27: 2 | Y27: 2 | AN27: 119 | AO27: 0 | AP27: 191 | AQ27: 43 | AR27: 203 | AS27: 3 | AT27: 226 | AU27: 3 | AV27: 207 | AW27: 0 | AX27: 197 | AY27: 82
A28: 224226 | B28: Dallas Baptist University | C28: 18 | D28: 1 | E28: 11 | G28: 21 | H28: 0 | I28: 17 | J28: 3 | K28: 5 | L28: 1 | M28: 9 | O28: 4 | P28: 2 | Q28: 11 | R28: 2 | S28: 9 | T28: 1 | U28: 11 | V28: 1 | W28: 12 | X28: 1 | Y28: 6 | Z28: 1 | AB28: 3 | AD28: 4 | AF28: 6 | AG28: 0 | AH28: 6 | AI28: 3 | AJ28: 1 | AK28: 0 | AL28: 3 | AM28: 0 | AN28: 777 | AO28: 38 | AP28: 771 | AQ28: 38 | AR28: 811 | AS28: 27 | AT28: 858 | AU28: 36 | AV28: 697 | AW28: 32 | AX28: 728 | AY28: 26
A29: 153250 | B29: Dordt College | C29: 8 | E29: 10 | G29: 13 | I29: 11 | J29: 4 | K29: 4 | L29: 4 | M29: 1 | N29: 3 | O29: 6 | Q29: 5 | R29: 1 | S29: 8 | U29: 3 | V29: 2 | W29: 5 | X29: 2 | Y29: 1 | Z29: 2 | AB29: 2 | AC29: 1 | AD29: 1 | AF29: 2 | AH29: 0 | AJ29: 1 | AL29: 0 | AN29: 257 | AO29: 38 | AP29: 205 | AQ29: 28 | AR29: 263 | AS29: 25 | AT29: 265 | AU29: 43 | AV29: 284 | AW29: 32 | AX29: 299 | AY29: 40
A30: 224527 | B30: East Texas Baptist University | C30: 9 | E30: 12 | G30: 11 | H30: 0 | I30: 6 | J30: 1 | K30: 4 | L30: 1 | M30: 7 | O30: 0 | P30: 1 | Q30: 4 | S30: 3 | T30: 1 | U30: 5 | V30: 1 | W30: 2 | Y30: 0 | AA30: 17 | AB30: 11 | AC30: 3 | AD30: 6 | AE30: 1 | AF30: 5 | AG30: 0 | AH30: 6 | AJ30: 3 | AL30: 0 | AM30: 1 | AN30: 207 | AO30: 8 | AP30: 221 | AQ30: 1 | AR30: 258 | AS30: 3 | AT30: 195 | AU30: 3 | AV30: 207 | AW30: 9 | AX30: 175 | AY30: 3
A31: 232043 | B31: Eastern Mennonite University | C31: 5 | D31: 2 | E31: 5 | F31: 1 | G31: 6 | H31: 0 | I31: 5 | J31: 0 | K31: 3 | L31: 0 | M31: 9 | N31: 3 | O31: 4 | P31: 1 | Q31: 9 | R31: 1 | S31: 4 | T31: 0 | U31: 4 | V31: 1 | W31: 7 | X31: 3 | Y31: 6 | Z31: 0 | AA31: 33 | AB31: 0 | AC31: 3 | AD31: 1 | AE31: 0 | AF31: 0 | AG31: 1 | AH31: 0 | AI31: 0 | AJ31: 2 | AK31: 0 | AL31: 1 | AM31: 0 | AN31: 264 | AO31: 26 | AP31: 303 | AQ31: 26 | AR31: 279 | AS31: 12 | AT31: 265 | AU31: 25 | AV31: 279 | AW31: 22 | AX31: 294 | AY31: 19
A32: 165644 | B32: Eastern Nazarene College | C32: 6 | D32: 1 | E32: 14 | F32: 0 | G32: 7 | H32: 0 | I32: 4 | J32: 0 | K32: 2 | L32: 0 | M32: 9 | N32: 0 | O32: 7 | P32: 1 | Q32: 7 | R32: 0 | S32: 5 | T32: 0 | U32: 3 | V32: 0 | W32: 1 | X32: 0 | Y32: 4 | Z32: 0 | AB32: 11 | AD32: 9 | AF32: 5 | AH32: 9 | AJ32: 6 | AL32: 8 | AM32: 1 | AN32: 214 | AO32: 18 | AP32: 240 | AQ32: 0 | AR32: 155 | AS32: 0 | AT32: 195 | AU32: 0 | AV32: 179 | AW32: 18 | AX32: 234 | AY32: 26
A33: 212133 | B33: Eastern University | C33: 23 | E33: 25 | G33: 23 | I33: 16 | K33: 17 | M33: 18 | O33: 7 | Q33: 8 | S33: 13 | U33: 12 | W33: 13 | Y33: 6 | AA33: 27 | AB33: 4 | AD33: 4 | AF33: 4 | AH33: 4 | AJ33: 6 | AL33: 5 | AN33: 632 | AP33: 539 | AR33: 537 | AT33: 517 | AV33: 522 | AX33: 497
A34: 139630 | B34: Emmanuel College | C34: 2 | E34: 2 | G34: 4 | I34: 2 | K34: 4 | M34: 3 | O34: 0 | Q34: 1 | S34: 5 | U34: 2 | W34: 1 | Y34: 4 | AN34: 115 | AP34: 115 | AR34: 105 | AT34: 117 | AV34: 121 | AX34: 111
A35: 217998 | B35: Erskine College | C35: 1 | E35: 2 | G35: 9 | H35: 2 | I35: 4 | J35: 2 | K35: 1 | L35: 2 | M35: 3 | N35: 0 | O35: 1 | Q35: 6 | R35: 1 | S35: 5 | T35: 1 | U35: 8 | V35: 1 | W35: 3 | X35: 1 | Y35: 4 | Z35: 0 | AB35: 7 | AC35: 4 | AD35: 9 | AE35: 5 | AF35: 10 | AG35: 2 | AH35: 4 | AI35: 1 | AJ35: 2 | AK35: 1 | AL35: 5 | AM35: 0 | AN35: 99 | AO35: 5 | AP35: 104 | AQ35: 15 | AR35: 117 | AS35: 18 | AT35: 130 | AU35: 11 | AV35: 96 | AW35: 16 | AX35: 104 | AY35: 8
A36: 177339 | B36: Evangel University | C36: 0 | E36: 7 | G36: 6 | I36: 4 | K36: 6 | L36: 2 | M36: 5 | N36: 1 | O36: 9 | Q36: 5 | S36: 8 | U36: 4 | W36: 3 | X36: 2 | Y36: 3 | Z36: 0 | AB36: 33 | AD36: 28 | AF36: 38 | AH36: 14 | AJ36: 17 | AL36: 18 | AM36: 1 | AN36: 286 | AP36: 352 | AR36: 324 | AT36: 346 | AV36: 373 | AW36: 35 | AX36: 386 | AY36: 30
A37: 101189 | B37: Faulkner University | C37: 2 | E37: 0 | G37: 5 | I37: 4 | K37: 10 | M37: 7 | O37: 3 | Q37: 5 | S37: 2 | U37: 3 | W37: 4 | Y37: 1 | AN37: 659 | AP37: 622 | AR37: 591 | AT37: 649 | AV37: 570 | AW37: 5 | AX37: 508 | AY37: 2
A38: 114813 | B38: Fresno Pacific University | C38: 7 | D38: 1 | E38: 11 | F38: 3 | G38: 5 | H38: 0 | I38: 10 | J38: 0 | K38: 4 | L38: 1 | M38: 0 | O38: 4 | P38: 0 | Q38: 5 | R38: 1 | S38: 3 | T38: 2 | U38: 8 | V38: 2 | W38: 8 | X38: 1 | Y38: 6 | AB38: 0 | AC38: 0 | AD38: 3 | AE38: 2 | AF38: 3 | AG38: 1 | AH38: 1 | AI38: 0 | AJ38: 0 | AK38: 0 | AL38: 1 | AN38: 308 | AO38: 23 | AP38: 363 | AQ38: 23 | AR38: 448 | AS38: 19 | AT38: 491 | AU38: 21 | AV38: 747 | AW38: 24 | AX38: 595
A39: 212656 | B39: Geneva College | C39: 14 | D39: 3 | E39: 16 | F39: 1 | G39: 17 | H39: 0 | I39: 13 | J39: 0 | K39: 15 | L39: 0 | M39: 19 | N39: 0 | O39: 6 | Q39: 11 | R39: 2 | S39: 8 | T39: 0 | U39: 11 | V39: 0 | W39: 12 | X39: 1 | Y39: 13 | Z39: 1 | AB39: 5 | AC39: 3 | AD39: 3 | AE39: 0 | AF39: 1 | AG39: 0 | AH39: 1 | AI39: 1 | AJ39: 1 | AK39: 0 | AL39: 1 | AM39: 2 | AN39: 424 | AO39: 8 | AP39: 381 | AQ39: 23 | AR39: 424 | AS39: 28 | AT39: 383 | AU39: 28 | AV39: 439 | AW39: 39 | AX39: 443 | AY39: 16
A40: 165936 | B40: Gordon College | C40: 48 | D40: 6 | E40: 45 | F40: 0 | G40: 36 | H40: 8 | I40: 43 | J40: 1 | K40: 20 | L40: 1 | M40: 20 | N40: 5 | O40: 27 | P40: 2 | Q40: 19 | R40: 14 | S40: 18 | T40: 0 | U40: 27 | V40: 3 | W40: 24 | X40: 3 | Y40: 9 | Z40: 4 | AB40: 28 | AC40: 9 | AD40: 30 | AE40: 14 | AF40: 22 | AG40: 10 | AH40: 21 | AI40: 17 | AJ40: 19 | AK40: 4 | AL40: 15 | AM40: 8 | AN40: 388 | AO40: 95 | AP40: 374 | AQ40: 113 | AR40: 325 | AS40: 83 | AT40: 346 | AU40: 105 | AV40: 339 | AW40: 82 | AX40: 305 | AY40: 73
A41: 150668 | B41: Goshen College | C41: 7 | D41: 2 | E41: 8 | F41: 1 | G41: 4 | H41: 0 | I41: 4 | J41: 3 | K41: 7 | L41: 5 | M41: 8 | N41: 0 | O41: 13 | P41: 1 | Q41: 11 | R41: 3 | S41: 6 | T41: 2 | U41: 11 | V41: 2 | W41: 14 | X41: 1 | Y41: 6 | Z41: 0 | AA41: 11 | AB41: 4 | AC41: 3 | AD41: 5 | AE41: 0 | AF41: 10 | AG41: 4 | AH41: 8 | AI41: 2 | AJ41: 6 | AK41: 1 | AL41: 0 | AM41: 0 | AN41: 223 | AO41: 22 | AP41: 240 | AQ41: 15 | AR41: 237 | AS41: 20 | AT41: 260 | AU41: 26 | AV41: 209 | AW41: 22 | AX41: 212 | AY41: 15
A42: 150677 | B42: Grace College and Theological Seminary | C42: 4 | E42: 2 | G42: 3 | I42: 7 | K42: 2 | M42: 4 | S42: 3 | U42: 2 | W42: 6 | Y42: 4 | AN42: 217 | AP42: 158 | AR42: 193 | AT42: 276 | AV42: 353 | AX42: 328
A43: 145372 | B43: Greenville College | C43: 10 | D43: 0 | E43: 7 | F43: 3 | G43: 5 | H43: 1 | I43: 5 | J43: 2 | K43: 10 | L43: 1 | M43: 7 | N43: 3 | Q43: 4 | R43: 4 | S43: 7 | T43: 2 | U43: 3 | V43: 0 | W43: 9 | X43: 0 | Y43: 7 | Z43: 0 | AB43: 5 | AC43: 2 | AD43: 8 | AE43: 1 | AF43: 8 | AG43: 0 | AH43: 10 | AI43: 1 | AJ43: 7 | AK43: 9 | AL43: 7 | AM43: 4 | AN43: 338 | AO43: 26 | AP43: 285 | AQ43: 31 | AR43: 357 | AS43: 40 | AT43: 381 | AU43: 34 | AV43: 369 | AW43: 44 | AX43: 295 | AY43: 29
A44: 225247 | B44: Hardin-Simmons University | C44: 18 | D44: 2 | E44: 14 | F44: 0 | G44: 14 | H44: 3 | I44: 13 | J44: 2 | K44: 13 | L44: 1 | M44: 12 | N44: 1 | O44: 8 | P44: 0 | Q44: 5 | R44: 1 | S44: 6 | T44: 1 | U44: 9 | V44: 1 | W44: 12 | X44: 4 | Y44: 5 | Z44: 0 | AA44: 17 | AB44: 1 | AC44: 0 | AD44: 0 | AE44: 0 | AF44: 0 | AG44: 0 | AH44: 1 | AI44: 0 | AJ44: 1 | AK44: 0 | AL44: 3 | AM44: 0 | AN44: 343 | AO44: 17 | AP44: 333 | AQ44: 24 | AR44: 380 | AS44: 24 | AT44: 352 | AU44: 22 | AV44: 372 | AW44: 25 | AX44: 350 | AY44: 23
A45: 120537 | B45: Hope International University | I45: 1 | J45: 0 | K45: 0 | L45: 0 | M45: 7 | N45: 0 | AN45: 202 | AP45: 195 | AR45: 177 | AT45: 98 | AU45: 0 | AV45: 135 | AW45: 0 | AX45: 185 | AY45: 0
A46: 191676 | B46: Houghton College | C46: 30 | D46: 10 | E46: 32 | F46: 9 | G46: 19 | H46: 6 | I46: 18 | J46: 8 | K46: 32 | L46: 14 | M46: 14 | N46: 13 | O46: 8 | Q46: 5 | R46: 1 | S46: 9 | T46: 1 | U46: 10 | V46: 0 | W46: 9 | X46: 0 | Y46: 4 | Z46: 2 | AB46: 28 | AC46: 9 | AD46: 28 | AE46: 10 | AF46: 12 | AG46: 4 | AH46: 22 | AI46: 11 | AJ46: 0 | AK46: 1 | AL46: 3 | AM46: 0 | AN46: 350 | AO46: 62 | AP46: 347 | AQ46: 76 | AR46: 355 | AS46: 60 | AT46: 359 | AU46: 81 | AV46: 339 | AW46: 64 | AX46: 309 | AY46: 60
A47: 225399 | B47: Houston Baptist University | C47: 11 | D47: 8 | E47: 11 | F47: 9 | G47: 3 | H47: 5 | I47: 11 | J47: 13 | K47: 3 | L47: 3 | M47: 3 | N47: 2 | O47: 4 | P47: 8 | Q47: 6 | R47: 5 | S47: 6 | T47: 4 | U47: 9 | V47: 6 | W47: 6 | X47: 1 | Y47: 6 | Z47: 1 | AA47: 21 | AB47: 33 | AC47: 3 | AD47: 27 | AE47: 4 | AF47: 20 | AG47: 10 | AH47: 8 | AI47: 3 | AJ47: 13 | AK47: 5 | AL47: 10 | AM47: 0 | AN47: 334 | AO47: 300 | AP47: 289 | AQ47: 247 | AR47: 333 | AS47: 271 | AT47: 294 | AU47: 213 | AV47: 373 | AW47: 103 | AX47: 357 | AY47: 8
A48: 225548 | B48: Howard Payne University | C48: 8 | D48: 0 | E48: 11 | F48: 1 | G48: 2 | H48: 4 | I48: 6 | J48: 4 | K48: 1 | L48: 2 | M48: 3 | N48: 0 | O48: 3 | P48: 0 | Q48: 1 | R48: 1 | S48: 0 | T48: 0 | U48: 2 | V48: 0 | W48: 1 | X48: 0 | Y48: 2 | Z48: 1 | AB48: 5 | AD48: 0 | AE48: 2 | AF48: 0 | AG48: 0 | AH48: 0 | AI48: 1 | AJ48: 0 | AK48: 0 | AL48: 0 | AM48: 0 | AN48: 232 | AO48: 18 | AP48: 238 | AQ48: 13 | AR48: 201 | AS48: 18 | AT48: 234 | AU48: 20 | AV48: 217 | AW48: 21 | AX48: 180 | AY48: 6
A49: 150941 | B49: Huntington University | C49: 12 | D49: 0 | E49: 7 | F49: 2 | G49: 3 | H49: 0 | I49: 4 | J49: 2 | K49: 5 | L49: 2 | M49: 4 | N49: 0 | O49: 2 | P49: 1 | Q49: 2 | R49: 0 | S49: 4 | T49: 0 | U49: 4 | V49: 1 | W49: 4 | X49: 1 | Y49: 4 | Z49: 3 | AB49: 3 | AC49: 0 | AD49: 3 | AE49: 4 | AF49: 4 | AG49: 2 | AH49: 4 | AI49: 1 | AJ49: 5 | AK49: 4 | AL49: 1 | AM49: 1 | AN49: 177 | AO49: 12 | AP49: 189 | AQ49: 18 | AR49: 189 | AS49: 17 | AT49: 206 | AU49: 26 | AV49: 218 | AW49: 30 | AX49: 241 | AY49: 46
A50: 151801 | B50: Indiana Wesleyan University | C50: 14 | E50: 20 | G50: 16 | I50: 12 | K50: 13 | L50: 11 | M50: 9 | N50: 7 | O50: 2 | Q50: 3 | S50: 8 | U50: 9 | W50: 6 | X50: 4 | Y50: 4 | Z50: 1 | AA50: 176 | AB50: 4 | AD50: 6 | AF50: 7 | AH50: 4 | AJ50: 1 | AL50: 0 | AN50: 1476 | AP50: 1789 | AR50: 2328 | AT50: 2662 | AV50: 2702 | AW50: 161 | AX50: 2904 | AY50: 130
A51: 107141 | B51: John Brown University | C51: 5 | D51: 0 | E51: 8 | G51: 3 | I51: 8 | K51: 6 | M51: 7 | O51: 4 | P51: 0 | Q51: 5 | S51: 10 | U51: 6 | W51: 4 | Y51: 7 | AL51: 2 | AN51: 442 | AO51: 0 | AP51: 523 | AR51: 487 | AT51: 484 | AV51: 453 | AW51: 0 | AX51: 456 | AY51: 0
A52: 101541 | B52: Judson College | C52: 3 | E52: 3 | F52: 1 | G52: 3 | H52: 0 | I52: 3 | J52: 0 | K52: 3 | L52: 2 | M52: 4 | N52: 0 | O52: 4 | Q52: 0 | R52: 1 | S52: 5 | T52: 0 | U52: 2 | V52: 0 | W52: 2 | X52: 1 | Y52: 4 | Z52: 0 | AH52: 4 | AI52: 0 | AJ52: 2 | AK52: 1 | AL52: 2 | AM52: 1 | AN52: 49 | AO52: 12 | AP52: 56 | AQ52: 9 | AR52: 50 | AS52: 5 | AT52: 46 | AU52: 5 | AV52: 56 | AW52: 9 | AX52: 45 | AY52: 10
A53: 146339 | B53: Judson University | C53: 4 | D53: 0 | E53: 3 | F53: 0 | G53: 3 | H53: 0 | I53: 2 | J53: 0 | K53: 3 | L53: 0 | M53: 3 | N53: 0 | O53: 3 | P53: 0 | Q53: 3 | R53: 1 | S53: 5 | T53: 0 | U53: 3 | V53: 0 | W53: 2 | X53: 0 | Y53: 5 | Z53: 0 | AN53: 384 | AO53: 9 | AP53: 347 | AQ53: 28 | AR53: 317 | AS53: 19 | AT53: 234 | AU53: 9 | AV53: 215 | AW53: 12 | AX53: 238 | AY53: 12
A54: 157100 | B54: Kentucky Christian University | C54: 0 | D54: 0 | E54: 2 | F54: 0 | O54: 1 | P54: 0 | Q54: 3 | R54: 0 | S54: 3 | T54: 0 | U54: 4 | V54: 0 | W54: 4 | X54: 0 | Y54: 4 | Z54: 0 | AN54: 91 | AO54: 84 | AP54: 97 | AQ54: 95 | AR54: 107 | AS54: 104 | AT54: 76 | AU54: 75 | AV54: 103 | AW54: 101 | AX54: 80 | AY54: 61
A55: 220516 | B55: King University | C55: 8 | D55: 0 | E55: 12 | F55: 0 | G55: 8 | H55: 0 | I55: 5 | J55: 0 | K55: 10 | L55: 2 | M55: 6 | N55: 1 | O55: 12 | Q55: 5 | R55: 0 | S55: 0 | T55: 4 | U55: 6 | V55: 2 | W55: 6 | X55: 2 | Y55: 5 | Z55: 2 | AA55: 13 | AB55: 1 | AC55: 2 | AD55: 0 | AE55: 0 | AN55: 152 | AO55: 10 | AP55: 167 | AQ55: 10 | AR55: 368 | AS55: 19 | AT55: 455 | AU55: 15 | AV55: 601 | AW55: 22 | AX55: 739 | AY55: 18
A56: 220613 | B56: Lee University | C56: 9 | E56: 16 | G56: 20 | H56: 1 | I56: 18 | J56: 1 | K56: 25 | L56: 2 | M56: 20 | N56: 4 | O56: 20 | P56: 3 | Q56: 10 | R56: 1 | S56: 19 | T56: 4 | U56: 31 | V56: 2 | W56: 19 | X56: 1 | Y56: 20 | Z56: 4 | AH56: 1 | AJ56: 8 | AL56: 8 | AN56: 642 | AO56: 35 | AP56: 616 | AQ56: 28 | AR56: 577 | AS56: 23 | AT56: 635 | AU56: 35 | AV56: 717 | AW56: 36 | AX56: 738 | AY56: 31
A57: 226231 | B57: LeTourneau University | C57: 2 | D57: 1 | E57: 8 | F57: 1 | G57: 6 | H57: 0 | I57: 2 | J57: 0 | K57: 2 | L57: 0 | M57: 3 | N57: 0 | O57: 0 | P57: 1 | Q57: 4 | R57: 3 | S57: 5 | T57: 2 | U57: 4 | V57: 2 | W57: 5 | X57: 2 | Y57: 2 | Z57: 0 | AN57: 697 | AO57: 21 | AP57: 528 | AQ57: 10 | AR57: 637 | AS57: 11 | AT57: 798 | AU57: 16 | AV57: 624 | AW57: 11 | AX57: 570 | AY57: 2
A58: 219976 | B58: Lipscomb University | C58: 16 | E58: 26 | F58: 0 | G58: 17 | H58: 2 | I58: 22 | J58: 0 | K58: 22 | L58: 0 | M58: 20 | N58: 0 | O58: 8 | P58: 1 | Q58: 11 | R58: 2 | S58: 5 | T58: 0 | U58: 11 | V58: 0 | W58: 7 | X58: 0 | Y58: 12 | Z58: 0 | AB58: 1 | AC58: 1 | AD58: 2 | AE58: 0 | AF58: 1 | AG58: 0 | AH58: 2 | AI58: 0 | AJ58: 0 | AK58: 0 | AL58: 2 | AM58: 1 | AN58: 412 | AO58: 56 | AP58: 482 | AQ58: 51 | AR58: 443 | AS58: 47 | AT58: 462 | AU58: 25 | AV58: 564 | AW58: 6 | AX58: 615 | AY58: 16
A59: 159568 | B59: Louisiana College | C59: 11 | D59: 1 | E59: 6 | F59: 2 | G59: 4 | H59: 0 | I59: 2 | J59: 0 | K59: 6 | L59: 0 | M59: 5 | N59: 0 | O59: 9 | P59: 3 | Q59: 9 | R59: 2 | S59: 3 | T59: 1 | U59: 2 | V59: 0 | W59: 2 | X59: 1 | Y59: 6 | Z59: 0 | AA59: 13 | AB59: 0 | AD59: 1 | AF59: 2 | AH59: 3 | AJ59: 8 | AK59: 1 | AL59: 4 | AM59: 1 | AN59: 198 | AO59: 10 | AP59: 153 | AQ59: 17 | AR59: 128 | AS59: 6 | AT59: 160 | AU59: 13 | AV59: 166 | AW59: 14 | AX59: 173 | AY59: 10
A60: 203775 | B60: Malone University | C60: 2 | E60: 6 | G60: 8 | I60: 7 | J60: 0 | K60: 7 | L60: 0 | M60: 9 | N60: 0 | O60: 3 | Q60: 4 | R60: 1 | S60: 7 | T60: 0 | U60: 4 | V60: 1 | W60: 4 | X60: 1 | Y60: 6 | Z60: 3 | AA60: 62 | AH60: 2 | AJ60: 1 | AK60: 2 | AL60: 0 | AM60: 2 | AN60: 532 | AO60: 27 | AP60: 477 | AQ60: 21 | AR60: 541 | AS60: 33 | AT60: 470 | AU60: 39 | AV60: 436 | AW60: 29 | AX60: 427 | AY60: 51
A61: 213996 | B61: Messiah College | C61: 26 | D61: 2 | E61: 30 | F61: 2 | G61: 30 | H61: 2 | I61: 21 | J61: 0 | K61: 26 | L61: 2 | M61: 18 | N61: 1 | O61: 13 | P61: 1 | Q61: 14 | R61: 0 | S61: 15 | T61: 0 | U61: 12 | V61: 0 | W61: 14 | X61: 1 | Y61: 11 | Z61: 0 | AA61: 27 | AB61: 6 | AC61: 1 | AD61: 10 | AE61: 2 | AF61: 7 | AG61: 0 | AH61: 3 | AI61: 1 | AJ61: 6 | AK61: 1 | AL61: 3 | AM61: 0 | AN61: 680 | AO61: 18 | AP61: 682 | AQ61: 18 | AR61: 617 | AS61: 10 | AT61: 636 | AU61: 13 | AV61: 635 | AW61: 18 | AX61: 652 | AY61: 23
A62: 155520 | B62: MidAmerica Nazarene University | C62: 4 | D62: 0 | E62: 4 | G62: 2 | I62: 4 | K62: 2 | M62: 2 | O62: 5 | P62: 0 | Q62: 4 | S62: 3 | T62: 0 | U62: 6 | W62: 4 | Y62: 3 | AA62: 19 | AB62: 13 | AC62: 0 | AD62: 3 | AE62: 1 | AF62: 14 | AG62: 0 | AH62: 11 | AJ62: 0 | AL62: 11 | AN62: 373 | AO62: 2 | AP62: 285 | AQ62: 15 | AR62: 346 | AS62: 0 | AT62: 420 | AV62: 402 | AX62: 501
A63: 221014 | B63: Milligan College | C63: 6 | D63: 4 | E63: 6 | F63: 1 | G63: 6 | H63: 2 | I63: 8 | K63: 14 | M63: 4 | O63: 6 | P63: 0 | Q63: 4 | R63: 1 | S63: 4 | U63: 5 | V63: 1 | W63: 6 | Y63: 6 | Z63: 3 | AA63: 10 | AN63: 179 | AO63: 14 | AP63: 168 | AQ63: 14 | AR63: 170 | AS63: 13 | AT63: 179 | AU63: 13 | AV63: 216 | AW63: 16 | AX63: 218 | AY63: 11
A64: 176053 | B64: Mississippi College | C64: 14 | E64: 9 | G64: 6 | I64: 27 | J64: 0 | K64: 17 | M64: 11 | O64: 20 | Q64: 11 | S64: 18 | U64: 16 | V64: 0 | W64: 19 | Y64: 10 | AA64: 51 | AB64: 22 | AD64: 20 | AF64: 14 | AH64: 16 | AI64: 1 | AJ64: 13 | AL64: 19 | AN64: 498 | AP64: 509 | AR64: 537 | AT64: 619 | AU64: 2 | AV64: 650 | AX64: 614
A65: 178244 | B65: Missouri Baptist University | C65: 3 | E65: 7 | G65: 7 | I65: 6 | K65: 9 | L65: 0 | M65: 7 | N65: 0 | O65: 2 | Q65: 2 | S65: 2 | T65: 1 | U65: 6 | W65: 3 | Y65: 3 | AA65: 6 | AB65: 8 | AD65: 4 | AF65: 2 | AH65: 4 | AI65: 1 | AJ65: 5 | AK65: 0 | AL65: 6 | AM65: 0 | AN65: 201 | AO65: 29 | AP65: 287 | AQ65: 45 | AR65: 294 | AS65: 42 | AT65: 345 | AU65: 20 | AV65: 374 | AW65: 29 | AX65: 384 | AY65: 36
A66: 199032 | B66: Montreat College | C66: 5 | E66: 8 | G66: 5 | I66: 5 | K66: 2 | L66: 1 | M66: 6 | O66: 2 | Q66: 3 | S66: 2 | U66: 3 | W66: 2 | Y66: 3 | Z66: 1 | AB66: 14 | AD66: 16 | AF66: 16 | AH66: 5 | AJ66: 6 | AL66: 0 | AM66: 2 | AN66: 211 | AP66: 173 | AR66: 157 | AT66: 187 | AV66: 162 | AW66: 5 | AX66: 162 | AY66: 6
A67: 204194 | B67: Mount Vernon Nazarene University | C67: 4 | E67: 6 | F67: 0 | G67: 8 | H67: 2 | I67: 6 | J67: 2 | K67: 6 | L67: 0 | M67: 8 | N67: 0 | O67: 4 | P67: 2 | Q67: 5 | R67: 0 | S67: 6 | T67: 2 | U67: 4 | V67: 2 | W67: 2 | X67: 2 | Y67: 5 | Z67: 0 | AB67: 17 | AD67: 23 | AF67: 10 | AG67: 2 | AH67: 15 | AJ67: 7 | AK67: 1 | AL67: 13 | AM67: 1 | AN67: 465 | AO67: 24 | AP67: 512 | AQ67: 21 | AR67: 545 | AS67: 30 | AT67: 509 | AU67: 40 | AV67: 673 | AW67: 42 | AX67: 496 | AY67: 32
A68: 218441 | B68: North Greenville University | C68: 8 | E68: 5 | G68: 13 | H68: 1 | I68: 14 | K68: 15 | M68: 13 | Q68: 9 | S68: 9 | U68: 11 | W68: 12 | Y68: 7 | Z68: 0 | AB68: 70 | AD68: 29 | AN68: 234 | AP68: 276 | AQ68: 1 | AR68: 319 | AS68: 1 | AT68: 345 | AU68: 2 | AV68: 389 | AX68: 404 | AY68: 0
A69: 147679 | B69: North Park University | C69: 11 | D69: 3 | E69: 12 | F69: 5 | G69: 12 | H69: 0 | I69: 14 | J69: 0 | K69: 15 | L69: 4 | M69: 14 | N69: 2 | O69: 13 | P69: 0 | Q69: 9 | R69: 1 | S69: 12 | T69: 3 | U69: 7 | V69: 1 | W69: 12 | X69: 4 | Y69: 10 | Z69: 0 | AA69: 29 | AB69: 2 | AC69: 1 | AD69: 2 | AE69: 2 | AF69: 5 | AG69: 1 | AH69: 1 | AI69: 2 | AJ69: 4 | AK69: 0 | AL69: 5 | AM69: 0 | AN69: 371 | AO69: 29 | AP69: 373 | AQ69: 31 | AR69: 371 | AS69: 29 | AT69: 451 | AU69: 38 | AV69: 451 | AW69: 28 | AX69: 495 | AY69: 18
A70: 209409 | B70: Northwest Christian University | C70: 2 | E70: 0 | G70: 2 | I70: 0 | K70: 3 | M70: 2 | U70: 2 | W70: 2 | Y70: 0 | AF70: 2 | AN70: 106 | AP70: 94 | AR70: 118 | AT70: 139 | AV70: 126 | AX70: 106
A71: 142461 | B71: Northwest Nazarene University | C71: 15 | D71: 0 | E71: 10 | F71: 0 | G71: 11 | H71: 1 | I71: 5 | J71: 0 | K71: 5 | L71: 1 | M71: 5 | N71: 1 | O71: 1 | P71: 0 | Q71: 2 | R71: 0 | S71: 1 | T71: 1 | U71: 4 | V71: 2 | W71: 3 | X71: 0 | Y71: 5 | Z71: 0 | AA71: 21 | AB71: 11 | AC71: 1 | AD71: 11 | AE71: 1 | AF71: 13 | AG71: 0 | AH71: 14 | AI71: 0 | AJ71: 11 | AK71: 2 | AL71: 14 | AM71: 3 | AN71: 258 | AO71: 4 | AP71: 231 | AQ71: 12 | AR71: 251 | AS71: 7 | AT71: 309 | AU71: 22 | AV71: 276 | AW71: 23 | AX71: 256 | AY71: 12
A72: 236133 | B72: Northwest University | C72: 12 | E72: 11 | G72: 9 | I72: 11 | K72: 10 | M72: 5 | O72: 0 | Q72: 6 | S72: 5 | U72: 5 | W72: 2 | Y72: 3 | AA72: 12 | AB72: 5 | AD72: 3 | AF72: 3 | AH72: 1 | AJ72: 2 | AL72: 4 | AN72: 253 | AO72: 4 | AP72: 237 | AQ72: 5 | AR72: 250 | AS72: 10 | AT72: 206 | AU72: 13 | AV72: 222 | AW72: 20 | AX72: 270 | AY72: 12
A73: 154101 | B73: Northwestern College | C73: 11 | D73: 4 | E73: 8 | F73: 4 | G73: 13 | H73: 6 | I73: 6 | J73: 2 | K73: 4 | M73: 7 | N73: 1 | O73: 10 | P73: 2 | Q73: 11 | R73: 0 | S73: 15 | T73: 1 | U73: 6 | V73: 0 | W73: 5 | Y73: 4 | Z73: 0 | AB73: 4 | AC73: 1 | AD73: 12 | AE73: 0 | AF73: 11 | AG73: 1 | AH73: 10 | AI73: 2 | AJ73: 3 | AK73: 2 | AL73: 7 | AM73: 1 | AN73: 258 | AO73: 54 | AP73: 232 | AQ73: 20 | AR73: 271 | AS73: 47 | AT73: 265 | AU73: 39 | AV73: 222 | AW73: 30 | AX73: 268 | AY73: 37
A74: 194161 | B74: Nyack College | C74: 6 | E74: 9 | G74: 6 | I74: 8 | K74: 6 | M74: 12 | O74: 5 | P74: 0 | Q74: 4 | R74: 0 | S74: 3 | T74: 0 | U74: 3 | W74: 4 | X74: 1 | Y74: 1 | AB74: 14 | AC74: 1 | AD74: 25 | AE74: 0 | AF74: 21 | AG74: 0 | AH74: 7 | AJ74: 6 | AL74: 0 | AN74: 480 | AO74: 1 | AP74: 473 | AQ74: 0 | AR74: 516 | AS74: 0 | AT74: 485 | AV74: 429 | AW74: 1 | AX74: 418 | AY74: 3
A75: 207403 | B75: Oklahoma Baptist University | C75: 14 | E75: 10 | G75: 9 | I75: 14 | K75: 5 | M75: 7 | O75: 3 | Q75: 3 | S75: 5 | U75: 3 | W75: 5 | Y75: 0 | AA75: 16 | AB75: 7 | AD75: 8 | AF75: 7 | AH75: 8 | AJ75: 9 | AL75: 13 | AN75: 335 | AP75: 328 | AR75: 257 | AT75: 304 | AV75: 286 | AX75: 329
A76: 207324 | B76: Oklahoma Christian University | C76: 5 | E76: 7 | G76: 4 | I76: 7 | K76: 7 | M76: 9 | O76: 1 | Q76: 0 | S76: 3 | U76: 4 | W76: 1 | Y76: 3 | AN76: 268 | AP76: 230 | AR76: 267 | AT76: 322 | AV76: 299 | AX76: 373
A77: 206835 | B77: Oklahoma Wesleyan University | C77: 2 | E77: 0 | F77: 0 | I77: 0 | K77: 1 | M77: 1 | O77: 1 | Q77: 1 | R77: 0 | U77: 4 | W77: 2 | Y77: 0 | AA77: 55 | AB77: 10 | AD77: 10 | AE77: 0 | AF77: 0 | AH77: 18 | AJ77: 6 | AL77: 6 | AN77: 198 | AO77: 49 | AP77: 203 | AQ77: 40 | AR77: 218 | AT77: 296 | AV77: 269 | AX77: 308
A78: 147828 | B78: Olivet Nazarene University | C78: 25 | D78: 1 | E78: 8 | F78: 0 | G78: 12 | H78: 0 | I78: 11 | J78: 0 | K78: 11 | L78: 0 | M78: 13 | N78: 1 | O78: 9 | P78: 1 | Q78: 3 | R78: 4 | S78: 9 | T78: 5 | U78: 9 | V78: 1 | W78: 10 | X78: 1 | Y78: 5 | Z78: 2 | AA78: 51 | AB78: 9 | AC78: 2 | AD78: 13 | AE78: 0 | AF78: 13 | AG78: 3 | AH78: 23 | AI78: 2 | AJ78: 5 | AK78: 1 | AL78: 5 | AM78: 3 | AN78: 406 | AO78: 19 | AP78: 541 | AQ78: 57 | AR78: 628 | AS78: 63 | AT78: 735 | AU78: 69 | AV78: 660 | AW78: 48 | AX78: 755 | AY78: 62
A79: 207582 | B79: Oral Roberts University | C79: 12 | E79: 10 | F79: 4 | G79: 7 | I79: 15 | J79: 1 | K79: 4 | M79: 11 | N79: 1 | O79: 3 | Q79: 9 | S79: 12 | T79: 2 | U79: 8 | V79: 0 | W79: 4 | X79: 1 | Y79: 6 | AA79: 24 | AL79: 0 | AN79: 620 | AO79: 12 | AP79: 532 | AQ79: 35 | AR79: 552 | AS79: 22 | AT79: 512 | AU79: 14 | AV79: 460 | AW79: 10 | AX79: 513 | AY79: 13
A80: 136330 | B80: Palm Beach Atlantic University | C80: 3 | E80: 11 | G80: 9 | I80: 8 | K80: 10 | M80: 10 | N80: 1 | O80: 5 | P80: 0 | Q80: 6 | R80: 0 | S80: 7 | U80: 8 | W80: 3 | X80: 1 | Y80: 7 | Z80: 0 | AB80: 21 | AC80: 0 | AD80: 19 | AE80: 0 | AF80: 8 | AG80: 1 | AH80: 2 | AI80: 0 | AJ80: 3 | AK80: 3 | AL80: 2 | AM80: 1 | AN80: 530 | AO80: 0 | AP80: 523 | AQ80: 18 | AR80: 496 | AS80: 2 | AT80: 462 | AU80: 6 | AV80: 503 | AW80: 10 | AX80: 482 | AY80: 10
A81: 121309 | B81: Point Loma Nazarene University | C81: 13 | E81: 19 | G81: 13 | H81: 0 | I81: 21 | J81: 1 | K81: 19 | L81: 0 | M81: 12 | N81: 1 | O81: 6 | Q81: 8 | S81: 4 | T81: 1 | U81: 6 | V81: 0 | W81: 3 | X81: 0 | Y81: 11 | Z81: 0 | AA81: 42 | AB81: 21 | AD81: 24 | AF81: 19 | AG81: 5 | AH81: 10 | AI81: 1 | AJ81: 8 | AK81: 5 | AL81: 10 | AM81: 4 | AN81: 501 | AP81: 520 | AR81: 552 | AS81: 26 | AT81: 617 | AU81: 22 | AV81: 544 | AW81: 28 | AX81: 588 | AY81: 28
A82: 231651 | B82: Regent University | I82: 13 | K82: 39 | M82: 47 | W82: 1 | Y82: 13 | AH82: 0 | AJ82: 30 | AL82: 11 | AN82: 43 | AP82: 98 | AR82: 205 | AS82: 0 | AT82: 271 | AU82: 1 | AV82: 355 | AX82: 445
A83: 194958 | B83: Roberts Wesleyan College | C83: 3 | D83: 2 | E83: 7 | F83: 2 | G83: 6 | H83: 2 | I83: 3 | J83: 0 | K83: 6 | L83: 1 | M83: 3 | N83: 1 | O83: 4 | P83: 1 | Q83: 10 | R83: 0 | S83: 1 | T83: 0 | U83: 8 | V83: 0 | W83: 6 | X83: 1 | Y83: 7 | Z83: 2 | AA83: 47 | AB83: 15 | AC83: 2 | AD83: 10 | AE83: 0 | AF83: 7 | AG83: 0 | AH83: 10 | AI83: 0 | AJ83: 7 | AK83: 1 | AL83: 3 | AM83: 1 | AN83: 325 | AO83: 16 | AP83: 390 | AQ83: 9 | AR83: 390 | AS83: 11 | AT83: 386 | AU83: 5 | AV83: 364 | AW83: 12 | AX83: 410 | AY83: 13
A84: 112084 | B84: San Diego Christian College | C84: 2 | E84: 3 | G84: 2 | I84: 2 | K84: 2 | M84: 5 | O84: 1 | Q84: 7 | S84: 5 | U84: 6 | W84: 6 | Y84: 1 | AN84: 116 | AP84: 114 | AR84: 128 | AT84: 82 | AV84: 105 | AX84: 124
A85: 236577 | B85: Seattle Pacific University | C85: 32 | E85: 35 | F85: 3 | G85: 42 | I85: 42 | K85: 43 | M85: 38 | O85: 21 | Q85: 18 | R85: 2 | S85: 22 | U85: 18 | W85: 23 | Y85: 13 | AA85: 61 | AB85: 9 | AD85: 6 | AE85: 5 | AF85: 7 | AH85: 9 | AJ85: 9 | AL85: 6 | AN85: 657 | AP85: 689 | AQ85: 48 | AR85: 771 | AT85: 734 | AV85: 814 | AX85: 842
A86: 123457 | B86: Simpson University | C86: 4 | E86: 11 | G86: 8 | I86: 8 | K86: 9 | M86: 5 | O86: 2 | P86: 1 | Q86: 4 | S86: 3 | U86: 2 | W86: 5 | Y86: 3 | AD86: 5 | AF86: 1 | AH86: 8 | AJ86: 0 | AL86: 3 | AN86: 319 | AO86: 10 | AP86: 314 | AR86: 227 | AT86: 300 | AV86: 334 | AX86: 320 | AY86: 5
A87: 137564 | B87: Southeastern University | C87: 14 | D87: 1 | E87: 5 | F87: 0 | G87: 16 | H87: 2 | I87: 12 | J87: 1 | K87: 23 | L87: 2 | M87: 14 | N87: 1 | O87: 2 | Q87: 3 | S87: 7 | U87: 4 | V87: 1 | W87: 10 | X87: 0 | Y87: 5 | Z87: 0 | AN87: 271 | AO87: 4 | AP87: 351 | AQ87: 18 | AR87: 492 | AS87: 22 | AT87: 488 | AU87: 36 | AV87: 459 | AW87: 34 | AX87: 414 | AY87: 21
A88: 206862 | B88: Southern Nazarene University | C88: 6 | D88: 0 | E88: 7 | F88: 3 | G88: 5 | I88: 3 | K88: 6 | M88: 6 | Q88: 4 | R88: 0 | S88: 6 | U88: 2 | Y88: 0 | AA88: 87 | AB88: 2 | AC88: 1 | AD88: 3 | AE88: 0 | AH88: 0 | AJ88: 1 | AL88: 0 | AN88: 632 | AO88: 11 | AP88: 578 | AQ88: 17 | AR88: 538 | AT88: 497 | AV88: 499 | AX88: 514
A89: 179326 | B89: Southwest Baptist University | C89: 12 | D89: 3 | E89: 5 | F89: 3 | G89: 6 | H89: 2 | I89: 6 | J89: 0 | K89: 11 | L89: 0 | M89: 7 | N89: 0 | O89: 5 | Q89: 12 | R89: 3 | S89: 3 | T89: 0 | U89: 6 | V89: 3 | W89: 5 | X89: 0 | Y89: 3 | Z89: 0 | AA89: 29 | AB89: 14 | AD89: 5 | AE89: 1 | AF89: 2 | AG89: 0 | AH89: 2 | AI89: 1 | AJ89: 2 | AK89: 0 | AL89: 2 | AM89: 0 | AN89: 390 | AO89: 40 | AP89: 385 | AQ89: 52 | AR89: 367 | AS89: 47 | AT89: 386 | AU89: 42 | AV89: 370 | AW89: 33 | AX89: 371 | AY89: 33
A90: 172334 | B90: Spring Arbor University | C90: 34 | D90: 2 | E90: 19 | F90: 1 | G90: 9 | H90: 0 | I90: 18 | J90: 1 | K90: 7 | L90: 1 | M90: 10 | N90: 0 | O90: 11 | P90: 1 | Q90: 8 | R90: 0 | S90: 4 | T90: 1 | U90: 7 | V90: 4 | W90: 7 | X90: 0 | Y90: 12 | Z90: 2 | AB90: 21 | AC90: 0 | AD90: 21 | AE90: 0 | AF90: 27 | AG90: 2 | AH90: 8 | AI90: 1 | AJ90: 7 | AK90: 0 | AL90: 15 | AM90: 1 | AN90: 781 | AO90: 13 | AP90: 714 | AQ90: 10 | AR90: 666 | AS90: 20 | AT90: 705 | AU90: 22 | AV90: 734 | AW90: 14 | AX90: 825 | AY90: 23
A91: 155937 | B91: Sterling College | C91: 3 | E91: 6 | F91: 0 | G91: 4 | H91: 0 | I91: 2 | J91: 0 | K91: 2 | L91: 0 | M91: 6 | N91: 0 | O91: 7 | P91: 1 | Q91: 3 | R91: 0 | S91: 1 | T91: 0 | U91: 3 | V91: 0 | W91: 5 | X91: 0 | Y91: 0 | Z91: 0 | AB91: 5 | AC91: 1 | AD91: 3 | AE91: 2 | AF91: 2 | AG91: 0 | AH91: 13 | AI91: 0 | AJ91: 14 | AK91: 0 | AL91: 6 | AM91: 0 | AN91: 79 | AO91: 7 | AP91: 77 | AQ91: 6 | AR91: 57 | AS91: 4 | AT91: 118 | AU91: 5 | AV91: 129 | AW91: 7 | AX91: 137 | AY91: 3
A92: 155973 | B92: Tabor College | C92: 0 | D92: 0 | E92: 2 | F92: 0 | G92: 1 | H92: 0 | I92: 3 | J92: 1 | K92: 1 | L92: 0 | M92: 0 | N92: 2 | O92: 0 | P92: 0 | Q92: 1 | R92: 1 | S92: 2 | T92: 0 | U92: 4 | V92: 0 | W92: 5 | X92: 0 | Y92: 2 | Z92: 0 | AA92: 10 | AB92: 3 | AC92: 7 | AD92: 1 | AE92: 12 | AF92: 2 | AG92: 12 | AH92: 2 | AI92: 3 | AJ92: 5 | AK92: 7 | AL92: 7 | AM92: 0 | AN92: 137 | AO92: 11 | AP92: 132 | AQ92: 15 | AR92: 134 | AS92: 15 | AT92: 136 | AU92: 28 | AV92: 118 | AW92: 17 | AX92: 166 | AY92: 22
A93: 152530 | B93: Taylor University | C93: 11 | D93: 1 | E93: 9 | F93: 1 | G93: 8 | H93: 0 | I93: 32 | J93: 1 | K93: 17 | L93: 1 | M93: 24 | N93: 1 | O93: 10 | P93: 1 | Q93: 8 | R93: 4 | S93: 9 | T93: 1 | U93: 9 | V93: 3 | W93: 9 | X93: 5 | Y93: 7 | Z93: 0 | AB93: 5 | AC93: 1 | AD93: 8 | AE93: 1 | AF93: 5 | AG93: 0 | AH93: 6 | AI93: 5 | AJ93: 6 | AK93: 1 | AL93: 6 | AM93: 5 | AN93: 406 | AO93: 23 | AP93: 399 | AQ93: 21 | AR93: 400 | AS93: 17 | AT93: 489 | AU93: 26 | AV93: 410 | AW93: 40 | AX93: 414 | AY93: 32
A94: 117751 | B94: The Master's College and Seminary | C94: 9 | E94: 6 | G94: 10 | I94: 8 | K94: 10 | M94: 8 | N94: 1 | O94: 12 | Q94: 13 | R94: 1 | S94: 9 | U94: 7 | W94: 13 | Y94: 10 | AN94: 237 | AO94: 21 | AP94: 262 | AQ94: 13 | AR94: 286 | AS94: 6 | AT94: 204 | AU94: 1 | AV94: 222 | AW94: 2 | AX94: 250 | AY94: 19
A95: 141185 | B95: Toccoa Falls College | C95: 3 | E95: 1 | G95: 6 | I95: 2 | K95: 3 | M95: 3 | U95: 1 | W95: 1 | Y95: 0 | AB95: 4 | AD95: 3 | AF95: 2 | AH95: 0 | AJ95: 0 | AL95: 3 | AN95: 160 | AP95: 161 | AR95: 130 | AT95: 160 | AV95: 141 | AX95: 162
A96: 221892 | B96: Trevecca Nazarene University | C96: 3 | E96: 4 | G96: 3 | I96: 1 | K96: 4 | M96: 4 | O96: 2 | Q96: 7 | S96: 2 | U96: 3 | W96: 3 | Y96: 3 | AB96: 29 | AD96: 20 | AF96: 22 | AH96: 2 | AJ96: 0 | AL96: 0 | AN96: 354 | AP96: 351 | AR96: 334 | AT96: 345 | AV96: 339 | AX96: 353
A97: 149505 | B97: Trinity Christian College | C97: 1 | D97: 1 | E97: 4 | F97: 0 | G97: 4 | H97: 2 | I97: 4 | J97: 0 | K97: 5 | L97: 1 | M97: 2 | N97: 1 | O97: 6 | P97: 2 | Q97: 3 | R97: 1 | S97: 1 | T97: 3 | U97: 6 | V97: 0 | W97: 2 | X97: 1 | Y97: 4 | Z97: 0 | AA97: 14 | AB97: 0 | AC97: 3 | AD97: 3 | AE97: 3 | AF97: 2 | AG97: 0 | AH97: 0 | AI97: 1 | AJ97: 1 | AK97: 1 | AL97: 2 | AM97: 2 | AN97: 269 | AO97: 26 | AP97: 241 | AQ97: 30 | AR97: 307 | AS97: 34 | AT97: 295 | AU97: 28 | AV97: 301 | AW97: 27 | AX97: 268 | AY97: 36
A98: 149514 | B98: Trinity International University-Illinois | C98: 2 | D98: 1 | E98: 6 | F98: 1 | G98: 3 | H98: 0 | I98: 1 | J98: 1 | K98: 3 | L98: 1 | M98: 1 | N98: 0 | O98: 5 | P98: 0 | Q98: 0 | R98: 0 | S98: 3 | T98: 0 | U98: 4 | V98: 0 | W98: 1 | X98: 0 | Y98: 3 | Z98: 0 | AB98: 4 | AC98: 0 | AD98: 6 | AE98: 0 | AF98: 2 | AG98: 1 | AH98: 2 | AI98: 0 | AJ98: 3 | AK98: 1 | AL98: 2 | AM98: 0 | AN98: 221 | AO98: 10 | AP98: 191 | AQ98: 4 | AR98: 205 | AS98: 13 | AT98: 207 | AU98: 11 | AV98: 138 | AW98: 11 | AX98: 185 | AY98: 9
A99: 221971 | B99: Union University | C99: 13 | E99: 10 | G99: 23 | H99: 2 | I99: 11 | J99: 0 | K99: 16 | L99: 1 | M99: 16 | N99: 0 | O99: 9 | P99: 1 | Q99: 9 | R99: 0 | S99: 8 | T99: 3 | U99: 5 | V99: 1 | W99: 11 | X99: 3 | Y99: 11 | Z99: 0 | AA99: 50 | AB99: 29 | AC99: 2 | AD99: 22 | AE99: 0 | AF99: 17 | AG99: 1 | AH99: 22 | AI99: 2 | AJ99: 21 | AK99: 0 | AL99: 18 | AM99: 0 | AN99: 433 | AO99: 7 | AP99: 399 | AQ99: 44 | AR99: 459 | AS99: 59 | AT99: 562 | AU99: 24 | AV99: 644 | AW99: 51 | AX99: 640 | AY99: 0
A100: 226471 | B100: University of Mary Hardin-Baylor | C100: 20 | D100: 2 | E100: 13 | F100: 1 | G100: 13 | H100: 0 | I100: 10 | K100: 12 | L100: 2 | M100: 6 | N100: 1 | O100: 7 | P100: 3 | Q100: 10 | R100: 2 | S100: 9 | T100: 2 | U100: 17 | V100: 1 | W100: 19 | X100: 2 | Y100: 7 | Z100: 2 | AA100: 48 | AB100: 18 | AC100: 1 | AD100: 12 | AF100: 9 | AH100: 6 | AJ100: 5 | AL100: 7 | AN100: 496 | AO100: 34 | AP100: 478 | AQ100: 38 | AR100: 500 | AS100: 28 | AT100: 474 | AU100: 26 | AV100: 478 | AW100: 25 | AX100: 592 | AY100: 24
...

Sheet CCCU (numbers)
A1: UnitID | B1: Institution Name | C1: TOTAL (2004, including 2nd) | D1: TOTAL (2004, 1st only) | E1: English (2004) | F1: History (2004) | G1: Philosophy (2004) | H1: HUMANITIES (2004) | I1: TOTAL (2006, including 2nd) | J1: TOTAL (2006, 1st only) | K1: English (2006) | L1: History (2006) | M1: Philosophy (2006) | N1: HUMANITIES (2006) | O1: TOTAL (2008, including 2nd) | P1: TOTAL (2008, 1st only) | Q1: English (2008) | R1: History (2008) | S1: Philosophy (2008) | T1: HUMANITIES (2008) | U1: TOTAL (2010, including 2nd) | V1: TOTAL (2010, 1st only) | W1: English (2010) | X1: History (2010) | Y1: Philosophy (2010) | Z1: HUMANITIES (2010) | AA1: TOTAL (2012, including 2nd) | AB1: TOTAL (2012, 1st only) | AC1: English (2012) | AD1: History (2012) | AE1: Philosophy (2012) | AF1: HUMANITIES (2012) | AG1: TOTAL (2014, including 2nd) | AH1: TOTAL (2014, 1st only) | AI1: English (2014) | AJ1: History (2014) | AK1: Philosophy (2014) | AL1: HUMANITIES (2014) | AM1: Humanities Change
A2: a 1 | B2: a 2
A3: 222178 | B3: Abilene Christian University | C3: 871 | D3: 817 | E3: 47 | F3: 10 | G3: 0 | H3: =E3+F3+G3 -> 57 | I3: 825 | J3: 790 | K3: 49 | L3: 16 | M3: 0 | N3: =K3+L3+M3 -> 65 | O3: 892 | P3: 850 | Q3: 29 | R3: 6 | S3: 0 | T3: =Q3+R3+S3 -> 35 | U3: 836 | V3: 818 | W3: 29 | X3: 8 | Y3: 0 | Z3: =W3+X3+Y3 -> 37 | AA3: 832 | AB3: 805 | AC3: 24 | AD3: 11 | AE3: 0 | AF3: =AC3+AD3+AE3 -> 35 | AG3: 822 | AH3: 792 | AI3: 20 | AJ3: 7 | AK3: 0 | AL3: =AI3+AJ3+AK3 -> 27 | AM3: =AL3-H3 -> -30
A4: 150066 | B4: Anderson University, IN | C4: 428 | D4: 394 | E4: 9 | F4: 13 | G4: 16 | H4: =E4+F4+G4 -> 38 | I4: 485 | J4: 437 | K4: 7 | L4: 19 | M4: 18 | N4: =K4+L4+M4 -> 44 | O4: 535 | P4: 478 | Q4: 12 | R4: 16 | S4: 14 | T4: =Q4+R4+S4 -> 42 | U4: 449 | V4: 401 | W4: 11 | X4: 25 | Y4: 15 | Z4: =W4+X4+Y4 -> 51 | AA4: 476 | AB4: 418 | AC4: 6 | AD4: 22 | AE4: 8 | AF4: =AC4+AD4+AE4 -> 36 | AG4: 418 | AH4: 377 | AI4: 8 | AJ4: 13 | AK4: 4 | AL4: =AI4+AJ4+AK4 -> 25 | AM4: =AL4-H4 -> -13
A5: 156213 | B5: Asbury University | C5: 267 | D5: 254 | E5: 34 | F5: 17 | G5: 6 | H5: =E5+F5+G5 -> 57 | I5: 287 | J5: 273 | K5: 27 | L5: 10 | M5: 8 | N5: =K5+L5+M5 -> 45 | O5: 242 | P5: 222 | Q5: 21 | R5: 14 | S5: 4 | T5: =Q5+R5+S5 -> 39 | U5: 316 | V5: 286 | W5: 9 | X5: 16 | Y5: 3 | Z5: =W5+X5+Y5 -> 28 | AA5: 263 | AB5: 240 | AC5: 20 | AD5: 10 | AE5: 3 | AF5: =AC5+AD5+AE5 -> 33 | AG5: 302 | AH5: 260 | AI5: 15 | AJ5: 4 | AK5: 0 | AL5: =AI5+AJ5+AK5 -> 19 | AM5: =AL5-H5 -> -38
A6: 109785 | B6: Azusa Pacific University | C6: 1107 | D6: 1091 | E6: 28 | F6: 10 | G6: 3 | H6: =E6+F6+G6 -> 41 | I6: 1181 | J6: 1160 | K6: 30 | L6: 0 | M6: 7 | N6: =K6+L6+M6 -> 37 | O6: 1306 | P6: 1282 | Q6: 33 | R6: 20 | S6: 14 | T6: =Q6+R6+S6 -> 67 | U6: 1186 | V6: 1137 | W6: 47 | X6: 19 | Y6: 2 | Z6: =W6+X6+Y6 -> 68 | AA6: 1437 | AB6: 1401 | AC6: 49 | AD6: 22 | AE6: 11 | AF6: =AC6+AD6+AE6 -> 82 | AG6: 1764 | AH6: 1741 | AI6: 61 | AJ6: 27 | AK6: 15 | AL6: =AI6+AJ6+AK6 -> 103 | AM6: =AL6-H6 -> 62
A7: 175421 | B7: Belhaven University | C7: 391 | D7: 385 | E7: 12 | F7: 12 | G7: 0 | H7: =E7+F7+G7 -> 24 | I7: 378 | J7: 373 | K7: 13 | L7: 12 | M7: 3 | N7: =K7+L7+M7 -> 28 | O7: 412 | P7: 412 | Q7: 5 | R7: 11 | S7: 2 | T7: =Q7+R7+S7 -> 18 | U7: 472 | V7: 472 | W7: 13 | X7: 6 | Y7: 2 | Z7: =W7+X7+Y7 -> 21 | AA7: 462 | AB7: 462 | AC7: 5 | AD7: 12 | AE7: 1 | AF7: =AC7+AD7+AE7 -> 18 | AG7: 498 | AH7: 498 | AI7: 15 | AJ7: 4 | AK7: 1 | AL7: =AI7+AJ7+AK7 -> 20 | AM7: =AL7-H7 -> -4
A8: 150145 | B8: Bethel College, IN | C8: 305 | D8: 305 | E8: 4 | F8: 3 | G8: 8 | H8: =E8+F8+G8 -> 15 | I8: 329 | J8: 329 | K8: 5 | L8: 8 | M8: 14 | N8: =K8+L8+M8 -> 27 | O8: 348 | P8: 348 | Q8: 4 | R8: 1 | S8: 10 | T8: =Q8+R8+S8 -> 15 | U8: 419 | V8: 419 | W8: 4 | X8: 3 | Y8: 10 | Z8: =W8+X8+Y8 -> 17 | AA8: 465 | AB8: 465 | AC8: 5 | AD8: 1 | AE8: 12 | AF8: =AC8+AD8+AE8 -> 18 | AG8: 450 | AH8: 450 | AI8: 6 | AJ8: 3 | AK8: 4 | AL8: =AI8+AJ8+AK8 -> 13 | AM8: =AL8-H8 -> -2
A9: 173160 | B9: Bethel University, MN | C9: 730 | D9: 692 | E9: 21 | F9: 21 | G9: 16 | H9: =E9+F9+G9 -> 58 | I9: 803 | J9: 750 | K9: 19 | L9: 18 | M9: 11 | N9: =K9+L9+M9 -> 48 | O9: 830 | P9: 766 | Q9: 26 | R9: 25 | S9: 13 | T9: =Q9+R9+S9 -> 64 | U9: 918 | V9: 843 | W9: 16 | X9: 16 | Y9: 18 | Z9: =W9+X9+Y9 -> 50 | AA9: 933 | AB9: 856 | AC9: 17 | AD9: 15 | AE9: 12 | AF9: =AC9+AD9+AE9 -> 44 | AG9: 910 | AH9: 842 | AI9: 13 | AJ9: 11 | AK9: 3 | AL9: =AI9+AJ9+AK9 -> 27 | AM9: =AL9-H9 -> -31
A10: 110097 | B10: Biola University | C10: 690 | D10: 690 | E10: 29 | F10: 11 | G10: 12 | H10: =E10+F10+G10 -> 52 | I10: 778 | J10: 778 | K10: 22 | L10: 12 | M10: 9 | N10: =K10+L10+M10 -> 43 | O10: 896 | P10: 896 | Q10: 42 | R10: 10 | S10: 10 | T10: =Q10+R10+S10 -> 62 | U10: 913 | V10: 913 | W10: 39 | X10: 18 | Y10: 15 | Z10: =W10+X10+Y10 -> 72 | AA10: 897 | AB10: 897 | AC10: 31 | AD10: 19 | AE10: 8 | AF10: =AC10+AD10+AE10 -> 58 | AG10: 932 | AH10: 932 | AI10: 41 | AJ10: 13 | AK10: 14 | AL10: =AI10+AJ10+AK10 -> 68 | AM10: =AL10-H10 -> 16
A11: 201371 | B11: Bluffton University | C11: 250 | D11: 230 | E11: 5 | F11: 4 | G11: 2 | H11: =E11+F11+G11 -> 11 | I11: 263 | J11: 242 | K11: 7 | L11: 3 | M11: 2 | N11: =K11+L11+M11 -> 12 | O11: 274 | P11: 253 | Q11: 8 | R11: 7 | S11: 2 | T11: =Q11+R11+S11 -> 17 | U11: 240 | V11: 219 | W11: 8 | X11: 14 | Y11: 3 | Z11: =W11+X11+Y11 -> 25 | AA11: 272 | AB11: 240 | AC11: 14 | AD11: 9 | AE11: 4 | AF11: =AC11+AD11+AE11 -> 27 | AG11: 209 | AH11: 187 | AI11: 6 | AJ11: 5 | AK11: 0 | AL11: =AI11+AJ11+AK11 -> 11 | AM11: =AL11-H11 -> 0
A12: 219790 | B12: Bryan College-Dayton | C12: 128 | D12: 127 | E12: 6 | F12: 8 | G12: 0 | H12: =E12+F12+G12 -> 14 | I12: 176 | J12: 175 | K12: 6 | L12: 8 | M12: 0 | N12: =K12+L12+M12 -> 14 | O12: 248 | P12: 247 | Q12: 7 | R12: 2 | S12: 2 | T12: =Q12+R12+S12 -> 11 | U12: 305 | V12: 303 | W12: 9 | X12: 5 | Y12: 2 | Z12: =W12+X12+Y12 -> 16 | AA12: 309 | AB12: 300 | AC12: 4 | AD12: 6 | AE12: 2 | AF12: =AC12+AD12+AE12 -> 12 | AG12: 304 | AH12: 293 | AI12: 17 | AJ12: 5 | AK12: 2 | AL12: =AI12+AJ12+AK12 -> 24 | AM12: =AL12-H12 -> 10
A13: 110361 | B13: California Baptist University | C13: 430 | D13: 418 | E13: 23 | F13: 15 | G13: 4 | H13: =E13+F13+G13 -> 42 | I13: 595 | J13: 564 | K13: 27 | L13: 23 | M13: 17 | N13: =K13+L13+M13 -> 67 | O13: 648 | P13: 626 | Q13: 33 | R13: 22 | S13: 29 | T13: =Q13+R13+S13 -> 84 | U13: 739 | V13: 711 | W13: 36 | X13: 25 | Y13: 31 | Z13: =W13+X13+Y13 -> 92 | AA13: 850 | AB13: 825 | AC13: 27 | AD13: 16 | AE13: 33 | AF13: =AC13+AD13+AE13 -> 76 | AG13: 1057 | AH13: 1029 | AI13: 30 | AJ13: 17 | AK13: 35 | AL13: =AI13+AJ13+AK13 -> 82 | AM13: =AL13-H13 -> 40
A14: 169080 | B14: Calvin College | C14: 952 | D14: 872 | E14: 64 | F14: 28 | G14: 38 | H14: =E14+F14+G14 -> 130 | I14: 1030 | J14: 919 | K14: 43 | L14: 53 | M14: 39 | N14: =K14+L14+M14 -> 135 | O14: 927 | P14: 823 | Q14: 39 | R14: 28 | S14: 39 | T14: =Q14+R14+S14 -> 106 | U14: 1038 | V14: 908 | W14: 44 | X14: 23 | Y14: 36 | Z14: =W14+X14+Y14 -> 103 | AA14: 905 | AB14: 795 | AC14: 31 | AD14: 16 | AE14: 36 | AF14: =AC14+AD14+AE14 -> 83 | AG14: 1000 | AH14: 852 | AI14: 35 | AJ14: 14 | AK14: 39 | AL14: =AI14+AJ14+AK14 -> 88 | AM14: =AL14-H14 -> -42
... A113: 101189 | B113: Faulkner University (2014) | C113: 659 | D113: 659 | E113: 2 | F113: 3 | G113: 0 | H113: =E113+F113+G113 -> 5 | I113: 622 | J113: 622 | K113: 0 | L113: 5 | M113: 0 | N113: =K113+L113+M113 -> 5 | O113: 591 | P113: 591 | Q113: 5 | R113: 2 | S113: 0 | T113: =Q113+R113+S113 -> 7 | U113: 649 | V113: 649 | W113: 4 | X113: 3 | Y113: 0 | Z113: =W113+X113+Y113 -> 7 | AA113: 575 | AB113: 570 | AC113: 10 | AD113: 4 | AE113: 0 | AF113: =AC113+AD113+AE113 -> 14 | AG113: 510 | AH113: 508 | AI113: 7 | AJ113: 1 | AK113: 0 | AL113: =AI113+AJ113+AK113 -> 8 | AM113: =AL113-H113 -> 3
B114: TOTALS | C114: 39473 | D114: 37077 | E114: 1264 | F114: 746 | G114: 935 | H114: 2945 | I114: 40085 | J114: 37463 | K114: 1264 | L114: 837 | M114: 898 | N114: 2999 | O114: 43601 | P114: 41038 | Q114: 1280 | R114: 826 | S114: 795 | T114: 2901 | U114: 45095 | V114: 42669 | W114: 1295 | X114: 896 | Y114: 758 | Z114: 2949 | AA114: 47015 | AB114: 44521 | AC114: 1260 | AD114: 884 | AE114: 705 | AF114: 2849 | AG114: 49986 | AH114: 47646 | AI114: 1318 | AJ114: 747 | AK114: 677 | AL114: 2742 | AM114: =AL114-H114 -> -203
B115: Percentages (including 2nd) | E115: 0.032021888 | F115: 0.018898994 | G115: 0.023687077 | H115: 0.07460796 | K115: 0.031532992 | L115: 0.020880629 | M115: 0.022402395 | N115: 0.074816016 | Q115: 0.029357125 | R115: 0.01894452 | S115: 0.018233527 | T115: 0.066535171 | W115: 0.028717153 | X115: 0.019869165 | Y115: 0.016808959 | Z115: 0.065395277 | AC115: 0.026799957 | AD115: 0.01880251 | AE115: 0.014995214 | AF115: 0.060597682 | AI115: 0.026367383 | AJ115: 0.014944184 | AK115: 0.013543792 | AL115: 0.05485536 | AM115: =AL115-H115 -> -0.0197526
B116: Percentages (just 1st) | E116: 0.034091216 | F116: 0.02012029 | G116: 0.02521779 | H116: 0.079429296 | K116: 0.033739957 | L116: 0.022342044 | M116: 0.023970317 | N116: 0.080052318 | Q116: 0.031190604 | R116: 0.020127687 | S116: 0.019372289 | T116: 0.070690579 | W116: 0.030349903 | X116: 0.020998852 | Y116: 0.017764653 | Z116: 0.069113408 | AC116: 0.028301251 | AD116: 0.019855798 | AE116: 0.015835224 | AF116: 0.063992273 | AI116: 0.027662343 | AJ116: 0.015678126 | AK116: 0.014208958 | AL116: 0.057549427 | AM116: =AL116-H116 -> -0.021879869
B118: Percent of graduates with 2nd major | C118: =(C114-D114)/D114 -> 0.064622273 | I118: =(I114-J114)/J114 -> 0.069989056 | O118: =(O114-P114)/P114 -> 0.062454311 | U118: =(U114-V114)/V114 -> 0.056856266 | AA118: =(AA114-AB114)/AB114 -> 0.056018508 | AG118: =(AG114-AH114)/AH114 -> 0.049112202

Sheet CCCU (% of 1st and 2nd)
A1: UnitID | B1: Institution Name | C1: TOTAL (2004, including 2nd) | D1: English (2004) | E1: History (2004) | F1: Philosophy (2004) | G1: HUMANITIES (2004) | H1: TOTAL (2006, including 2nd) | I1: English (2006) | J1: History (2006) | K1: Philosophy (2006) | L1: HUMANITIES (2006) | M1: TOTAL (2008, including 2nd) | N1: English (2008) | O1: History (2008) | P1: Philosophy (2008) | Q1: HUMANITIES (2008) | R1: TOTAL (2010, including 2nd) | S1: English (2010) | T1: History (2010) | U1: Philosophy (2010) | V1: HUMANITIES (2010) | W1: TOTAL (2012, including 2nd) | X1: English (2012) | Y1: History (2012) | Z1: Philosophy (2012) | AA1: HUMANITIES (2012) | AB1: TOTAL (2014, including 2nd) | AC1: English (2014) | AD1: History (2014) | AE1: Philosophy (2014) | AF1: HUMANITIES (2014) | AG1: Humanities Change
A2: a 1 | B2: a 2
A3: 222178 | B3: Abilene Christian University | C3: 871 | D3: ='CCCU (numbers)'!E3/'CCCU (% of 1st and 2nd)'!C3 -> 0.053960964 | E3: ='CCCU (numbers)'!F3/'CCCU (% of 1st and 2nd)'!C3 -> 0.011481056 | F3: ='CCCU (numbers)'!G3/'CCCU (% of 1st and 2nd)'!C3 -> 0 | G3: ='CCCU (numbers)'!H3/'CCCU (% of 1st and 2nd)'!C3 -> 0.065442021 | H3: 825 | I3: ='CCCU (numbers)'!K3/'CCCU (% of 1st and 2nd)'!H3 -> 0.059393939 | J3: ='CCCU (numbers)'!L3/'CCCU (% of 1st and 2nd)'!H3 -> 0.019393939 | K3: ='CCCU (numbers)'!M3/'CCCU (% of 1st and 2nd)'!H3 -> 0 | L3: ='CCCU (numbers)'!N3/'CCCU (% of 1st and 2nd)'!H3 -> 0.078787879 | M3: 892 | N3: ='CCCU (numbers)'!Q3/'CCCU (% of 1st and 2nd)'!M3 -> 0.032511211 | O3: ='CCCU (numbers)'!R3/'CCCU (% of 1st and 2nd)'!M3 -> 0.0067264574 | P3: ='CCCU (numbers)'!S3/'CCCU (% of 1st and 2nd)'!M3 -> 0 | Q3: ='CCCU (numbers)'!T3/'CCCU (% of 1st and 2nd)'!M3 -> 0.039237668 | R3: 836 | S3: ='CCCU (numbers)'!W3/'CCCU (% of 1st and 2nd)'!R3 -> 0.034688995 | T3: ='CCCU (numbers)'!X3/'CCCU (% of 1st and 2nd)'!R3 -> 0.009569378 | U3: ='CCCU (numbers)'!Y3/'CCCU (% of 1st and 2nd)'!R3 -> 0 | V3: ='CCCU (numbers)'!Z3/'CCCU (% of 1st and 2nd)'!R3 -> 0.044258373 | W3: 832 | X3: ='CCCU (numbers)'!AC3/'CCCU (% of 1st and 2nd)'!W3 -> 0.028846154 | Y3: ='CCCU (numbers)'!AD3/'CCCU (% of 1st and 2nd)'!W3 -> 0.013221154 | Z3: ='CCCU (numbers)'!AE3/'CCCU (% of 1st and 2nd)'!W3 -> 0 | AA3: ='CCCU (numbers)'!AF3/'CCCU (% of 1st and 2nd)'!W3 -> 0.042067308 | AB3: 822 | AC3: ='CCCU (numbers)'!AI3/'CCCU (% of 1st and 2nd)'!AB3 -> 0.0243309 | AD3: ='CCCU (numbers)'!AJ3/'CCCU (% of 1st and 2nd)'!AB3 -> 0.0085158151 | AE3: ='CCCU (numbers)'!AK3/'CCCU (% of 1st and 2nd)'!AB3 -> 0 | AF3: ='CCCU (numbers)'!AL3/'CCCU (% of 1st and 2nd)'!AB3 -> 0.032846715 | AG3: =AF3-G3 -> -0.032595305
A4: 150066 | B4: Anderson University, IN | C4: 428 | D4: ='CCCU (numbers)'!E4/'CCCU (% of 1st and 2nd)'!C4 -> 0.021028037 | E4: ='CCCU (numbers)'!F4/'CCCU (% of 1st and 2nd)'!C4 -> 0.030373832 | F4: ='CCCU (numbers)'!G4/'CCCU (% of 1st and 2nd)'!C4 -> 0.037383178 | G4: ='CCCU (numbers)'!H4/'CCCU (% of 1st and 2nd)'!C4 -> 0.088785047 | H4: 485 | I4: ='CCCU (numbers)'!K4/'CCCU (% of 1st and 2nd)'!H4 -> 0.01443299 | J4: ='CCCU (numbers)'!L4/'CCCU (% of 1st and 2nd)'!H4 -> 0.039175258 | K4: ='CCCU (numbers)'!M4/'CCCU (% of 1st and 2nd)'!H4 -> 0.037113402 | L4: ='CCCU (numbers)'!N4/'CCCU (% of 1st and 2nd)'!H4 -> 0.090721649 | M4: 535 | N4: ='CCCU (numbers)'!Q4/'CCCU (% of 1st and 2nd)'!M4 -> 0.022429907 | O4: ='CCCU (numbers)'!R4/'CCCU (% of 1st and 2nd)'!M4 -> 0.029906542 | P4: ='CCCU (numbers)'!S4/'CCCU (% of 1st and 2nd)'!M4 -> 0.026168224 | Q4: ='CCCU (numbers)'!T4/'CCCU (% of 1st and 2nd)'!M4 -> 0.078504673 | R4: 449 | S4: ='CCCU (numbers)'!W4/'CCCU (% of 1st and 2nd)'!R4 -> 0.024498886 | T4: ='CCCU (numbers)'!X4/'CCCU (% of 1st and 2nd)'!R4 -> 0.055679287 | U4: ='CCCU (numbers)'!Y4/'CCCU (% of 1st and 2nd)'!R4 -> 0.033407572 | V4: ='CCCU (numbers)'!Z4/'CCCU (% of 1st and 2nd)'!R4 -> 0.11358575 | W4: 476 | X4: ='CCCU (numbers)'!AC4/'CCCU (% of 1st and 2nd)'!W4 -> 0.012605042 | Y4: ='CCCU (numbers)'!AD4/'CCCU (% of 1st and 2nd)'!W4 -> 0.046218487 | Z4: ='CCCU (numbers)'!AE4/'CCCU (% of 1st and 2nd)'!W4 -> 0.016806723 | AA4: ='CCCU (numbers)'!AF4/'CCCU (% of 1st and 2nd)'!W4 -> 0.075630252 | AB4: 418 | AC4: ='CCCU (numbers)'!AI4/'CCCU (% of 1st and 2nd)'!AB4 -> 0.019138756 | AD4: ='CCCU (numbers)'!AJ4/'CCCU (% of 1st and 2nd)'!AB4 -> 0.031100478 | AE4: ='CCCU (numbers)'!AK4/'CCCU (% of 1st and 2nd)'!AB4 -> 0.009569378 | AF4: ='CCCU (numbers)'!AL4/'CCCU (% of 1st and 2nd)'!AB4 -> 0.059808612 | AG4: =AF4-G4 -> -0.028976434
A5: 156213 | B5: Asbury University | C5: 267 | D5: ='CCCU (numbers)'!E5/'CCCU (% of 1st and 2nd)'!C5 -> 0.12734082 | E5: ='CCCU (numbers)'!F5/'CCCU (% of 1st and 2nd)'!C5 -> 0.063670412 | F5: ='CCCU (numbers)'!G5/'CCCU (% of 1st and 2nd)'!C5 -> 0.02247191 | G5: ='CCCU (numbers)'!H5/'CCCU (% of 1st and 2nd)'!C5 -> 0.21348315 | H5: 287 | I5: ='CCCU (numbers)'!K5/'CCCU (% of 1st and 2nd)'!H5 -> 0.094076655 | J5: ='CCCU (numbers)'!L5/'CCCU (% of 1st and 2nd)'!H5 -> 0.034843206 | K5: ='CCCU (numbers)'!M5/'CCCU (% of 1st and 2nd)'!H5 -> 0.027874564 | L5: ='CCCU (numbers)'!N5/'CCCU (% of 1st and 2nd)'!H5 -> 0.15679443 | M5: 242 | N5: ='CCCU (numbers)'!Q5/'CCCU (% of 1st and 2nd)'!M5 -> 0.08677686 | O5: ='CCCU (numbers)'!R5/'CCCU (% of 1st and 2nd)'!M5 -> 0.05785124 | P5: ='CCCU (numbers)'!S5/'CCCU (% of 1st and 2nd)'!M5 -> 0.016528926 | Q5: ='CCCU (numbers)'!T5/'CCCU (% of 1st and 2nd)'!M5 -> 0.16115702 | R5: 316 | S5: ='CCCU (numbers)'!W5/'CCCU (% of 1st and 2nd)'!R5 -> 0.028481013 | T5: ='CCCU (numbers)'!X5/'CCCU (% of 1st and 2nd)'!R5 -> 0.050632911 | U5: ='CCCU (numbers)'!Y5/'CCCU (% of 1st and 2nd)'!R5 -> 0.0094936709 | V5: ='CCCU (numbers)'!Z5/'CCCU (% of 1st and 2nd)'!R5 -> 0.088607595 | W5: 263 | X5: ='CCCU (numbers)'!AC5/'CCCU (% of 1st and 2nd)'!W5 -> 0.076045627 | Y5: ='CCCU (numbers)'!AD5/'CCCU (% of 1st and 2nd)'!W5 -> 0.038022814 | Z5: ='CCCU (numbers)'!AE5/'CCCU (% of 1st and 2nd)'!W5 -> 0.011406844 | AA5: ='CCCU (numbers)'!AF5/'CCCU (% of 1st and 2nd)'!W5 -> 0.12547529 | AB5: 302 | AC5: ='CCCU (numbers)'!AI5/'CCCU (% of 1st and 2nd)'!AB5 -> 0.049668874 | AD5: ='CCCU (numbers)'!AJ5/'CCCU (% of 1st and 2nd)'!AB5 -> 0.013245033 | AE5: ='CCCU (numbers)'!AK5/'CCCU (% of 1st and 2nd)'!AB5 -> 0 | AF5: ='CCCU (numbers)'!AL5/'CCCU (% of 1st and 2nd)'!AB5 -> 0.062913907 | AG5: =AF5-G5 -> -0.15056924
A6: 109785 | B6: Azusa Pacific University | C6: 1107 | D6: ='CCCU (numbers)'!E6/'CCCU (% of 1st and 2nd)'!C6 -> 0.025293586 | E6: ='CCCU (numbers)'!F6/'CCCU (% of 1st and 2nd)'!C6 -> 0.0090334237 | F6: ='CCCU (numbers)'!G6/'CCCU (% of 1st and 2nd)'!C6 -> 0.0027100271 | G6: ='CCCU (numbers)'!H6/'CCCU (% of 1st and 2nd)'!C6 -> 0.037037037 | H6: 1181 | I6: ='CCCU (numbers)'!K6/'CCCU (% of 1st and 2nd)'!H6 -> 0.025402202 | J6: ='CCCU (numbers)'!L6/'CCCU (% of 1st and 2nd)'!H6 -> 0 | K6: ='CCCU (numbers)'!M6/'CCCU (% of 1st and 2nd)'!H6 -> 0.0059271804 | L6: ='CCCU (numbers)'!N6/'CCCU (% of 1st and 2nd)'!H6 -> 0.031329382 | M6: 1306 | N6: ='CCCU (numbers)'!Q6/'CCCU (% of 1st and 2nd)'!M6 -> 0.025267994 | O6: ='CCCU (numbers)'!R6/'CCCU (% of 1st and 2nd)'!M6 -> 0.015313936 | P6: ='CCCU (numbers)'!S6/'CCCU (% of 1st and 2nd)'!M6 -> 0.010719755 | Q6: ='CCCU (numbers)'!T6/'CCCU (% of 1st and 2nd)'!M6 -> 0.051301685 | R6: 1186 | S6: ='CCCU (numbers)'!W6/'CCCU (% of 1st and 2nd)'!R6 -> 0.039629005 | T6: ='CCCU (numbers)'!X6/'CCCU (% of 1st and 2nd)'!R6 -> 0.016020236 | U6: ='CCCU (numbers)'!Y6/'CCCU (% of 1st and 2nd)'!R6 -> 0.0016863406 | V6: ='CCCU (numbers)'!Z6/'CCCU (% of 1st and 2nd)'!R6 -> 0.057335582 | W6: 1437 | X6: ='CCCU (numbers)'!AC6/'CCCU (% of 1st and 2nd)'!W6 -> 0.034098817 | Y6: ='CCCU (numbers)'!AD6/'CCCU (% of 1st and 2nd)'!W6 -> 0.015309673 | Z6: ='CCCU (numbers)'!AE6/'CCCU (% of 1st and 2nd)'!W6 -> 0.0076548365 | AA6: ='CCCU (numbers)'!AF6/'CCCU (% of 1st and 2nd)'!W6 -> 0.057063326 | AB6: 1764 | AC6: ='CCCU (numbers)'!AI6/'CCCU (% of 1st and 2nd)'!AB6 -> 0.034580499 | AD6: ='CCCU (numbers)'!AJ6/'CCCU (% of 1st and 2nd)'!AB6 -> 0.015306122 | AE6: ='CCCU (numbers)'!AK6/'CCCU (% of 1st and 2nd)'!AB6 -> 0.0085034014 | AF6: ='CCCU (numbers)'!AL6/'CCCU (% of 1st and 2nd)'!AB6 -> 0.058390023 | AG6: =AF6-G6 -> 0.021352986
A7: 175421 | B7: Belhaven University | C7: 391 | D7: ='CCCU (numbers)'!E7/'CCCU (% of 1st and 2nd)'!C7 -> 0.030690537 | E7: ='CCCU (numbers)'!F7/'CCCU (% of 1st and 2nd)'!C7 -> 0.030690537 | F7: ='CCCU (numbers)'!G7/'CCCU (% of 1st and 2nd)'!C7 -> 0 | G7: ='CCCU (numbers)'!H7/'CCCU (% of 1st and 2nd)'!C7 -> 0.061381074 | H7: 378 | I7: ='CCCU (numbers)'!K7/'CCCU (% of 1st and 2nd)'!H7 -> 0.034391534 | J7: ='CCCU (numbers)'!L7/'CCCU (% of 1st and 2nd)'!H7 -> 0.031746032 | K7: ='CCCU (numbers)'!M7/'CCCU (% of 1st and 2nd)'!H7 -> 0.0079365079 | L7: ='CCCU (numbers)'!N7/'CCCU (% of 1st and 2nd)'!H7 -> 0.074074074 | M7: 412 | N7: ='CCCU (numbers)'!Q7/'CCCU (% of 1st and 2nd)'!M7 -> 0.012135922 | O7: ='CCCU (numbers)'!R7/'CCCU (% of 1st and 2nd)'!M7 -> 0.026699029 | P7: ='CCCU (numbers)'!S7/'CCCU (% of 1st and 2nd)'!M7 -> 0.0048543689 | Q7: ='CCCU (numbers)'!T7/'CCCU (% of 1st and 2nd)'!M7 -> 0.04368932 | R7: 472 | S7: ='CCCU (numbers)'!W7/'CCCU (% of 1st and 2nd)'!R7 -> 0.027542373 | T7: ='CCCU (numbers)'!X7/'CCCU (% of 1st and 2nd)'!R7 -> 0.012711864 | U7: ='CCCU (numbers)'!Y7/'CCCU (% of 1st and 2nd)'!R7 -> 0.0042372881 | V7: ='CCCU (numbers)'!Z7/'CCCU (% of 1st and 2nd)'!R7 -> 0.044491525 | W7: 462 | X7: ='CCCU (numbers)'!AC7/'CCCU (% of 1st and 2nd)'!W7 -> 0.010822511 | Y7: ='CCCU (numbers)'!AD7/'CCCU (% of 1st and 2nd)'!W7 -> 0.025974026 | Z7: ='CCCU (numbers)'!AE7/'CCCU (% of 1st and 2nd)'!W7 -> 0.0021645022 | AA7: ='CCCU (numbers)'!AF7/'CCCU (% of 1st and 2nd)'!W7 -> 0.038961039 | AB7: 498 | AC7: ='CCCU (numbers)'!AI7/'CCCU (% of 1st and 2nd)'!AB7 -> 0.030120482 | AD7: ='CCCU (numbers)'!AJ7/'CCCU (% of 1st and 2nd)'!AB7 -> 0.0080321285 | AE7: ='CCCU (numbers)'!AK7/'CCCU (% of 1st and 2nd)'!AB7 -> 0.0020080321 | AF7: ='CCCU (numbers)'!AL7/'CCCU (% of 1st and 2nd)'!AB7 -> 0.040160643 | AG7: =AF7-G7 -> -0.021220432
A8: 150145 | B8: Bethel College, IN | C8: 305 | D8: ='CCCU (numbers)'!E8/'CCCU (% of 1st and 2nd)'!C8 -> 0.013114754 | E8: ='CCCU (numbers)'!F8/'CCCU (% of 1st and 2nd)'!C8 -> 0.0098360656 | F8: ='CCCU (numbers)'!G8/'CCCU (% of 1st and 2nd)'!C8 -> 0.026229508 | G8: ='CCCU (numbers)'!H8/'CCCU (% of 1st and 2nd)'!C8 -> 0.049180328 | H8: 329 | I8: ='CCCU (numbers)'!K8/'CCCU (% of 1st and 2nd)'!H8 -> 0.015197568 | J8: ='CCCU (numbers)'!L8/'CCCU (% of 1st and 2nd)'!H8 -> 0.024316109 | K8: ='CCCU (numbers)'!M8/'CCCU (% of 1st and 2nd)'!H8 -> 0.042553191 | L8: ='CCCU (numbers)'!N8/'CCCU (% of 1st and 2nd)'!H8 -> 0.082066869 | M8: 348 | N8: ='CCCU (numbers)'!Q8/'CCCU (% of 1st and 2nd)'!M8 -> 0.011494253 | O8: ='CCCU (numbers)'!R8/'CCCU (% of 1st and 2nd)'!M8 -> 0.0028735632 | P8: ='CCCU (numbers)'!S8/'CCCU (% of 1st and 2nd)'!M8 -> 0.028735632 | Q8: ='CCCU (numbers)'!T8/'CCCU (% of 1st and 2nd)'!M8 -> 0.043103448 | R8: 419 | S8: ='CCCU (numbers)'!W8/'CCCU (% of 1st and 2nd)'!R8 -> 0.0095465394 | T8: ='CCCU (numbers)'!X8/'CCCU (% of 1st and 2nd)'!R8 -> 0.0071599045 | U8: ='CCCU (numbers)'!Y8/'CCCU (% of 1st and 2nd)'!R8 -> 0.023866348 | V8: ='CCCU (numbers)'!Z8/'CCCU (% of 1st and 2nd)'!R8 -> 0.040572792 | W8: 465 | X8: ='CCCU (numbers)'!AC8/'CCCU (% of 1st and 2nd)'!W8 -> 0.010752688 | Y8: ='CCCU (numbers)'!AD8/'CCCU (% of 1st and 2nd)'!W8 -> 0.0021505376 | Z8: ='CCCU (numbers)'!AE8/'CCCU (% of 1st and 2nd)'!W8 -> 0.025806452 | AA8: ='CCCU (numbers)'!AF8/'CCCU (% of 1st and 2nd)'!W8 -> 0.038709677 | AB8: 450 | AC8: ='CCCU (numbers)'!AI8/'CCCU (% of 1st and 2nd)'!AB8 -> 0.013333333 | AD8: ='CCCU (numbers)'!AJ8/'CCCU (% of 1st and 2nd)'!AB8 -> 0.0066666667 | AE8: ='CCCU (numbers)'!AK8/'CCCU (% of 1st and 2nd)'!AB8 -> 0.0088888889 | AF8: ='CCCU (numbers)'!AL8/'CCCU (% of 1st and 2nd)'!AB8 -> 0.028888889 | AG8: =AF8-G8 -> -0.020291439
A9: 173160 | B9: Bethel University, MN | C9: 730 | D9: ='CCCU (numbers)'!E9/'CCCU (% of 1st and 2nd)'!C9 -> 0.028767123 | E9: ='CCCU (numbers)'!F9/'CCCU (% of 1st and 2nd)'!C9 -> 0.028767123 | F9: ='CCCU (numbers)'!G9/'CCCU (% of 1st and 2nd)'!C9 -> 0.021917808 | G9: ='CCCU (numbers)'!H9/'CCCU (% of 1st and 2nd)'!C9 -> 0.079452055 | H9: 803 | I9: ='CCCU (numbers)'!K9/'CCCU (% of 1st and 2nd)'!H9 -> 0.02366127 | J9: ='CCCU (numbers)'!L9/'CCCU (% of 1st and 2nd)'!H9 -> 0.02241594 | K9: ='CCCU (numbers)'!M9/'CCCU (% of 1st and 2nd)'!H9 -> 0.01369863 | L9: ='CCCU (numbers)'!N9/'CCCU (% of 1st and 2nd)'!H9 -> 0.059775841 | M9: 830 | N9: ='CCCU (numbers)'!Q9/'CCCU (% of 1st and 2nd)'!M9 -> 0.031325301 | O9: ='CCCU (numbers)'!R9/'CCCU (% of 1st and 2nd)'!M9 -> 0.030120482 | P9: ='CCCU (numbers)'!S9/'CCCU (% of 1st and 2nd)'!M9 -> 0.015662651 | Q9: ='CCCU (numbers)'!T9/'CCCU (% of 1st and 2nd)'!M9 -> 0.077108434 | R9: 918 | S9: ='CCCU (numbers)'!W9/'CCCU (% of 1st and 2nd)'!R9 -> 0.017429194 | T9: ='CCCU (numbers)'!X9/'CCCU (% of 1st and 2nd)'!R9 -> 0.017429194 | U9: ='CCCU (numbers)'!Y9/'CCCU (% of 1st and 2nd)'!R9 -> 0.019607843 | V9: ='CCCU (numbers)'!Z9/'CCCU (% of 1st and 2nd)'!R9 -> 0.054466231 | W9: 933 | X9: ='CCCU (numbers)'!AC9/'CCCU (% of 1st and 2nd)'!W9 -> 0.018220793 | Y9: ='CCCU (numbers)'!AD9/'CCCU (% of 1st and 2nd)'!W9 -> 0.01607717 | Z9: ='CCCU (numbers)'!AE9/'CCCU (% of 1st and 2nd)'!W9 -> 0.012861736 | AA9: ='CCCU (numbers)'!AF9/'CCCU (% of 1st and 2nd)'!W9 -> 0.0471597 | AB9: 910 | AC9: ='CCCU (numbers)'!AI9/'CCCU (% of 1st and 2nd)'!AB9 -> 0.014285714 | AD9: ='CCCU (numbers)'!AJ9/'CCCU (% of 1st and 2nd)'!AB9 -> 0.012087912 | AE9: ='CCCU (numbers)'!AK9/'CCCU (% of 1st and 2nd)'!AB9 -> 0.0032967033 | AF9: ='CCCU (numbers)'!AL9/'CCCU (% of 1st and 2nd)'!AB9 -> 0.02967033 | AG9: =AF9-G9 -> -0.049781725
A10: 110097 | B10: Biola University | C10: 690 | D10: ='CCCU (numbers)'!E10/'CCCU (% of 1st and 2nd)'!C10 -> 0.042028986 | E10: ='CCCU (numbers)'!F10/'CCCU (% of 1st and 2nd)'!C10 -> 0.015942029 | F10: ='CCCU (numbers)'!G10/'CCCU (% of 1st and 2nd)'!C10 -> 0.017391304 | G10: ='CCCU (numbers)'!H10/'CCCU (% of 1st and 2nd)'!C10 -> 0.075362319 | H10: 778 | I10: ='CCCU (numbers)'!K10/'CCCU (% of 1st and 2nd)'!H10 -> 0.028277635 | J10: ='CCCU (numbers)'!L10/'CCCU (% of 1st and 2nd)'!H10 -> 0.015424165 | K10: ='CCCU (numbers)'!M10/'CCCU (% of 1st and 2nd)'!H10 -> 0.011568123 | L10: ='CCCU (numbers)'!N10/'CCCU (% of 1st and 2nd)'!H10 -> 0.055269923 | M10: 896 | N10: ='CCCU (numbers)'!Q10/'CCCU (% of 1st and 2nd)'!M10 -> 0.046875 | O10: ='CCCU (numbers)'!R10/'CCCU (% of 1st and 2nd)'!M10 -> 0.011160714 | P10: ='CCCU (numbers)'!S10/'CCCU (% of 1st and 2nd)'!M10 -> 0.011160714 | Q10: ='CCCU (numbers)'!T10/'CCCU (% of 1st and 2nd)'!M10 -> 0.069196429 | R10: 913 | S10: ='CCCU (numbers)'!W10/'CCCU (% of 1st and 2nd)'!R10 -> 0.04271632 | T10: ='CCCU (numbers)'!X10/'CCCU (% of 1st and 2nd)'!R10 -> 0.019715225 | U10: ='CCCU (numbers)'!Y10/'CCCU (% of 1st and 2nd)'!R10 -> 0.016429354 | V10: ='CCCU (numbers)'!Z10/'CCCU (% of 1st and 2nd)'!R10 -> 0.078860898 | W10: 897 | X10: ='CCCU (numbers)'!AC10/'CCCU (% of 1st and 2nd)'!W10 -> 0.034559643 | Y10: ='CCCU (numbers)'!AD10/'CCCU (% of 1st and 2nd)'!W10 -> 0.021181717 | Z10: ='CCCU (numbers)'!AE10/'CCCU (% of 1st and 2nd)'!W10 -> 0.0089186176 | AA10: ='CCCU (numbers)'!AF10/'CCCU (% of 1st and 2nd)'!W10 -> 0.064659978 | AB10: 932 | AC10: ='CCCU (numbers)'!AI10/'CCCU (% of 1st and 2nd)'!AB10 -> 0.043991416 | AD10: ='CCCU (numbers)'!AJ10/'CCCU (% of 1st and 2nd)'!AB10 -> 0.013948498 | AE10: ='CCCU (numbers)'!AK10/'CCCU (% of 1st and 2nd)'!AB10 -> 0.015021459 | AF10: ='CCCU (numbers)'!AL10/'CCCU (% of 1st and 2nd)'!AB10 -> 0.072961373 | AG10: =AF10-G10 -> -0.0024009455
A11: 201371 | B11: Bluffton University | C11: 250 | D11: ='CCCU (numbers)'!E11/'CCCU (% of 1st and 2nd)'!C11 -> 0.02 | E11: ='CCCU (numbers)'!F11/'CCCU (% of 1st and 2nd)'!C11 -> 0.016 | F11: ='CCCU (numbers)'!G11/'CCCU (% of 1st and 2nd)'!C11 -> 0.008 | G11: ='CCCU (numbers)'!H11/'CCCU (% of 1st and 2nd)'!C11 -> 0.044 | H11: 263 | I11: ='CCCU (numbers)'!K11/'CCCU (% of 1st and 2nd)'!H11 -> 0.02661597 | J11: ='CCCU (numbers)'!L11/'CCCU (% of 1st and 2nd)'!H11 -> 0.011406844 | K11: ='CCCU (numbers)'!M11/'CCCU (% of 1st and 2nd)'!H11 -> 0.0076045627 | L11: ='CCCU (numbers)'!N11/'CCCU (% of 1st and 2nd)'!H11 -> 0.045627376 | M11: 274 | N11: ='CCCU (numbers)'!Q11/'CCCU (% of 1st and 2nd)'!M11 -> 0.02919708 | O11: ='CCCU (numbers)'!R11/'CCCU (% of 1st and 2nd)'!M11 -> 0.025547445 | P11: ='CCCU (numbers)'!S11/'CCCU (% of 1st and 2nd)'!M11 -> 0.0072992701 | Q11: ='CCCU (numbers)'!T11/'CCCU (% of 1st and 2nd)'!M11 -> 0.062043796 | R11: 240 | S11: ='CCCU (numbers)'!W11/'CCCU (% of 1st and 2nd)'!R11 -> 0.033333333 | T11: ='CCCU (numbers)'!X11/'CCCU (% of 1st and 2nd)'!R11 -> 0.058333333 | U11: ='CCCU (numbers)'!Y11/'CCCU (% of 1st and 2nd)'!R11 -> 0.0125 | V11: ='CCCU (numbers)'!Z11/'CCCU (% of 1st and 2nd)'!R11 -> 0.10416667 | W11: 272 | X11: ='CCCU (numbers)'!AC11/'CCCU (% of 1st and 2nd)'!W11 -> 0.051470588 | Y11: ='CCCU (numbers)'!AD11/'CCCU (% of 1st and 2nd)'!W11 -> 0.033088235 | Z11: ='CCCU (numbers)'!AE11/'CCCU (% of 1st and 2nd)'!W11 -> 0.014705882 | AA11: ='CCCU (numbers)'!AF11/'CCCU (% of 1st and 2nd)'!W11 -> 0.099264706 | AB11: 209 | AC11: ='CCCU (numbers)'!AI11/'CCCU (% of 1st and 2nd)'!AB11 -> 0.028708134 | AD11: ='CCCU (numbers)'!AJ11/'CCCU (% of 1st and 2nd)'!AB11 -> 0.023923445 | AE11: ='CCCU (numbers)'!AK11/'CCCU (% of 1st and 2nd)'!AB11 -> 0 | AF11: ='CCCU (numbers)'!AL11/'CCCU (% of 1st and 2nd)'!AB11 -> 0.052631579 | AG11: =AF11-G11 -> 0.0086315789
A12: 219790 | B12: Bryan College-Dayton | C12: 128 | D12: ='CCCU (numbers)'!E12/'CCCU (% of 1st and 2nd)'!C12 -> 0.046875 | E12: ='CCCU (numbers)'!F12/'CCCU (% of 1st and 2nd)'!C12 -> 0.0625 | F12: ='CCCU (numbers)'!G12/'CCCU (% of 1st and 2nd)'!C12 -> 0 | G12: ='CCCU (numbers)'!H12/'CCCU (% of 1st and 2nd)'!C12 -> 0.109375 | H12: 176 | I12: ='CCCU (numbers)'!K12/'CCCU (% of 1st and 2nd)'!H12 -> 0.034090909 | J12: ='CCCU (numbers)'!L12/'CCCU (% of 1st and 2nd)'!H12 -> 0.045454545 | K12: ='CCCU (numbers)'!M12/'CCCU (% of 1st and 2nd)'!H12 -> 0 | L12: ='CCCU (numbers)'!N12/'CCCU (% of 1st and 2nd)'!H12 -> 0.079545455 | M12: 248 | N12: ='CCCU (numbers)'!Q12/'CCCU (% of 1st and 2nd)'!M12 -> 0.028225806 | O12: ='CCCU (numbers)'!R12/'CCCU (% of 1st and 2nd)'!M12 -> 0.0080645161 | P12: ='CCCU (numbers)'!S12/'CCCU (% of 1st and 2nd)'!M12 -> 0.0080645161 | Q12: ='CCCU (numbers)'!T12/'CCCU (% of 1st and 2nd)'!M12 -> 0.044354839 | R12: 305 | S12: ='CCCU (numbers)'!W12/'CCCU (% of 1st and 2nd)'!R12 -> 0.029508197 | T12: ='CCCU (numbers)'!X12/'CCCU (% of 1st and 2nd)'!R12 -> 0.016393443 | U12: ='CCCU (numbers)'!Y12/'CCCU (% of 1st and 2nd)'!R12 -> 0.006557377 | V12: ='CCCU (numbers)'!Z12/'CCCU (% of 1st and 2nd)'!R12 -> 0.052459016 | W12: 309 | X12: ='CCCU (numbers)'!AC12/'CCCU (% of 1st and 2nd)'!W12 -> 0.012944984 | Y12: ='CCCU (numbers)'!AD12/'CCCU (% of 1st and 2nd)'!W12 -> 0.019417476 | Z12: ='CCCU (numbers)'!AE12/'CCCU (% of 1st and 2nd)'!W12 -> 0.0064724919 | AA12: ='CCCU (numbers)'!AF12/'CCCU (% of 1st and 2nd)'!W12 -> 0.038834951 | AB12: 304 | AC12: ='CCCU (numbers)'!AI12/'CCCU (% of 1st and 2nd)'!AB12 -> 0.055921053 | AD12: ='CCCU (numbers)'!AJ12/'CCCU (% of 1st and 2nd)'!AB12 -> 0.016447368 | AE12: ='CCCU (numbers)'!AK12/'CCCU (% of 1st and 2nd)'!AB12 -> 0.0065789474 | AF12: ='CCCU (numbers)'!AL12/'CCCU (% of 1st and 2nd)'!AB12 -> 0.078947368 | AG12: =AF12-G12 -> -0.030427632
