Workbook

Sheet ELCA (raw)
A1: UnitID | B1: Institution Name | C1: Grand total (C2014_A First major History Bachelor's degree) | D1: Grand total (C2014_A First major Philosophy and Religious Studies Bachelor's degree) | E1: Grand total (C2014_A First major English Language and Literature/Letters Bachelor's degree) | F1: Grand total (C2014_A Second major History Bachelor's degree) | G1: Grand total (C2014_A Second major Philosophy and Religious Studies Bachelor's degree) | H1: Grand total (C2014_A Second major English Language and Literature/Letters Bachelor's degree) | I1: Grand total (C2012_A_RV First major History Bachelor's degree) | J1: Grand total (C2012_A_RV First major Philosophy and Religious Studies Bachelor's degree) | K1: Grand total (C2012_A_RV First major English Language and Literature/Letters Bachelor's degree) | L1: Grand total (C2012_A_RV Second major History Bachelor's degree) | M1: Grand total (C2012_A_RV Second major Philosophy and Religious Studies Bachelor's degree) | N1: Grand total (C2012_A_RV Second major English Language and Literature/Letters Bachelor's degree) | O1: Grand total (C2010_A_RV First major History Bachelor's degree) | P1: Grand total (C2010_A_RV First major Philosophy and Religious Studies Bachelor's degree) | Q1: Grand total (C2010_A_RV First major English Language and Literature/Letters Bachelor's degree) | R1: Grand total (C2010_A_RV Second major History Bachelor's degree) | S1: Grand total (C2010_A_RV Second major Philosophy and Religious Studies Bachelor's degree) | T1: Grand total (C2010_A_RV Second major English Language and Literature/Letters Bachelor's degree) | U1: Grand total (C2008_A_RV First major English language and literature/letters. Bachelor's degree) | V1: Grand total (C2008_A_RV First major Philosophy and religious studies. Bachelor's degree) | W1: Grand total (C2008_A_RV First major History Bachelor's degree) | X1: Grand total (C2008_A_RV Second major English language and literature/letters. Bachelor's degree) | Y1: Grand total (C2008_A_RV Second major Philosophy and religious studies. Bachelor's degree) | Z1: Grand total (C2008_A_RV Second major History Bachelor's degree) | AA1: Grand total (C2006_A First major English language and literature/letters. Bachelor's degree) | AB1: Grand total (C2006_A First major Philosophy and religious studies. Bachelor's degree) | AC1: Grand total (C2006_A First major History Bachelor's degree) | AD1: Grand total (C2006_A Second major English language and literature/letters. Bachelor's degree) | AE1: Grand total (C2006_A Second major Philosophy and religious studies. Bachelor's degree) | AF1: Grand total (C2006_A Second major History Bachelor's degree) | AG1: Grand total (C2004_A First major English language and literature/letters. Bachelor's degree) | AH1: Grand total (C2004_A First major Philosophy and religious studies. Bachelor's degree) | AI1: Grand total (C2004_A First major History Bachelor's degree) | AJ1: Grand total (C2004_A Second major English language and literature/letters. Bachelor's degree) | AK1: Grand total (C2004_A Second major Philosophy and religious studies. Bachelor's degree) | AL1: Grand total (C2004_A Second major History Bachelor's degree) | AM1: Grand total (C2014_A First major Grand total Bachelor's degree) | AN1: Grand total (C2014_A Second major Grand total Bachelor's degree) | AO1: Grand total (C2012_A_RV First major Grand total Bachelor's degree) | AP1: Grand total (C2012_A_RV Second major Grand total Bachelor's degree) | AQ1: Grand total (C2010_A_RV First major Grand total Bachelor's degree) | AR1: Grand total (C2010_A_RV Second major Grand total Bachelor's degree) | AS1: Grand total (C2008_A_RV First major Grand total Bachelor's degree) | AT1: Grand total (C2008_A_RV Second major Grand total Bachelor's degree) | AU1: Grand total (C2006_A First major Grand total Bachelor's degree) | AV1: Grand total (C2006_A Second major Grand total Bachelor's degree) | AW1: Grand total (C2004_A First major Grand total Bachelor's degree) | AX1: Grand total (C2004_A Second major Grand total Bachelor's degree)
A2: 173045 | B2: Augsburg College | C2: 16 | D2: 4 | E2: 17 | F2: 2 | G2: 5 | H2: 6 | I2: 13 | J2: 13 | K2: 21 | L2: 1 | M2: 5 | N2: 4 | O2: 17 | P2: 10 | Q2: 25 | R2: 3 | S2: 9 | T2: 1 | U2: 20 | V2: 18 | W2: 14 | X2: 0 | Y2: 4 | Z2: 3 | AA2: 18 | AB2: 5 | AC2: 13 | AD2: 3 | AE2: 2 | AF2: 1 | AG2: 19 | AH2: 8 | AI2: 18 | AK2: 3 | AL2: 2 | AM2: 586 | AN2: 101 | AO2: 603 | AP2: 134 | AQ2: 627 | AR2: 99 | AS2: 589 | AT2: 59 | AU2: 484 | AV2: 49 | AW2: 453 | AX2: 57
A3: 143084 | B3: Augustana College | C3: 10 | D3: 13 | E3: 23 | F3: 4 | G3: 11 | H3: 11 | I3: 7 | J3: 11 | K3: 32 | L3: 2 | M3: 7 | N3: 9 | O3: 8 | P3: 8 | Q3: 26 | R3: 6 | S3: 9 | T3: 6 | U3: 61 | V3: 14 | W3: 22 | X3: 6 | Y3: 3 | Z3: 7 | AA3: 55 | AB3: 9 | AC3: 25 | AD3: 19 | AE3: 5 | AF3: 6 | AG3: 55 | AH3: 10 | AI3: 26 | AJ3: 15 | AK3: 7 | AL3: 6 | AM3: 607 | AN3: 239 | AO3: 518 | AP3: 162 | AQ3: 585 | AR3: 193 | AS3: 521 | AT3: 157 | AU3: 509 | AV3: 168 | AW3: 540 | AX3: 186
A4: 219000 | B4: Augustana College | C4: 8 | D4: 2 | E4: 16 | F4: 2 | G4: 4 | H4: 2 | I4: 10 | J4: 7 | K4: 19 | L4: 4 | M4: 4 | N4: 6 | O4: 7 | P4: 5 | Q4: 15 | R4: 3 | S4: 5 | T4: 3 | U4: 13 | V4: 6 | W4: 10 | X4: 0 | Y4: 9 | Z4: 2 | AA4: 12 | AB4: 6 | AC4: 11 | AD4: 4 | AE4: 7 | AF4: 1 | AG4: 15 | AH4: 9 | AI4: 5 | AJ4: 1 | AK4: 8 | AL4: 0 | AM4: 361 | AN4: 126 | AO4: 359 | AP4: 117 | AQ4: 362 | AR4: 124 | AS4: 341 | AT4: 102 | AU4: 357 | AV4: 114 | AW4: 369 | AX4: 126
A5: 154721 | B5: Bethany College | C5: 4 | D5: 0 | E5: 0 | F5: 0 | H5: 0 | I5: 1 | J5: 0 | K5: 0 | L5: 0 | N5: 0 | O5: 4 | P5: 0 | Q5: 2 | R5: 0 | S5: 1 | T5: 0 | U5: 0 | V5: 0 | W5: 2 | X5: 0 | Y5: 0 | AA5: 3 | AB5: 4 | AC5: 3 | AD5: 1 | AE5: 1 | AG5: 3 | AH5: 2 | AI5: 5 | AJ5: 0 | AM5: 117 | AN5: 14 | AO5: 97 | AP5: 16 | AQ5: 98 | AR5: 25 | AS5: 98 | AT5: 16 | AU5: 108 | AV5: 20 | AW5: 115 | AX5: 8
A6: 110413 | B6: California Lutheran University | C6: 7 | D6: 10 | E6: 12 | G6: 2 | H6: 2 | I6: 15 | J6: 6 | K6: 24 | M6: 2 | O6: 7 | P6: 12 | Q6: 13 | R6: 1 | S6: 3 | T6: 1 | U6: 12 | V6: 6 | W6: 10 | X6: 1 | Y6: 4 | AA6: 17 | AB6: 4 | AC6: 14 | AD6: 1 | AE6: 3 | AG6: 16 | AH6: 8 | AI6: 16 | AJ6: 1 | AK6: 2 | AL6: 1 | AM6: 740 | AN6: 38 | AO6: 680 | AP6: 27 | AQ6: 523 | AR6: 35 | AS6: 532 | AT6: 39 | AU6: 458 | AV6: 20 | AW6: 484 | AX6: 20
A7: 201548 | B7: Capital University | C7: 8 | D7: 9 | E7: 12 | F7: 0 | G7: 6 | H7: 7 | I7: 11 | J7: 6 | K7: 6 | M7: 3 | N7: 3 | O7: 7 | P7: 6 | Q7: 21 | U7: 11 | V7: 4 | W7: 5 | AA7: 13 | AB7: 7 | AC7: 19 | AG7: 19 | AH7: 3 | AI7: 14 | AM7: 607 | AN7: 99 | AO7: 560 | AP7: 90 | AQ7: 665 | AR7: 23 | AS7: 570 | AT7: 24 | AU7: 657 | AW7: 663
A8: 238476 | B8: Carthage College | C8: 17 | D8: 9 | E8: 23 | F8: 2 | G8: 0 | H8: 5 | I8: 13 | J8: 7 | K8: 22 | L8: 3 | M8: 0 | N8: 1 | O8: 16 | P8: 7 | Q8: 15 | R8: 1 | S8: 2 | T8: 2 | U8: 10 | V8: 2 | W8: 8 | X8: 0 | Y8: 1 | Z8: 3 | AA8: 16 | AB8: 7 | AC8: 17 | AD8: 2 | AE8: 4 | AF8: 3 | AG8: 12 | AH8: 4 | AI8: 9 | AJ8: 2 | AK8: 0 | AL8: 4 | AM8: 607 | AN8: 119 | AO8: 576 | AP8: 124 | AQ8: 461 | AR8: 106 | AS8: 439 | AT8: 132 | AU8: 489 | AV8: 157 | AW8: 370 | AX8: 144
A9: 173300 | B9: Concordia College at Moorhead | C9: 8 | D9: 5 | E9: 24 | F9: 2 | G9: 3 | H9: 5 | I9: 9 | J9: 13 | K9: 40 | L9: 2 | M9: 8 | N9: 6 | O9: 12 | P9: 12 | Q9: 10 | R9: 4 | S9: 5 | T9: 1 | U9: 25 | V9: 11 | W9: 8 | X9: 3 | Y9: 7 | Z9: 5 | AA9: 20 | AB9: 15 | AC9: 10 | AD9: 4 | AE9: 9 | AF9: 5 | AG9: 29 | AH9: 15 | AI9: 12 | AJ9: 8 | AK9: 19 | AL9: 8 | AM9: 584 | AN9: 135 | AO9: 627 | AP9: 165 | AQ9: 532 | AR9: 141 | AS9: 611 | AT9: 192 | AU9: 555 | AV9: 167 | AW9: 583 | AX9: 204
A10: 172440 | B10: Finlandia University | C10: 1 | E10: 0 | K10: 1 | Q10: 0 | AM10: 82 | AN10: 0 | AO10: 57 | AQ10: 66 | AS10: 86 | AU10: 40 | AW10: 61
A11: 212674 | B11: Gettysburg College | C11: 52 | D11: 32 | E11: 42 | F11: 3 | G11: 12 | H11: 4 | I11: 47 | J11: 21 | K11: 53 | L11: 7 | M11: 15 | N11: 4 | O11: 62 | P11: 13 | Q11: 51 | R11: 5 | S11: 8 | T11: 5 | U11: 59 | V11: 20 | W11: 42 | X11: 6 | Y11: 12 | Z11: 5 | AA11: 45 | AB11: 28 | AC11: 47 | AD11: 4 | AE11: 9 | AF11: 5 | AG11: 44 | AH11: 35 | AI11: 49 | AJ11: 0 | AK11: 7 | AL11: 3 | AM11: 660 | AN11: 90 | AO11: 617 | AP11: 99 | AQ11: 623 | AR11: 113 | AS11: 645 | AT11: 96 | AU11: 594 | AV11: 93 | AW11: 597 | AX11: 82
A12: 153375 | B12: Grand View University | C12: 7 | D12: 3 | E12: 7 | F12: 1 | H12: 2 | I12: 10 | J12: 3 | K12: 7 | N12: 3 | O12: 2 | P12: 2 | Q12: 8 | R12: 4 | S12: 1 | T12: 1 | U12: 5 | W12: 9 | X12: 2 | Z12: 1 | AA12: 8 | AB12: 3 | AD12: 5 | AG12: 3 | AH12: 2 | AJ12: 2 | AM12: 478 | AN12: 76 | AO12: 496 | AP12: 74 | AQ12: 495 | AR12: 54 | AS12: 411 | AT12: 54 | AU12: 425 | AV12: 72 | AW12: 334 | AX12: 33
A13: 173647 | B13: Gustavus Adolphus College | C13: 19 | D13: 16 | E13: 31 | I13: 30 | J13: 18 | K13: 29 | O13: 22 | P13: 14 | Q13: 24 | U13: 30 | V13: 15 | W13: 22 | AA13: 29 | AB13: 21 | AC13: 22 | AG13: 27 | AH13: 19 | AI13: 22 | AM13: 650 | AO13: 619 | AQ13: 586 | AS13: 666 | AU13: 689 | AW13: 703
A14: 198835 | B14: Lenoir-Rhyne University | C14: 7 | D14: 3 | E14: 6 | I14: 4 | J14: 7 | K14: 5 | L14: 2 | M14: 0 | O14: 4 | P14: 4 | Q14: 2 | R14: 1 | S14: 2 | T14: 0 | U14: 1 | V14: 13 | W14: 4 | X14: 0 | Y14: 0 | Z14: 0 | AA14: 5 | AB14: 1 | AC14: 7 | AD14: 1 | AE14: 2 | AG14: 9 | AH14: 6 | AI14: 3 | AJ14: 0 | AK14: 5 | AM14: 321 | AN14: 28 | AO14: 281 | AP14: 18 | AQ14: 252 | AR14: 35 | AS14: 284 | AT14: 0 | AU14: 282 | AV14: 34 | AW14: 253 | AX14: 26
A15: 153834 | B15: Luther College | C15: 11 | D15: 10 | E15: 27 | F15: 4 | G15: 4 | H15: 6 | I15: 21 | J15: 12 | K15: 28 | L15: 4 | M15: 8 | N15: 4 | O15: 17 | P15: 11 | Q15: 28 | R15: 3 | S15: 5 | T15: 1 | U15: 25 | V15: 13 | W15: 17 | X15: 4 | Y15: 12 | Z15: 1 | AA15: 25 | AB15: 12 | AC15: 20 | AD15: 9 | AE15: 7 | AF15: 2 | AG15: 20 | AH15: 12 | AI15: 17 | AJ15: 5 | AK15: 7 | AL15: 4 | AM15: 532 | AN15: 135 | AO15: 582 | AP15: 154 | AQ15: 555 | AR15: 122 | AS15: 546 | AT15: 103 | AU15: 520 | AV15: 104 | AW15: 555 | AX15: 133
A16: 181330 | B16: Midland University | C16: 4 | D16: 0 | E16: 1 | F16: 0 | G16: 0 | H16: 0 | I16: 6 | J16: 1 | K16: 1 | L16: 2 | M16: 0 | N16: 2 | O16: 2 | P16: 0 | Q16: 1 | R16: 2 | S16: 0 | T16: 1 | U16: 2 | V16: 0 | W16: 0 | X16: 0 | Y16: 0 | Z16: 0 | AA16: 2 | AB16: 1 | AC16: 0 | AD16: 1 | AE16: 0 | AF16: 1 | AG16: 3 | AH16: 2 | AI16: 1 | AJ16: 1 | AK16: 0 | AL16: 0 | AM16: 192 | AN16: 16 | AO16: 214 | AP16: 37 | AQ16: 181 | AR16: 23 | AS16: 170 | AT16: 23 | AU16: 192 | AV16: 27 | AW16: 184 | AX16: 29
A17: 214175 | B17: Muhlenberg College | C17: 13 | D17: 7 | E17: 24 | F17: 8 | G17: 8 | H17: 11 | I17: 17 | J17: 10 | K17: 29 | L17: 6 | M17: 5 | N17: 12 | O17: 15 | P17: 8 | Q17: 21 | R17: 9 | S17: 2 | T17: 8 | U17: 33 | V17: 6 | W17: 23 | X17: 12 | Y17: 1 | Z17: 4 | AA17: 31 | AB17: 10 | AC17: 13 | AD17: 16 | AE17: 9 | AF17: 7 | AG17: 36 | AH17: 10 | AI17: 28 | AJ17: 14 | AK17: 8 | AL17: 1 | AM17: 574 | AN17: 194 | AO17: 624 | AP17: 169 | AQ17: 613 | AR17: 196 | AS17: 560 | AT17: 175 | AU17: 575 | AV17: 132 | AW17: 595 | AX17: 141
A18: 218414 | B18: Newberry College | C18: 5 | D18: 3 | E18: 6 | F18: 0 | G18: 0 | H18: 1 | I18: 11 | J18: 4 | K18: 9 | L18: 1 | M18: 1 | O18: 7 | P18: 1 | Q18: 2 | R18: 1 | U18: 1 | V18: 0 | W18: 1 | X18: 1 | AA18: 3 | AB18: 0 | AC18: 6 | AF18: 1 | AG18: 6 | AH18: 1 | AI18: 9 | AM18: 197 | AN18: 11 | AO18: 204 | AP18: 9 | AQ18: 141 | AR18: 4 | AS18: 134 | AT18: 10 | AU18: 139 | AV18: 10 | AW18: 113 | AX18: 7
A19: 236230 | B19: Pacific Lutheran University | C19: 15 | D19: 4 | E19: 24 | F19: 4 | G19: 6 | H19: 1 | I19: 36 | J19: 15 | K19: 46 | L19: 1 | M19: 7 | N19: 3 | O19: 27 | P19: 20 | Q19: 32 | R19: 3 | S19: 6 | T19: 2 | U19: 44 | V19: 20 | W19: 33 | X19: 0 | Y19: 0 | Z19: 0 | AA19: 29 | AB19: 13 | AC19: 24 | AD19: 2 | AE19: 11 | AF19: 6 | AG19: 28 | AH19: 12 | AI19: 14 | AJ19: 1 | AK19: 5 | AL19: 1 | AM19: 753 | AN19: 64 | AO19: 691 | AP19: 64 | AQ19: 730 | AR19: 53 | AS19: 797 | AT19: 0 | AU19: 733 | AV19: 73 | AW19: 723 | AX19: 65
A20: 233426 | B20: Roanoke College | C20: 32 | D20: 7 | E20: 23 | F20: 2 | G20: 1 | H20: 6 | I20: 35 | J20: 6 | K20: 40 | L20: 0 | M20: 0 | N20: 1 | O20: 30 | P20: 10 | Q20: 33 | R20: 2 | T20: 2 | U20: 30 | V20: 1 | W20: 34 | AA20: 30 | AB20: 9 | AC20: 37 | AG20: 47 | AH20: 8 | AI20: 21 | AM20: 454 | AN20: 31 | AO20: 438 | AP20: 32 | AQ20: 433 | AR20: 21 | AS20: 429 | AU20: 397 | AW20: 385
A21: 174844 | B21: St Olaf College | C21: 25 | D21: 14 | E21: 55 | F21: 7 | G21: 12 | H21: 8 | I21: 34 | J21: 31 | K21: 44 | L21: 7 | M21: 20 | N21: 13 | O21: 36 | P21: 24 | Q21: 53 | R21: 10 | S21: 23 | T21: 8 | U21: 65 | V21: 27 | W21: 32 | X21: 8 | Y21: 22 | Z21: 7 | AA21: 61 | AB21: 30 | AC21: 29 | AD21: 13 | AE21: 20 | AF21: 11 | AG21: 67 | AH21: 45 | AI21: 19 | AJ21: 17 | AK21: 26 | AL21: 14 | AM21: 780 | AN21: 246 | AO21: 768 | AP21: 260 | AQ21: 716 | AR21: 245 | AS21: 722 | AT21: 220 | AU21: 715 | AV21: 247 | AW21: 708 | AX21: 241
A22: 216278 | B22: Susquehanna University | C22: 14 | D22: 4 | E22: 55 | F22: 1 | G22: 6 | H22: 2 | I22: 20 | J22: 5 | K22: 45 | L22: 4 | M22: 6 | N22: 3 | O22: 13 | P22: 11 | Q22: 36 | R22: 0 | S22: 4 | T22: 3 | U22: 36 | V22: 7 | W22: 14 | X22: 1 | Y22: 5 | Z22: 1 | AA22: 28 | AB22: 6 | AC22: 13 | AD22: 4 | AE22: 6 | AF22: 2 | AG22: 25 | AH22: 4 | AI22: 11 | AJ22: 1 | AK22: 2 | AM22: 509 | AN22: 42 | AO22: 504 | AP22: 49 | AQ22: 436 | AR22: 33 | AS22: 455 | AT22: 71 | AU22: 448 | AV22: 81 | AW22: 421 | AX22: 37
A23: 228981 | B23: Texas Lutheran University | C23: 4 | D23: 0 | E23: 4 | F23: 0 | G23: 2 | H23: 0 | I23: 10 | J23: 2 | K23: 5 | M23: 1 | N23: 0 | O23: 3 | P23: 1 | Q23: 4 | S23: 0 | T23: 0 | U23: 6 | V23: 0 | W23: 7 | X23: 0 | Y23: 0 | Z23: 0 | AA23: 4 | AB23: 1 | AC23: 9 | AD23: 0 | AG23: 12 | AH23: 3 | AI23: 8 | AJ23: 1 | AL23: 6 | AM23: 198 | AN23: 9 | AO23: 262 | AP23: 21 | AQ23: 231 | AR23: 16 | AS23: 250 | AT23: 19 | AU23: 254 | AV23: 31 | AW23: 262 | AX23: 19
A24: 216357 | B24: Thiel College | C24: 4 | D24: 1 | E24: 3 | F24: 0 | G24: 0 | H24: 0 | I24: 4 | J24: 3 | K24: 3 | L24: 0 | M24: 0 | N24: 2 | O24: 3 | P24: 1 | Q24: 8 | R24: 0 | S24: 2 | T24: 2 | U24: 13 | V24: 8 | W24: 11 | X24: 0 | Y24: 2 | Z24: 1 | AA24: 6 | AB24: 5 | AC24: 10 | AD24: 0 | AE24: 3 | AF24: 1 | AG24: 10 | AH24: 1 | AI24: 10 | AJ24: 0 | AK24: 5 | AL24: 0 | AM24: 166 | AN24: 31 | AO24: 158 | AP24: 47 | AQ24: 155 | AR24: 47 | AS24: 182 | AT24: 41 | AU24: 189 | AV24: 56 | AW24: 205 | AX24: 67
A25: 197197 | B25: Wagner College | C25: 10 | D25: 2 | E25: 15 | F25: 0 | G25: 1 | H25: 1 | I25: 10 | J25: 1 | K25: 12 | L25: 0 | M25: 1 | N25: 0 | O25: 7 | P25: 3 | Q25: 24 | R25: 2 | U25: 25 | V25: 2 | W25: 8 | X25: 2 | AA25: 33 | AC25: 11 | AD25: 1 | AG25: 13 | AI25: 10 | AM25: 458 | AN25: 42 | AO25: 417 | AP25: 48 | AQ25: 425 | AR25: 37 | AS25: 384 | AT25: 35 | AU25: 429 | AV25: 46 | AW25: 357
A26: 154527 | B26: Wartburg College | C26: 8 | D26: 3 | E26: 10 | F26: 2 | G26: 2 | H26: 1 | I26: 10 | J26: 8 | K26: 11 | L26: 1 | M26: 3 | N26: 3 | O26: 13 | P26: 7 | Q26: 18 | R26: 0 | S26: 4 | T26: 2 | U26: 8 | V26: 13 | W26: 8 | X26: 3 | Y26: 2 | Z26: 1 | AA26: 14 | AB26: 15 | AC26: 12 | AD26: 3 | AE26: 7 | AF26: 3 | AG26: 18 | AH26: 20 | AI26: 3 | AJ26: 3 | AK26: 5 | AL26: 1 | AM26: 382 | AN26: 58 | AO26: 383 | AP26: 74 | AQ26: 366 | AR26: 62 | AS26: 350 | AT26: 65 | AU26: 382 | AV26: 80 | AW26: 346 | AX26: 68
A27: 206525 | B27: Wittenberg University | C27: 19 | D27: 6 | E27: 27 | F27: 0 | G27: 1 | H27: 0 | I27: 18 | J27: 6 | K27: 30 | L27: 1 | M27: 1 | N27: 2 | O27: 18 | P27: 4 | Q27: 35 | R27: 1 | S27: 1 | T27: 2 | U27: 34 | V27: 8 | W27: 21 | X27: 5 | Y27: 1 | Z27: 0 | AA27: 37 | AB27: 8 | AC27: 22 | AD27: 4 | AE27: 1 | AF27: 1 | AG27: 44 | AH27: 6 | AI27: 16 | AJ27: 3 | AK27: 1 | AL27: 0 | AM27: 393 | AN27: 45 | AO27: 417 | AP27: 59 | AQ27: 434 | AR27: 45 | AS27: 452 | AT27: 32 | AU27: 438 | AV27: 57 | AW27: 438 | AX27: 40
B28: TOTALS | C28: =SUM(C2:C27) -> 328 | D28: =SUM(D2:D27) -> 167 | E28: =SUM(E2:E27) -> 487 | F28: =SUM(F2:F27) -> 44 | G28: =SUM(G2:G27) -> 86 | H28: =SUM(H2:H27) -> 81 | I28: =SUM(I2:I27) -> 402 | J28: =SUM(J2:J27) -> 216 | ... AX28: =SUM(AX2:AX27) -> 1733

Sheet ELCA (numbers)
A1: UnitID | B1: Institution Name | C1: TOTAL (2004, including 2nd) | D1: TOTAL (2004, just 1st) | E1: English (2004) | F1: History (2004) | G1: Philosophy (2004) | H1: HUMANITIES (2004) | I1: TOTAL (2006, including 2nd) | J1: TOTAL (2006, just 1st) | K1: English (2006) | L1: History (2006) | M1: Philosophy (2006) | N1: HUMANITIES (2006) | O1: TOTAL (2008, including 2nd) | P1: TOTAL (2008, just 1st) | Q1: English (2008) | R1: History (2008) | S1: Philosophy (2008) | T1: HUMANITIES (2008) | U1: TOTAL (2010, including 2nd) | V1: TOTAL (2010, just 1st) | W1: English (2010) | X1: History (2010) | Y1: Philosophy (2010) | Z1: HUMANITIES (2010) | AA1: TOTAL (2012, including 2nd) | AB1: TOTAL (2012, just 1st) | AC1: English (2012) | AD1: History (2012) | AE1: Philosophy (2012) | AF1: HUMANITIES (2012) | AG1: TOTAL (2014, including 2nd) | AH1: TOTAL (2014, just 1st) | AI1: English (2014) | AJ1: History (2014) | AK1: Philosophy (2014) | AL1: HUMANITIES (2014) | AM1: Humanities Change
A2: 173045 | B2: Augsburg College | C2: 510 | D2: 453 | E2: 19 | F2: 20 | G2: 11 | H2: 50 | I2: 533 | J2: 484 | K2: 21 | L2: 14 | M2: 7 | N2: 42 | O2: 648 | P2: 589 | Q2: 20 | R2: 17 | S2: 22 | T2: 59 | U2: 726 | V2: 627 | W2: 26 | X2: 20 | Y2: 19 | Z2: 65 | AA2: 737 | AB2: 603 | AC2: 25 | AD2: 14 | AE2: 18 | AF2: 57 | AG2: 687 | AH2: 586 | AI2: 23 | AJ2: 18 | AK2: 9 | AL2: 50 | AM2: =AL2-H2 -> 0
A3: 143084 | B3: Augustana College (IL) | C3: 726 | D3: 540 | E3: 70 | F3: 32 | G3: 17 | H3: 119 | I3: 677 | J3: 509 | K3: 74 | L3: 31 | M3: 14 | N3: 119 | O3: 678 | P3: 521 | Q3: 67 | R3: 29 | S3: 17 | T3: 113 | U3: 778 | V3: 585 | W3: 32 | X3: 14 | Y3: 17 | Z3: 63 | AA3: 680 | AB3: 518 | AC3: 41 | AD3: 9 | AE3: 18 | AF3: 68 | AG3: 846 | AH3: 607 | AI3: 34 | AJ3: 14 | AK3: 24 | AL3: 72 | AM3: =AL3-H3 -> -47
A4: 219000 | B4: Augustana College (SD) | C4: 495 | D4: 369 | E4: 16 | F4: 5 | G4: 17 | H4: 38 | I4: 471 | J4: 357 | K4: 16 | L4: 12 | M4: 13 | N4: 41 | O4: 443 | P4: 341 | Q4: 13 | R4: 12 | S4: 15 | T4: 40 | U4: 486 | V4: 362 | W4: 18 | X4: 10 | Y4: 10 | Z4: 38 | AA4: 476 | AB4: 359 | AC4: 25 | AD4: 14 | AE4: 11 | AF4: 50 | AG4: 487 | AH4: 361 | AI4: 18 | AJ4: 10 | AK4: 6 | AL4: 34 | AM4: =AL4-H4 -> -4
A5: 154721 | B5: Bethany College | C5: 123 | D5: 115 | E5: 3 | F5: 5 | G5: 2 | H5: 10 | I5: 128 | J5: 108 | K5: 4 | L5: 3 | M5: 5 | N5: 12 | O5: 114 | P5: 98 | Q5: 0 | R5: 2 | S5: 0 | T5: 2 | U5: 123 | V5: 98 | W5: 2 | X5: 4 | Y5: 1 | Z5: 7 | AA5: 113 | AB5: 97 | AC5: 0 | AD5: 1 | AE5: 0 | AF5: 1 | AG5: 131 | AH5: 117 | AI5: 0 | AJ5: 4 | AK5: 0 | AL5: 4 | AM5: =AL5-H5 -> -6
A6: 110413 | B6: California Lutheran University | C6: 504 | D6: 484 | E6: 17 | F6: 17 | G6: 10 | H6: 44 | I6: 478 | J6: 458 | K6: 18 | L6: 14 | M6: 7 | N6: 39 | O6: 571 | P6: 532 | Q6: 13 | R6: 10 | S6: 10 | T6: 33 | U6: 558 | V6: 523 | W6: 14 | X6: 8 | Y6: 15 | Z6: 37 | AA6: 707 | AB6: 680 | AC6: 24 | AD6: 15 | AE6: 8 | AF6: 47 | AG6: 778 | AH6: 740 | AI6: 14 | AJ6: 7 | AK6: 12 | AL6: 33 | AM6: =AL6-H6 -> -11
A7: 201548 | B7: Capital University | C7: 663 | D7: 663 | E7: 19 | F7: 14 | G7: 3 | H7: 36 | I7: 657 | J7: 657 | K7: 13 | L7: 19 | M7: 7 | N7: 39 | O7: 594 | P7: 570 | Q7: 11 | R7: 5 | S7: 4 | T7: 20 | U7: 688 | V7: 665 | W7: 21 | X7: 7 | Y7: 6 | Z7: 34 | AA7: 650 | AB7: 560 | AC7: 9 | AD7: 11 | AE7: 9 | AF7: 29 | AG7: 706 | AH7: 607 | AI7: 19 | AJ7: 8 | AK7: 15 | AL7: 42 | AM7: =AL7-H7 -> 6
A8: 238476 | B8: Carthage College | C8: 514 | D8: 370 | E8: 14 | F8: 13 | G8: 4 | H8: 31 | I8: 646 | J8: 489 | K8: 18 | L8: 20 | M8: 11 | N8: 49 | O8: 571 | P8: 439 | Q8: 10 | R8: 11 | S8: 3 | T8: 24 | U8: 567 | V8: 461 | W8: 17 | X8: 17 | Y8: 9 | Z8: 43 | AA8: 700 | AB8: 576 | AC8: 23 | AD8: 16 | AE8: 7 | AF8: 46 | AG8: 726 | AH8: 607 | AI8: 28 | AJ8: 19 | AK8: 9 | AL8: 56 | AM8: =AL8-H8 -> 25
A9: 173300 | B9: Concordia College at Moorhead | C9: 787 | D9: 583 | E9: 37 | F9: 20 | G9: 34 | H9: 91 | I9: 722 | J9: 555 | K9: 24 | L9: 15 | M9: 24 | N9: 63 | O9: 803 | P9: 611 | Q9: 28 | R9: 13 | S9: 18 | T9: 59 | U9: 673 | V9: 532 | W9: 11 | X9: 16 | Y9: 17 | Z9: 44 | AA9: 792 | AB9: 627 | AC9: 46 | AD9: 11 | AE9: 21 | AF9: 78 | AG9: 719 | AH9: 584 | AI9: 29 | AJ9: 10 | AK9: 8 | AL9: 47 | AM9: =AL9-H9 -> -44
A10: 172440 | B10: Finlandia University | C10: 61 | D10: 61 | E10: 0 | F10: 0 | G10: 0 | H10: 0 | I10: 40 | J10: 40 | K10: 0 | L10: 0 | M10: 0 | N10: 0 | O10: 86 | P10: 86 | Q10: 0 | R10: 0 | S10: 0 | T10: 0 | U10: 66 | V10: 66 | W10: 0 | X10: 0 | Y10: 0 | Z10: 0 | AA10: 57 | AB10: 57 | AC10: 1 | AD10: 0 | AE10: 0 | AF10: 1 | AG10: 82 | AH10: 82 | AI10: 0 | AJ10: 1 | AK10: 0 | AL10: 1 | AM10: =AL10-H10 -> 1
A11: 212674 | B11: Gettysburg College | C11: 679 | D11: 597 | E11: 44 | F11: 52 | G11: 42 | H11: 138 | I11: 687 | J11: 594 | K11: 49 | L11: 52 | M11: 37 | N11: 138 | O11: 741 | P11: 645 | Q11: 65 | R11: 47 | S11: 32 | T11: 144 | U11: 736 | V11: 623 | W11: 56 | X11: 67 | Y11: 21 | Z11: 144 | AA11: 716 | AB11: 617 | AC11: 57 | AD11: 54 | AE11: 36 | AF11: 147 | AG11: 750 | AH11: 660 | AI11: 46 | AJ11: 55 | AK11: 44 | AL11: 145 | AM11: =AL11-H11 -> 7
A12: 153375 | B12: Grand View University | C12: 367 | D12: 334 | E12: 5 | F12: 0 | G12: 2 | H12: 7 | I12: 497 | J12: 425 | K12: 13 | L12: 0 | M12: 3 | N12: 16 | O12: 465 | P12: 411 | Q12: 7 | R12: 10 | S12: 0 | T12: 17 | U12: 549 | V12: 495 | W12: 9 | X12: 6 | Y12: 3 | Z12: 18 | AA12: 570 | AB12: 496 | AC12: 10 | AD12: 10 | AE12: 3 | AF12: 23 | AG12: 554 | AH12: 478 | AI12: 9 | AJ12: 8 | AK12: 3 | AL12: 20 | AM12: =AL12-H12 -> 13
A13: 173647 | B13: Gustavus Adolphus College | C13: 703 | D13: 703 | E13: 27 | F13: 22 | G13: 19 | H13: 68 | I13: 689 | J13: 689 | K13: 29 | L13: 22 | M13: 21 | N13: 72 | O13: 666 | P13: 666 | Q13: 30 | R13: 22 | S13: 15 | T13: 67 | U13: 586 | V13: 586 | W13: 24 | X13: 22 | Y13: 14 | Z13: 60 | AA13: 619 | AB13: 619 | AC13: 29 | AD13: 30 | AE13: 18 | AF13: 77 | AG13: 650 | AH13: 650 | AI13: 31 | AJ13: 19 | AK13: 16 | AL13: 66 | AM13: =AL13-H13 -> -2
... A27: 206525 | B27: Wittenberg University | C27: 478 | D27: 438 | E27: 47 | F27: 16 | G27: 7 | H27: 70 | I27: 495 | J27: 438 | K27: 41 | L27: 23 | M27: 9 | N27: 73 | O27: 484 | P27: 452 | Q27: 39 | R27: 21 | S27: 9 | T27: 69 | U27: 479 | V27: 434 | W27: 37 | X27: 19 | Y27: 5 | Z27: 61 | AA27: 476 | AB27: 417 | AC27: 32 | AD27: 19 | AE27: 7 | AF27: 58 | AG27: 438 | AH27: 393 | AI27: 27 | AJ27: 19 | AK27: 7 | AL27: 53 | AM27: =AL27-H27 -> -17
B28: TOTALS | C28: 12550 | D28: 10817 | E28: 655 | F28: 397 | G28: 355 | H28: 1407 | I28: 12896 | J28: 11058 | K28: 641 | L28: 450 | M28: 326 | N28: 1417 | O28: 12889 | P28: 11224 | Q28: 623 | R28: 406 | S28: 299 | T28: 1328 | U28: 13143 | V28: 11291 | W28: 558 | X28: 420 | Y28: 286 | Z28: 1264 | AA28: 13801 | AB28: 11752 | AC28: 643 | AD28: 450 | AE28: 313 | AF28: 1406 | AG28: 13977 | AH28: 11988 | AI28: 568 | AJ28: 372 | AK28: 253 | AL28: 1193 | AM28: =AL28-H28 -> -214
B29: Percentages (including 2nd) | E29: 0.052191235 | F29: 0.031633466 | G29: 0.028286853 | H29: 0.11211155 | K29: 0.049705335 | L29: 0.034894541 | M29: 0.025279156 | N29: 0.10987903 | Q29: 0.04833579 | R29: 0.031499728 | S29: 0.023198076 | T29: 0.10303359 | W29: 0.04245606 | X29: 0.031956174 | Y29: 0.021760633 | Z29: 0.096172868 | AC29: 0.046590827 | AD29: 0.032606333 | AE29: 0.022679516 | AF29: 0.10187668 | AI29: 0.040638191 | AJ29: 0.026615153 | AK29: 0.018101166 | AL29: 0.085354511 | AM29: =AL29-H29 -> -0.026757043
B30: Percentages (just 1st) | E30: 0.060552834 | F30: 0.036701488 | G30: 0.032818711 | H30: 0.13007303 | K30: 0.057967083 | L30: 0.04069452 | M30: 0.029480919 | N30: 0.12814252 | Q30: 0.055506058 | R30: 0.036172488 | S30: 0.026639344 | T30: 0.11831789 | W30: 0.049419892 | X30: 0.037197768 | Y30: 0.025329909 | Z30: 0.11194757 | AC30: 0.054714091 | AD30: 0.038291355 | AE30: 0.026633764 | AF30: 0.11963921 | AI30: 0.047380714 | AJ30: 0.031031031 | AK30: 0.021104438 | AL30: 0.099516183 | AM30: =AL30-H30 -> -0.03055685
B32: Percent of graduates with 2nd major | C32: =(C28-D28)/D28 -> 0.16021078 | I32: =(I28-J28)/J28 -> 0.16621451 | O32: =(O28-P28)/P28 -> 0.14834284 | U32: =(U28-V28)/V28 -> 0.16402444 | AA32: =(AA28-AB28)/AB28 -> 0.1743533 | AG32: =(AG28-AH28)/AH28 -> 0.16591592

Sheet ELCA (% of 1st and 2nd)
A1: UnitID | B1: Institution Name | C1: TOTAL (2004, including 2nd) | D1: English (2004) | E1: History (2004) | F1: Philosophy (2004) | G1: HUMANITIES (2004) | H1: TOTAL (2006, including 2nd) | I1: English (2006) | J1: History (2006) | K1: Philosophy (2006) | L1: HUMANITIES (2006) | M1: TOTAL (2008, including 2nd) | N1: English (2008) | O1: History (2008) | P1: Philosophy (2008) | Q1: HUMANITIES (2008) | R1: TOTAL (2010, including 2nd) | S1: English (2010) | T1: History (2010) | U1: Philosophy (2010) | V1: HUMANITIES (2010) | W1: TOTAL (2012, including 2nd) | X1: English (2012) | Y1: History (2012) | Z1: Philosophy (2012) | AA1: HUMANITIES (2012) | AB1: TOTAL (2014, including 2nd) | AC1: English (2014) | AD1: History (2014) | AE1: Philosophy (2014) | AF1: HUMANITIES (2014) | AG1: Humanities Change
A2: 173045 | B2: Augsburg College | C2: 510 | D2: ='ELCA (numbers)'!E2/C2 -> 0.037254902 | E2: ='ELCA (numbers)'!F2/C2 -> 0.039215686 | F2: ='ELCA (numbers)'!G2/C2 -> 0.021568627 | G2: ='ELCA (numbers)'!H2/C2 -> 0.098039216 | H2: 533 | I2: ='ELCA (numbers)'!K2/H2 -> 0.039399625 | J2: ='ELCA (numbers)'!L2/H2 -> 0.026266417 | K2: ='ELCA (numbers)'!M2/H2 -> 0.013133208 | L2: ='ELCA (numbers)'!N2/H2 -> 0.07879925 | M2: 648 | N2: ='ELCA (numbers)'!Q2/M2 -> 0.030864198 | O2: ='ELCA (numbers)'!R2/M2 -> 0.026234568 | P2: ='ELCA (numbers)'!S2/M2 -> 0.033950617 | Q2: ='ELCA (numbers)'!T2/M2 -> 0.091049383 | R2: 726 | S2: ='ELCA (numbers)'!W2/R2 -> 0.035812672 | T2: ='ELCA (numbers)'!X2/R2 -> 0.027548209 | U2: ='ELCA (numbers)'!Y2/R2 -> 0.026170799 | V2: ='ELCA (numbers)'!Z2/R2 -> 0.08953168 | W2: 737 | X2: ='ELCA (numbers)'!AC2/W2 -> 0.033921303 | Y2: ='ELCA (numbers)'!AD2/W2 -> 0.018995929 | Z2: ='ELCA (numbers)'!AE2/W2 -> 0.024423338 | AA2: ='ELCA (numbers)'!AF2/W2 -> 0.07734057 | AB2: 687 | AC2: ='ELCA (numbers)'!AI2/AB2 -> 0.033478894 | AD2: ='ELCA (numbers)'!AJ2/AB2 -> 0.026200873 | AE2: ='ELCA (numbers)'!AK2/AB2 -> 0.013100437 | AF2: ='ELCA (numbers)'!AL2/AB2 -> 0.072780204 | AG2: =AF2-G2 -> -0.025259012
A3: 143084 | B3: Augustana College (IL) | C3: 726 | D3: ='ELCA (numbers)'!E3/C3 -> 0.096418733 | E3: ='ELCA (numbers)'!F3/C3 -> 0.044077135 | F3: ='ELCA (numbers)'!G3/C3 -> 0.023415978 | G3: ='ELCA (numbers)'!H3/C3 -> 0.16391185 | H3: 677 | I3: ='ELCA (numbers)'!K3/H3 -> 0.10930576 | J3: ='ELCA (numbers)'!L3/H3 -> 0.045790251 | K3: ='ELCA (numbers)'!M3/H3 -> 0.020679468 | L3: ='ELCA (numbers)'!N3/H3 -> 0.17577548 | M3: 678 | N3: ='ELCA (numbers)'!Q3/M3 -> 0.098820059 | O3: ='ELCA (numbers)'!R3/M3 -> 0.042772861 | P3: ='ELCA (numbers)'!S3/M3 -> 0.025073746 | Q3: ='ELCA (numbers)'!T3/M3 -> 0.16666667 | R3: 778 | S3: ='ELCA (numbers)'!W3/R3 -> 0.041131105 | T3: ='ELCA (numbers)'!X3/R3 -> 0.017994859 | U3: ='ELCA (numbers)'!Y3/R3 -> 0.0218509 | V3: ='ELCA (numbers)'!Z3/R3 -> 0.080976864 | W3: 680 | X3: ='ELCA (numbers)'!AC3/W3 -> 0.060294118 | Y3: ='ELCA (numbers)'!AD3/W3 -> 0.013235294 | Z3: ='ELCA (numbers)'!AE3/W3 -> 0.026470588 | AA3: ='ELCA (numbers)'!AF3/W3 -> 0.1 | AB3: 846 | AC3: ='ELCA (numbers)'!AI3/AB3 -> 0.040189125 | AD3: ='ELCA (numbers)'!AJ3/AB3 -> 0.016548463 | AE3: ='ELCA (numbers)'!AK3/AB3 -> 0.028368794 | AF3: ='ELCA (numbers)'!AL3/AB3 -> 0.085106383 | AG3: =AF3-G3 -> -0.078805463
A4: 219000 | B4: Augustana College (SD) | C4: 495 | D4: ='ELCA (numbers)'!E4/C4 -> 0.032323232 | E4: ='ELCA (numbers)'!F4/C4 -> 0.01010101 | F4: ='ELCA (numbers)'!G4/C4 -> 0.034343434 | G4: ='ELCA (numbers)'!H4/C4 -> 0.076767677 | H4: 471 | I4: ='ELCA (numbers)'!K4/H4 -> 0.033970276 | J4: ='ELCA (numbers)'!L4/H4 -> 0.025477707 | K4: ='ELCA (numbers)'!M4/H4 -> 0.027600849 | L4: ='ELCA (numbers)'!N4/H4 -> 0.087048832 | M4: 443 | N4: ='ELCA (numbers)'!Q4/M4 -> 0.029345372 | O4: ='ELCA (numbers)'!R4/M4 -> 0.027088036 | P4: ='ELCA (numbers)'!S4/M4 -> 0.033860045 | Q4: ='ELCA (numbers)'!T4/M4 -> 0.090293454 | R4: 486 | S4: ='ELCA (numbers)'!W4/R4 -> 0.037037037 | T4: ='ELCA (numbers)'!X4/R4 -> 0.020576132 | U4: ='ELCA (numbers)'!Y4/R4 -> 0.020576132 | V4: ='ELCA (numbers)'!Z4/R4 -> 0.0781893 | W4: 476 | X4: ='ELCA (numbers)'!AC4/W4 -> 0.052521008 | Y4: ='ELCA (numbers)'!AD4/W4 -> 0.029411765 | Z4: ='ELCA (numbers)'!AE4/W4 -> 0.023109244 | AA4: ='ELCA (numbers)'!AF4/W4 -> 0.10504202 | AB4: 487 | AC4: ='ELCA (numbers)'!AI4/AB4 -> 0.036960986 | AD4: ='ELCA (numbers)'!AJ4/AB4 -> 0.020533881 | AE4: ='ELCA (numbers)'!AK4/AB4 -> 0.012320329 | AF4: ='ELCA (numbers)'!AL4/AB4 -> 0.069815195 | AG4: =AF4-G4 -> -0.0069524817
A5: 154721 | B5: Bethany College | C5: 123 | D5: ='ELCA (numbers)'!E5/C5 -> 0.024390244 | E5: ='ELCA (numbers)'!F5/C5 -> 0.040650407 | F5: ='ELCA (numbers)'!G5/C5 -> 0.016260163 | G5: ='ELCA (numbers)'!H5/C5 -> 0.081300813 | H5: 128 | I5: ='ELCA (numbers)'!K5/H5 -> 0.03125 | J5: ='ELCA (numbers)'!L5/H5 -> 0.0234375 | K5: ='ELCA (numbers)'!M5/H5 -> 0.0390625 | L5: ='ELCA (numbers)'!N5/H5 -> 0.09375 | M5: 114 | N5: ='ELCA (numbers)'!Q5/M5 -> 0 | O5: ='ELCA (numbers)'!R5/M5 -> 0.01754386 | P5: ='ELCA (numbers)'!S5/M5 -> 0 | Q5: ='ELCA (numbers)'!T5/M5 -> 0.01754386 | R5: 123 | S5: ='ELCA (numbers)'!W5/R5 -> 0.016260163 | T5: ='ELCA (numbers)'!X5/R5 -> 0.032520325 | U5: ='ELCA (numbers)'!Y5/R5 -> 0.0081300813 | V5: ='ELCA (numbers)'!Z5/R5 -> 0.056910569 | W5: 113 | X5: ='ELCA (numbers)'!AC5/W5 -> 0 | Y5: ='ELCA (numbers)'!AD5/W5 -> 0.0088495575 | Z5: ='ELCA (numbers)'!AE5/W5 -> 0 | AA5: ='ELCA (numbers)'!AF5/W5 -> 0.0088495575 | AB5: 131 | AC5: ='ELCA (numbers)'!AI5/AB5 -> 0 | AD5: ='ELCA (numbers)'!AJ5/AB5 -> 0.030534351 | AE5: ='ELCA (numbers)'!AK5/AB5 -> 0 | AF5: ='ELCA (numbers)'!AL5/AB5 -> 0.030534351 | AG5: =AF5-G5 -> -0.050766462
A6: 110413 | B6: California Lutheran University | C6: 504 | D6: ='ELCA (numbers)'!E6/C6 -> 0.033730159 | E6: ='ELCA (numbers)'!F6/C6 -> 0.033730159 | F6: ='ELCA (numbers)'!G6/C6 -> 0.01984127 | G6: ='ELCA (numbers)'!H6/C6 -> 0.087301587 | H6: 478 | I6: ='ELCA (numbers)'!K6/H6 -> 0.037656904 | J6: ='ELCA (numbers)'!L6/H6 -> 0.029288703 | K6: ='ELCA (numbers)'!M6/H6 -> 0.014644351 | L6: ='ELCA (numbers)'!N6/H6 -> 0.081589958 | M6: 571 | N6: ='ELCA (numbers)'!Q6/M6 -> 0.022767075 | O6: ='ELCA (numbers)'!R6/M6 -> 0.017513135 | P6: ='ELCA (numbers)'!S6/M6 -> 0.017513135 | Q6: ='ELCA (numbers)'!T6/M6 -> 0.057793345 | R6: 558 | S6: ='ELCA (numbers)'!W6/R6 -> 0.025089606 | T6: ='ELCA (numbers)'!X6/R6 -> 0.014336918 | U6: ='ELCA (numbers)'!Y6/R6 -> 0.02688172 | V6: ='ELCA (numbers)'!Z6/R6 -> 0.066308244 | W6: 707 | X6: ='ELCA (numbers)'!AC6/W6 -> 0.033946252 | Y6: ='ELCA (numbers)'!AD6/W6 -> 0.021216407 | Z6: ='ELCA (numbers)'!AE6/W6 -> 0.011315417 | AA6: ='ELCA (numbers)'!AF6/W6 -> 0.066478076 | AB6: 778 | AC6: ='ELCA (numbers)'!AI6/AB6 -> 0.017994859 | AD6: ='ELCA (numbers)'!AJ6/AB6 -> 0.0089974293 | AE6: ='ELCA (numbers)'!AK6/AB6 -> 0.015424165 | AF6: ='ELCA (numbers)'!AL6/AB6 -> 0.042416452 | AG6: =AF6-G6 -> -0.044885135
A7: 201548 | B7: Capital University | C7: 663 | D7: ='ELCA (numbers)'!E7/C7 -> 0.028657617 | E7: ='ELCA (numbers)'!F7/C7 -> 0.021116139 | F7: ='ELCA (numbers)'!G7/C7 -> 0.0045248869 | G7: ='ELCA (numbers)'!H7/C7 -> 0.054298643 | H7: 657 | I7: ='ELCA (numbers)'!K7/H7 -> 0.01978691 | J7: ='ELCA (numbers)'!L7/H7 -> 0.02891933 | K7: ='ELCA (numbers)'!M7/H7 -> 0.01065449 | L7: ='ELCA (numbers)'!N7/H7 -> 0.059360731 | M7: 594 | N7: ='ELCA (numbers)'!Q7/M7 -> 0.018518519 | O7: ='ELCA (numbers)'!R7/M7 -> 0.0084175084 | P7: ='ELCA (numbers)'!S7/M7 -> 0.0067340067 | Q7: ='ELCA (numbers)'!T7/M7 -> 0.033670034 | R7: 688 | S7: ='ELCA (numbers)'!W7/R7 -> 0.030523256 | T7: ='ELCA (numbers)'!X7/R7 -> 0.010174419 | U7: ='ELCA (numbers)'!Y7/R7 -> 0.0087209302 | V7: ='ELCA (numbers)'!Z7/R7 -> 0.049418605 | W7: 650 | X7: ='ELCA (numbers)'!AC7/W7 -> 0.013846154 | Y7: ='ELCA (numbers)'!AD7/W7 -> 0.016923077 | Z7: ='ELCA (numbers)'!AE7/W7 -> 0.013846154 | AA7: ='ELCA (numbers)'!AF7/W7 -> 0.044615385 | AB7: 706 | AC7: ='ELCA (numbers)'!AI7/AB7 -> 0.026912181 | AD7: ='ELCA (numbers)'!AJ7/AB7 -> 0.011331445 | AE7: ='ELCA (numbers)'!AK7/AB7 -> 0.021246459 | AF7: ='ELCA (numbers)'!AL7/AB7 -> 0.059490085 | AG7: =AF7-G7 -> 0.0051914425
A8: 238476 | B8: Carthage College | C8: 514 | D8: ='ELCA (numbers)'!E8/C8 -> 0.027237354 | E8: ='ELCA (numbers)'!F8/C8 -> 0.025291829 | F8: ='ELCA (numbers)'!G8/C8 -> 0.0077821012 | G8: ='ELCA (numbers)'!H8/C8 -> 0.060311284 | H8: 646 | I8: ='ELCA (numbers)'!K8/H8 -> 0.027863777 | J8: ='ELCA (numbers)'!L8/H8 -> 0.030959752 | K8: ='ELCA (numbers)'!M8/H8 -> 0.017027864 | L8: ='ELCA (numbers)'!N8/H8 -> 0.075851393 | M8: 571 | N8: ='ELCA (numbers)'!Q8/M8 -> 0.017513135 | O8: ='ELCA (numbers)'!R8/M8 -> 0.019264448 | P8: ='ELCA (numbers)'!S8/M8 -> 0.0052539405 | Q8: ='ELCA (numbers)'!T8/M8 -> 0.042031524 | R8: 567 | S8: ='ELCA (numbers)'!W8/R8 -> 0.029982363 | T8: ='ELCA (numbers)'!X8/R8 -> 0.029982363 | U8: ='ELCA (numbers)'!Y8/R8 -> 0.015873016 | V8: ='ELCA (numbers)'!Z8/R8 -> 0.075837743 | W8: 700 | X8: ='ELCA (numbers)'!AC8/W8 -> 0.032857143 | Y8: ='ELCA (numbers)'!AD8/W8 -> 0.022857143 | Z8: ='ELCA (numbers)'!AE8/W8 -> 0.01 | AA8: ='ELCA (numbers)'!AF8/W8 -> 0.065714286 | AB8: 726 | AC8: ='ELCA (numbers)'!AI8/AB8 -> 0.038567493 | AD8: ='ELCA (numbers)'!AJ8/AB8 -> 0.026170799 | AE8: ='ELCA (numbers)'!AK8/AB8 -> 0.012396694 | AF8: ='ELCA (numbers)'!AL8/AB8 -> 0.077134986 | AG8: =AF8-G8 -> 0.016823702
A9: 173300 | B9: Concordia College at Moorhead | C9: 787 | D9: ='ELCA (numbers)'!E9/C9 -> 0.047013977 | E9: ='ELCA (numbers)'!F9/C9 -> 0.025412961 | F9: ='ELCA (numbers)'!G9/C9 -> 0.043202033 | G9: ='ELCA (numbers)'!H9/C9 -> 0.11562897 | H9: 722 | I9: ='ELCA (numbers)'!K9/H9 -> 0.033240997 | J9: ='ELCA (numbers)'!L9/H9 -> 0.020775623 | K9: ='ELCA (numbers)'!M9/H9 -> 0.033240997 | L9: ='ELCA (numbers)'!N9/H9 -> 0.087257618 | M9: 803 | N9: ='ELCA (numbers)'!Q9/M9 -> 0.03486924 | O9: ='ELCA (numbers)'!R9/M9 -> 0.01618929 | P9: ='ELCA (numbers)'!S9/M9 -> 0.02241594 | Q9: ='ELCA (numbers)'!T9/M9 -> 0.073474471 | R9: 673 | S9: ='ELCA (numbers)'!W9/R9 -> 0.016344725 | T9: ='ELCA (numbers)'!X9/R9 -> 0.023774146 | U9: ='ELCA (numbers)'!Y9/R9 -> 0.02526003 | V9: ='ELCA (numbers)'!Z9/R9 -> 0.0653789 | W9: 792 | X9: ='ELCA (numbers)'!AC9/W9 -> 0.058080808 | Y9: ='ELCA (numbers)'!AD9/W9 -> 0.013888889 | Z9: ='ELCA (numbers)'!AE9/W9 -> 0.026515152 | AA9: ='ELCA (numbers)'!AF9/W9 -> 0.098484848 | AB9: 719 | AC9: ='ELCA (numbers)'!AI9/AB9 -> 0.040333797 | AD9: ='ELCA (numbers)'!AJ9/AB9 -> 0.013908206 | AE9: ='ELCA (numbers)'!AK9/AB9 -> 0.011126565 | AF9: ='ELCA (numbers)'!AL9/AB9 -> 0.065368567 | AG9: =AF9-G9 -> -0.050260403
A10: 172440 | B10: Finlandia University | C10: 61 | D10: ='ELCA (numbers)'!E10/C10 -> 0 | E10: ='ELCA (numbers)'!F10/C10 -> 0 | F10: ='ELCA (numbers)'!G10/C10 -> 0 | G10: ='ELCA (numbers)'!H10/C10 -> 0 | H10: 40 | I10: ='ELCA (numbers)'!K10/H10 -> 0 | J10: ='ELCA (numbers)'!L10/H10 -> 0 | K10: ='ELCA (numbers)'!M10/H10 -> 0 | L10: ='ELCA (numbers)'!N10/H10 -> 0 | M10: 86 | N10: ='ELCA (numbers)'!Q10/M10 -> 0 | O10: ='ELCA (numbers)'!R10/M10 -> 0 | P10: ='ELCA (numbers)'!S10/M10 -> 0 | Q10: ='ELCA (numbers)'!T10/M10 -> 0 | R10: 66 | S10: ='ELCA (numbers)'!W10/R10 -> 0 | T10: ='ELCA (numbers)'!X10/R10 -> 0 | U10: ='ELCA (numbers)'!Y10/R10 -> 0 | V10: ='ELCA (numbers)'!Z10/R10 -> 0 | W10: 57 | X10: ='ELCA (numbers)'!AC10/W10 -> 0.01754386 | Y10: ='ELCA (numbers)'!AD10/W10 -> 0 | Z10: ='ELCA (numbers)'!AE10/W10 -> 0 | AA10: ='ELCA (numbers)'!AF10/W10 -> 0.01754386 | AB10: 82 | AC10: ='ELCA (numbers)'!AI10/AB10 -> 0 | AD10: ='ELCA (numbers)'!AJ10/AB10 -> 0.012195122 | AE10: ='ELCA (numbers)'!AK10/AB10 -> 0 | AF10: ='ELCA (numbers)'!AL10/AB10 -> 0.012195122 | AG10: =AF10-G10 -> 0.012195122
A11: 212674 | B11: Gettysburg College | C11: 679 | D11: ='ELCA (numbers)'!E11/C11 -> 0.064801178 | E11: ='ELCA (numbers)'!F11/C11 -> 0.076583211 | F11: ='ELCA (numbers)'!G11/C11 -> 0.06185567 | G11: ='ELCA (numbers)'!H11/C11 -> 0.20324006 | H11: 687 | I11: ='ELCA (numbers)'!K11/H11 -> 0.0713246 | J11: ='ELCA (numbers)'!L11/H11 -> 0.075691412 | K11: ='ELCA (numbers)'!M11/H11 -> 0.053857351 | L11: ='ELCA (numbers)'!N11/H11 -> 0.20087336 | M11: 741 | N11: ='ELCA (numbers)'!Q11/M11 -> 0.087719298 | O11: ='ELCA (numbers)'!R11/M11 -> 0.0634278 | P11: ='ELCA (numbers)'!S11/M11 -> 0.043184885 | Q11: ='ELCA (numbers)'!T11/M11 -> 0.19433198 | R11: 736 | S11: ='ELCA (numbers)'!W11/R11 -> 0.076086957 | T11: ='ELCA (numbers)'!X11/R11 -> 0.091032609 | U11: ='ELCA (numbers)'!Y11/R11 -> 0.028532609 | V11: ='ELCA (numbers)'!Z11/R11 -> 0.19565217 | W11: 716 | X11: ='ELCA (numbers)'!AC11/W11 -> 0.079608939 | Y11: ='ELCA (numbers)'!AD11/W11 -> 0.075418994 | Z11: ='ELCA (numbers)'!AE11/W11 -> 0.05027933 | AA11: ='ELCA (numbers)'!AF11/W11 -> 0.20530726 | AB11: 750 | AC11: ='ELCA (numbers)'!AI11/AB11 -> 0.061333333 | AD11: ='ELCA (numbers)'!AJ11/AB11 -> 0.073333333 | AE11: ='ELCA (numbers)'!AK11/AB11 -> 0.058666667 | AF11: ='ELCA (numbers)'!AL11/AB11 -> 0.19333333 | AG11: =AF11-G11 -> -0.0099067256
A12: 153375 | B12: Grand View University | C12: 367 | D12: ='ELCA (numbers)'!E12/C12 -> 0.013623978 | E12: ='ELCA (numbers)'!F12/C12 -> 0 | F12: ='ELCA (numbers)'!G12/C12 -> 0.0054495913 | G12: ='ELCA (numbers)'!H12/C12 -> 0.019073569 | H12: 497 | I12: ='ELCA (numbers)'!K12/H12 -> 0.026156942 | J12: ='ELCA (numbers)'!L12/H12 -> 0 | K12: ='ELCA (numbers)'!M12/H12 -> 0.0060362173 | L12: ='ELCA (numbers)'!N12/H12 -> 0.032193159 | M12: 465 | N12: ='ELCA (numbers)'!Q12/M12 -> 0.015053763 | O12: ='ELCA (numbers)'!R12/M12 -> 0.021505376 | P12: ='ELCA (numbers)'!S12/M12 -> 0 | Q12: ='ELCA (numbers)'!T12/M12 -> 0.03655914 | R12: 549 | S12: ='ELCA (numbers)'!W12/R12 -> 0.016393443 | T12: ='ELCA (numbers)'!X12/R12 -> 0.010928962 | U12: ='ELCA (numbers)'!Y12/R12 -> 0.0054644809 | V12: ='ELCA (numbers)'!Z12/R12 -> 0.032786885 | W12: 570 | X12: ='ELCA (numbers)'!AC12/W12 -> 0.01754386 | Y12: ='ELCA (numbers)'!AD12/W12 -> 0.01754386 | Z12: ='ELCA (numbers)'!AE12/W12 -> 0.0052631579 | AA12: ='ELCA (numbers)'!AF12/W12 -> 0.040350877 | AB12: 554 | AC12: ='ELCA (numbers)'!AI12/AB12 -> 0.016245487 | AD12: ='ELCA (numbers)'!AJ12/AB12 -> 0.014440433 | AE12: ='ELCA (numbers)'!AK12/AB12 -> 0.0054151625 | AF12: ='ELCA (numbers)'!AL12/AB12 -> 0.036101083 | AG12: =AF12-G12 -> 0.017027514
A13: 173647 | B13: Gustavus Adolphus College | C13: 703 | D13: ='ELCA (numbers)'!E13/C13 -> 0.038406828 | E13: ='ELCA (numbers)'!F13/C13 -> 0.031294452 | F13: ='ELCA (numbers)'!G13/C13 -> 0.027027027 | G13: ='ELCA (numbers)'!H13/C13 -> 0.096728307 | H13: 689 | I13: ='ELCA (numbers)'!K13/H13 -> 0.042089985 | J13: ='ELCA (numbers)'!L13/H13 -> 0.031930334 | K13: ='ELCA (numbers)'!M13/H13 -> 0.030478955 | L13: ='ELCA (numbers)'!N13/H13 -> 0.10449927 | M13: 666 | N13: ='ELCA (numbers)'!Q13/M13 -> 0.045045045 | O13: ='ELCA (numbers)'!R13/M13 -> 0.033033033 | P13: ='ELCA (numbers)'!S13/M13 -> 0.022522523 | Q13: ='ELCA (numbers)'!T13/M13 -> 0.1006006 | R13: 586 | S13: ='ELCA (numbers)'!W13/R13 -> 0.040955631 | T13: ='ELCA (numbers)'!X13/R13 -> 0.037542662 | U13: ='ELCA (numbers)'!Y13/R13 -> 0.023890785 | V13: ='ELCA (numbers)'!Z13/R13 -> 0.10238908 | W13: 619 | X13: ='ELCA (numbers)'!AC13/W13 -> 0.046849758 | Y13: ='ELCA (numbers)'!AD13/W13 -> 0.048465267 | Z13: ='ELCA (numbers)'!AE13/W13 -> 0.02907916 | AA13: ='ELCA (numbers)'!AF13/W13 -> 0.12439418 | AB13: 650 | AC13: ='ELCA (numbers)'!AI13/AB13 -> 0.047692308 | AD13: ='ELCA (numbers)'!AJ13/AB13 -> 0.029230769 | AE13: ='ELCA (numbers)'!AK13/AB13 -> 0.024615385 | AF13: ='ELCA (numbers)'!AL13/AB13 -> 0.10153846 | AG13: =AF13-G13 -> 0.0048101543
... A27: 206525 | B27: Wittenberg University | C27: 478 | D27: ='ELCA (numbers)'!E27/C27 -> 0.09832636 | E27: ='ELCA (numbers)'!F27/C27 -> 0.033472803 | F27: ='ELCA (numbers)'!G27/C27 -> 0.014644351 | G27: ='ELCA (numbers)'!H27/C27 -> 0.14644351 | H27: 495 | I27: ='ELCA (numbers)'!K27/H27 -> 0.082828283 | J27: ='ELCA (numbers)'!L27/H27 -> 0.046464646 | K27: ='ELCA (numbers)'!M27/H27 -> 0.018181818 | L27: ='ELCA (numbers)'!N27/H27 -> 0.14747475 | M27: 484 | N27: ='ELCA (numbers)'!Q27/M27 -> 0.080578512 | O27: ='ELCA (numbers)'!R27/M27 -> 0.04338843 | P27: ='ELCA (numbers)'!S27/M27 -> 0.018595041 | Q27: ='ELCA (numbers)'!T27/M27 -> 0.14256198 | R27: 479 | S27: ='ELCA (numbers)'!W27/R27 -> 0.077244259 | T27: ='ELCA (numbers)'!X27/R27 -> 0.039665971 | U27: ='ELCA (numbers)'!Y27/R27 -> 0.010438413 | V27: ='ELCA (numbers)'!Z27/R27 -> 0.12734864 | W27: 476 | X27: ='ELCA (numbers)'!AC27/W27 -> 0.067226891 | Y27: ='ELCA (numbers)'!AD27/W27 -> 0.039915966 | Z27: ='ELCA (numbers)'!AE27/W27 -> 0.014705882 | AA27: ='ELCA (numbers)'!AF27/W27 -> 0.12184874 | AB27: 438 | AC27: ='ELCA (numbers)'!AI27/AB27 -> 0.061643836 | AD27: ='ELCA (numbers)'!AJ27/AB27 -> 0.043378995 | AE27: ='ELCA (numbers)'!AK27/AB27 -> 0.015981735 | AF27: ='ELCA (numbers)'!AL27/AB27 -> 0.12100457 | AG27: =AF27-G27 -> -0.025438948
B28: TOTALS | C28: =SUM(C2:C27) -> 12550 | D28: 655 | E28: 397 | F28: 355 | G28: 1407 | H28: =SUM(H2:H27) -> 12896 | I28: 641 | J28: 450 | K28: 326 | L28: 1417 | M28: =SUM(M2:M27) -> 12889 | N28: 623 | O28: 406 | P28: 299 | Q28: 1328 | R28: =SUM(R2:R27) -> 13143 | S28: 558 | T28: 420 | U28: 286 | V28: 1264 | W28: =SUM(W2:W27) -> 13801 | X28: 643 | Y28: 450 | Z28: 313 | AA28: 1406 | AB28: =SUM(AB2:AB27) -> 13977 | AC28: 568 | AD28: 372 | AE28: 253 | AF28: 1193 | AG28: =AF28-G28 -> -214
B29: Percentages | D29: 0.052191235 | E29: 0.031633466 | F29: 0.028286853 | G29: 0.11211155 | I29: 0.049705335 | J29: 0.034894541 | K29: 0.025279156 | L29: 0.10987903 | N29: 0.04833579 | O29: 0.031499728 | P29: 0.023198076 | Q29: 0.10303359 | S29: 0.04245606 | T29: 0.031956174 | U29: 0.021760633 | V29: 0.096172868 | X29: 0.046590827 | Y29: 0.032606333 | Z29: 0.022679516 | AA29: 0.10187668 | AC29: 0.040638191 | AD29: 0.026615153 | AE29: 0.018101166 | AF29: 0.085354511 | AG29: =AF29-G29 -> -0.026757043

Sheet ELCA (% of 1st only)
A1: UnitID | B1: Institution Name | C1: TOTAL (2004, just 1st) | D1: English (2004) | E1: History (2004) | F1: Philosophy (2004) | G1: HUMANITIES (2004) | H1: TOTAL (2006, just 1st) | I1: English (2006) | J1: History (2006) | K1: Philosophy (2006) | L1: HUMANITIES (2006) | M1: TOTAL (2008, just 1st) | N1: English (2008) | O1: History (2008) | P1: Philosophy (2008) | Q1: HUMANITIES (2008) | R1: TOTAL (2010, just 1st) | S1: English (2010) | T1: History (2010) | U1: Philosophy (2010) | V1: HUMANITIES (2010) | W1: TOTAL (2012, just 1st) | X1: English (2012) | Y1: History (2012) | Z1: Philosophy (2012) | AA1: HUMANITIES (2012) | AB1: TOTAL (2014, just 1st) | AC1: English (2014) | AD1: History (2014) | AE1: Philosophy (2014) | AF1: HUMANITIES (2014) | AG1: Humanities Change
A2: 173045 | B2: Augsburg College | C2: 453 | D2: ='ELCA (numbers)'!E2/C2 -> 0.041942605 | E2: ='ELCA (numbers)'!F2/C2 -> 0.04415011 | F2: ='ELCA (numbers)'!G2/C2 -> 0.024282561 | G2: ='ELCA (numbers)'!H2/C2 -> 0.11037528 | H2: 484 | I2: ='ELCA (numbers)'!K2/H2 -> 0.04338843 | J2: ='ELCA (numbers)'!L2/H2 -> 0.02892562 | K2: ='ELCA (numbers)'!M2/H2 -> 0.01446281 | L2: ='ELCA (numbers)'!N2/H2 -> 0.08677686 | M2: 589 | N2: ='ELCA (numbers)'!Q2/M2 -> 0.033955857 | O2: ='ELCA (numbers)'!R2/M2 -> 0.028862479 | P2: ='ELCA (numbers)'!S2/M2 -> 0.037351443 | Q2: ='ELCA (numbers)'!T2/M2 -> 0.10016978 | R2: 627 | S2: ='ELCA (numbers)'!W2/R2 -> 0.041467305 | T2: ='ELCA (numbers)'!X2/R2 -> 0.031897927 | U2: ='ELCA (numbers)'!Y2/R2 -> 0.03030303 | V2: ='ELCA (numbers)'!Z2/R2 -> 0.10366826 | W2: 603 | X2: ='ELCA (numbers)'!AC2/W2 -> 0.04145937 | Y2: ='ELCA (numbers)'!AD2/W2 -> 0.023217247 | Z2: ='ELCA (numbers)'!AE2/W2 -> 0.029850746 | AA2: ='ELCA (numbers)'!AF2/W2 -> 0.094527363 | AB2: 586 | AC2: ='ELCA (numbers)'!AI2/AB2 -> 0.039249147 | AD2: ='ELCA (numbers)'!AJ2/AB2 -> 0.030716724 | AE2: ='ELCA (numbers)'!AK2/AB2 -> 0.015358362 | AF2: ='ELCA (numbers)'!AL2/AB2 -> 0.085324232 | AG2: =AF2-G2 -> -0.025051044
A3: 143084 | B3: Augustana College (IL) | C3: 540 | D3: ='ELCA (numbers)'!E3/C3 -> 0.12962963 | E3: ='ELCA (numbers)'!F3/C3 -> 0.059259259 | F3: ='ELCA (numbers)'!G3/C3 -> 0.031481481 | G3: ='ELCA (numbers)'!H3/C3 -> 0.22037037 | H3: 509 | I3: ='ELCA (numbers)'!K3/H3 -> 0.1453831 | J3: ='ELCA (numbers)'!L3/H3 -> 0.060903733 | K3: ='ELCA (numbers)'!M3/H3 -> 0.027504912 | L3: ='ELCA (numbers)'!N3/H3 -> 0.23379175 | M3: 521 | N3: ='ELCA (numbers)'!Q3/M3 -> 0.12859885 | O3: ='ELCA (numbers)'!R3/M3 -> 0.055662188 | P3: ='ELCA (numbers)'!S3/M3 -> 0.032629559 | Q3: ='ELCA (numbers)'!T3/M3 -> 0.2168906 | R3: 585 | S3: ='ELCA (numbers)'!W3/R3 -> 0.054700855 | T3: ='ELCA (numbers)'!X3/R3 -> 0.023931624 | U3: ='ELCA (numbers)'!Y3/R3 -> 0.029059829 | V3: ='ELCA (numbers)'!Z3/R3 -> 0.10769231 | W3: 518 | X3: ='ELCA (numbers)'!AC3/W3 -> 0.079150579 | Y3: ='ELCA (numbers)'!AD3/W3 -> 0.017374517 | Z3: ='ELCA (numbers)'!AE3/W3 -> 0.034749035 | AA3: ='ELCA (numbers)'!AF3/W3 -> 0.13127413 | AB3: 607 | AC3: ='ELCA (numbers)'!AI3/AB3 -> 0.05601318 | AD3: ='ELCA (numbers)'!AJ3/AB3 -> 0.02306425 | AE3: ='ELCA (numbers)'!AK3/AB3 -> 0.039538715 | AF3: ='ELCA (numbers)'!AL3/AB3 -> 0.11861614 | AG3: =AF3-G3 -> -0.10175423
A4: 219000 | B4: Augustana College (SD) | C4: 369 | D4: ='ELCA (numbers)'!E4/C4 -> 0.043360434 | E4: ='ELCA (numbers)'!F4/C4 -> 0.013550136 | F4: ='ELCA (numbers)'!G4/C4 -> 0.046070461 | G4: ='ELCA (numbers)'!H4/C4 -> 0.10298103 | H4: 357 | I4: ='ELCA (numbers)'!K4/H4 -> 0.044817927 | J4: ='ELCA (numbers)'!L4/H4 -> 0.033613445 | K4: ='ELCA (numbers)'!M4/H4 -> 0.036414566 | L4: ='ELCA (numbers)'!N4/H4 -> 0.11484594 | M4: 341 | N4: ='ELCA (numbers)'!Q4/M4 -> 0.038123167 | O4: ='ELCA (numbers)'!R4/M4 -> 0.035190616 | P4: ='ELCA (numbers)'!S4/M4 -> 0.04398827 | Q4: ='ELCA (numbers)'!T4/M4 -> 0.11730205 | R4: 362 | S4: ='ELCA (numbers)'!W4/R4 -> 0.049723757 | T4: ='ELCA (numbers)'!X4/R4 -> 0.027624309 | U4: ='ELCA (numbers)'!Y4/R4 -> 0.027624309 | V4: ='ELCA (numbers)'!Z4/R4 -> 0.10497238 | W4: 359 | X4: ='ELCA (numbers)'!AC4/W4 -> 0.069637883 | Y4: ='ELCA (numbers)'!AD4/W4 -> 0.038997214 | Z4: ='ELCA (numbers)'!AE4/W4 -> 0.030640669 | AA4: ='ELCA (numbers)'!AF4/W4 -> 0.13927577 | AB4: 361 | AC4: ='ELCA (numbers)'!AI4/AB4 -> 0.049861496 | AD4: ='ELCA (numbers)'!AJ4/AB4 -> 0.027700831 | AE4: ='ELCA (numbers)'!AK4/AB4 -> 0.016620499 | AF4: ='ELCA (numbers)'!AL4/AB4 -> 0.094182825 | AG4: =AF4-G4 -> -0.0087982043
A5: 154721 | B5: Bethany College | C5: 115 | D5: ='ELCA (numbers)'!E5/C5 -> 0.026086957 | E5: ='ELCA (numbers)'!F5/C5 -> 0.043478261 | F5: ='ELCA (numbers)'!G5/C5 -> 0.017391304 | G5: ='ELCA (numbers)'!H5/C5 -> 0.086956522 | H5: 108 | I5: ='ELCA (numbers)'!K5/H5 -> 0.037037037 | J5: ='ELCA (numbers)'!L5/H5 -> 0.027777778 | K5: ='ELCA (numbers)'!M5/H5 -> 0.046296296 | L5: ='ELCA (numbers)'!N5/H5 -> 0.11111111 | M5: 98 | N5: ='ELCA (numbers)'!Q5/M5 -> 0 | O5: ='ELCA (numbers)'!R5/M5 -> 0.020408163 | P5: ='ELCA (numbers)'!S5/M5 -> 0 | Q5: ='ELCA (numbers)'!T5/M5 -> 0.020408163 | R5: 98 | S5: ='ELCA (numbers)'!W5/R5 -> 0.020408163 | T5: ='ELCA (numbers)'!X5/R5 -> 0.040816327 | U5: ='ELCA (numbers)'!Y5/R5 -> 0.010204082 | V5: ='ELCA (numbers)'!Z5/R5 -> 0.071428571 | W5: 97 | X5: ='ELCA (numbers)'!AC5/W5 -> 0 | Y5: ='ELCA (numbers)'!AD5/W5 -> 0.010309278 | Z5: ='ELCA (numbers)'!AE5/W5 -> 0 | AA5: ='ELCA (numbers)'!AF5/W5 -> 0.010309278 | AB5: 117 | AC5: ='ELCA (numbers)'!AI5/AB5 -> 0 | AD5: ='ELCA (numbers)'!AJ5/AB5 -> 0.034188034 | AE5: ='ELCA (numbers)'!AK5/AB5 -> 0 | AF5: ='ELCA (numbers)'!AL5/AB5 -> 0.034188034 | AG5: =AF5-G5 -> -0.052768488
A6: 110413 | B6: California Lutheran University | C6: 484 | D6: ='ELCA (numbers)'!E6/C6 -> 0.035123967 | E6: ='ELCA (numbers)'!F6/C6 -> 0.035123967 | F6: ='ELCA (numbers)'!G6/C6 -> 0.020661157 | G6: ='ELCA (numbers)'!H6/C6 -> 0.090909091 | H6: 458 | I6: ='ELCA (numbers)'!K6/H6 -> 0.03930131 | J6: ='ELCA (numbers)'!L6/H6 -> 0.030567686 | K6: ='ELCA (numbers)'!M6/H6 -> 0.015283843 | L6: ='ELCA (numbers)'!N6/H6 -> 0.085152838 | M6: 532 | N6: ='ELCA (numbers)'!Q6/M6 -> 0.02443609 | O6: ='ELCA (numbers)'!R6/M6 -> 0.018796992 | P6: ='ELCA (numbers)'!S6/M6 -> 0.018796992 | Q6: ='ELCA (numbers)'!T6/M6 -> 0.062030075 | R6: 523 | S6: ='ELCA (numbers)'!W6/R6 -> 0.026768642 | T6: ='ELCA (numbers)'!X6/R6 -> 0.015296367 | U6: ='ELCA (numbers)'!Y6/R6 -> 0.028680688 | V6: ='ELCA (numbers)'!Z6/R6 -> 0.070745698 | W6: 680 | X6: ='ELCA (numbers)'!AC6/W6 -> 0.035294118 | Y6: ='ELCA (numbers)'!AD6/W6 -> 0.022058824 | Z6: ='ELCA (numbers)'!AE6/W6 -> 0.011764706 | AA6: ='ELCA (numbers)'!AF6/W6 -> 0.069117647 | AB6: 740 | AC6: ='ELCA (numbers)'!AI6/AB6 -> 0.018918919 | AD6: ='ELCA (numbers)'!AJ6/AB6 -> 0.0094594595 | AE6: ='ELCA (numbers)'!AK6/AB6 -> 0.016216216 | AF6: ='ELCA (numbers)'!AL6/AB6 -> 0.044594595 | AG6: =AF6-G6 -> -0.046314496
A7: 201548 | B7: Capital University | C7: 663 | D7: ='ELCA (numbers)'!E7/C7 -> 0.028657617 | E7: ='ELCA (numbers)'!F7/C7 -> 0.021116139 | F7: ='ELCA (numbers)'!G7/C7 -> 0.0045248869 | G7: ='ELCA (numbers)'!H7/C7 -> 0.054298643 | H7: 657 | I7: ='ELCA (numbers)'!K7/H7 -> 0.01978691 | J7: ='ELCA (numbers)'!L7/H7 -> 0.02891933 | K7: ='ELCA (numbers)'!M7/H7 -> 0.01065449 | L7: ='ELCA (numbers)'!N7/H7 -> 0.059360731 | M7: 570 | N7: ='ELCA (numbers)'!Q7/M7 -> 0.019298246 | O7: ='ELCA (numbers)'!R7/M7 -> 0.0087719298 | P7: ='ELCA (numbers)'!S7/M7 -> 0.0070175439 | Q7: ='ELCA (numbers)'!T7/M7 -> 0.035087719 | R7: 665 | S7: ='ELCA (numbers)'!W7/R7 -> 0.031578947 | T7: ='ELCA (numbers)'!X7/R7 -> 0.010526316 | U7: ='ELCA (numbers)'!Y7/R7 -> 0.0090225564 | V7: ='ELCA (numbers)'!Z7/R7 -> 0.05112782 | W7: 560 | X7: ='ELCA (numbers)'!AC7/W7 -> 0.016071429 | Y7: ='ELCA (numbers)'!AD7/W7 -> 0.019642857 | Z7: ='ELCA (numbers)'!AE7/W7 -> 0.016071429 | AA7: ='ELCA (numbers)'!AF7/W7 -> 0.051785714 | AB7: 607 | AC7: ='ELCA (numbers)'!AI7/AB7 -> 0.031301483 | AD7: ='ELCA (numbers)'!AJ7/AB7 -> 0.013179572 | AE7: ='ELCA (numbers)'!AK7/AB7 -> 0.024711697 | AF7: ='ELCA (numbers)'!AL7/AB7 -> 0.069192751 | AG7: =AF7-G7 -> 0.014894109
A8: 238476 | B8: Carthage College | C8: 370 | D8: ='ELCA (numbers)'!E8/C8 -> 0.037837838 | E8: ='ELCA (numbers)'!F8/C8 -> 0.035135135 | F8: ='ELCA (numbers)'!G8/C8 -> 0.010810811 | G8: ='ELCA (numbers)'!H8/C8 -> 0.083783784 | H8: 489 | I8: ='ELCA (numbers)'!K8/H8 -> 0.036809816 | J8: ='ELCA (numbers)'!L8/H8 -> 0.040899796 | K8: ='ELCA (numbers)'!M8/H8 -> 0.022494888 | L8: ='ELCA (numbers)'!N8/H8 -> 0.1002045 | M8: 439 | N8: ='ELCA (numbers)'!Q8/M8 -> 0.022779043 | O8: ='ELCA (numbers)'!R8/M8 -> 0.025056948 | P8: ='ELCA (numbers)'!S8/M8 -> 0.006833713 | Q8: ='ELCA (numbers)'!T8/M8 -> 0.054669704 | R8: 461 | S8: ='ELCA (numbers)'!W8/R8 -> 0.036876356 | T8: ='ELCA (numbers)'!X8/R8 -> 0.036876356 | U8: ='ELCA (numbers)'!Y8/R8 -> 0.019522777 | V8: ='ELCA (numbers)'!Z8/R8 -> 0.093275488 | W8: 576 | X8: ='ELCA (numbers)'!AC8/W8 -> 0.039930556 | Y8: ='ELCA (numbers)'!AD8/W8 -> 0.027777778 | Z8: ='ELCA (numbers)'!AE8/W8 -> 0.012152778 | AA8: ='ELCA (numbers)'!AF8/W8 -> 0.079861111 | AB8: 607 | AC8: ='ELCA (numbers)'!AI8/AB8 -> 0.046128501 | AD8: ='ELCA (numbers)'!AJ8/AB8 -> 0.031301483 | AE8: ='ELCA (numbers)'!AK8/AB8 -> 0.014827018 | AF8: ='ELCA (numbers)'!AL8/AB8 -> 0.092257002 | AG8: =AF8-G8 -> 0.0084732179
A9: 173300 | B9: Concordia College at Moorhead | C9: 583 | D9: ='ELCA (numbers)'!E9/C9 -> 0.063464837 | E9: ='ELCA (numbers)'!F9/C9 -> 0.034305317 | F9: ='ELCA (numbers)'!G9/C9 -> 0.058319039 | G9: ='ELCA (numbers)'!H9/C9 -> 0.15608919 | H9: 555 | I9: ='ELCA (numbers)'!K9/H9 -> 0.043243243 | J9: ='ELCA (numbers)'!L9/H9 -> 0.027027027 | K9: ='ELCA (numbers)'!M9/H9 -> 0.043243243 | L9: ='ELCA (numbers)'!N9/H9 -> 0.11351351 | M9: 611 | N9: ='ELCA (numbers)'!Q9/M9 -> 0.045826514 | O9: ='ELCA (numbers)'!R9/M9 -> 0.021276596 | P9: ='ELCA (numbers)'!S9/M9 -> 0.029459902 | Q9: ='ELCA (numbers)'!T9/M9 -> 0.096563011 | R9: 532 | S9: ='ELCA (numbers)'!W9/R9 -> 0.020676692 | T9: ='ELCA (numbers)'!X9/R9 -> 0.030075188 | U9: ='ELCA (numbers)'!Y9/R9 -> 0.031954887 | V9: ='ELCA (numbers)'!Z9/R9 -> 0.082706767 | W9: 627 | X9: ='ELCA (numbers)'!AC9/W9 -> 0.073365231 | Y9: ='ELCA (numbers)'!AD9/W9 -> 0.01754386 | Z9: ='ELCA (numbers)'!AE9/W9 -> 0.033492823 | AA9: ='ELCA (numbers)'!AF9/W9 -> 0.12440191 | AB9: 584 | AC9: ='ELCA (numbers)'!AI9/AB9 -> 0.049657534 | AD9: ='ELCA (numbers)'!AJ9/AB9 -> 0.017123288 | AE9: ='ELCA (numbers)'!AK9/AB9 -> 0.01369863 | AF9: ='ELCA (numbers)'!AL9/AB9 -> 0.080479452 | AG9: =AF9-G9 -> -0.075609742
A10: 172440 | B10: Finlandia University | C10: 61 | D10: ='ELCA (numbers)'!E10/C10 -> 0 | E10: ='ELCA (numbers)'!F10/C10 -> 0 | F10: ='ELCA (numbers)'!G10/C10 -> 0 | G10: ='ELCA (numbers)'!H10/C10 -> 0 | H10: 40 | I10: ='ELCA (numbers)'!K10/H10 -> 0 | J10: ='ELCA (numbers)'!L10/H10 -> 0 | K10: ='ELCA (numbers)'!M10/H10 -> 0 | L10: ='ELCA (numbers)'!N10/H10 -> 0 | M10: 86 | N10: ='ELCA (numbers)'!Q10/M10 -> 0 | O10: ='ELCA (numbers)'!R10/M10 -> 0 | P10: ='ELCA (numbers)'!S10/M10 -> 0 | Q10: ='ELCA (numbers)'!T10/M10 -> 0 | R10: 66 | S10: ='ELCA (numbers)'!W10/R10 -> 0 | T10: ='ELCA (numbers)'!X10/R10 -> 0 | U10: ='ELCA (numbers)'!Y10/R10 -> 0 | V10: ='ELCA (numbers)'!Z10/R10 -> 0 | W10: 57 | X10: ='ELCA (numbers)'!AC10/W10 -> 0.01754386 | Y10: ='ELCA (numbers)'!AD10/W10 -> 0 | Z10: ='ELCA (numbers)'!AE10/W10 -> 0 | AA10: ='ELCA (numbers)'!AF10/W10 -> 0.01754386 | AB10: 82 | AC10: ='ELCA (numbers)'!AI10/AB10 -> 0 | AD10: ='ELCA (numbers)'!AJ10/AB10 -> 0.012195122 | AE10: ='ELCA (numbers)'!AK10/AB10 -> 0 | AF10: ='ELCA (numbers)'!AL10/AB10 -> 0.012195122 | AG10: =AF10-G10 -> 0.012195122
A11: 212674 | B11: Gettysburg College | C11: 597 | D11: ='ELCA (numbers)'!E11/C11 -> 0.073701843 | E11: ='ELCA (numbers)'!F11/C11 -> 0.087102178 | F11: ='ELCA (numbers)'!G11/C11 -> 0.070351759 | G11: ='ELCA (numbers)'!H11/C11 -> 0.23115578 | H11: 594 | I11: ='ELCA (numbers)'!K11/H11 -> 0.082491582 | J11: ='ELCA (numbers)'!L11/H11 -> 0.087542088 | K11: ='ELCA (numbers)'!M11/H11 -> 0.062289562 | L11: ='ELCA (numbers)'!N11/H11 -> 0.23232323 | M11: 645 | N11: ='ELCA (numbers)'!Q11/M11 -> 0.10077519 | O11: ='ELCA (numbers)'!R11/M11 -> 0.072868217 | P11: ='ELCA (numbers)'!S11/M11 -> 0.049612403 | Q11: ='ELCA (numbers)'!T11/M11 -> 0.22325581 | R11: 623 | S11: ='ELCA (numbers)'!W11/R11 -> 0.08988764 | T11: ='ELCA (numbers)'!X11/R11 -> 0.10754414 | U11: ='ELCA (numbers)'!Y11/R11 -> 0.033707865 | V11: ='ELCA (numbers)'!Z11/R11 -> 0.23113965 | W11: 617 | X11: ='ELCA (numbers)'!AC11/W11 -> 0.092382496 | Y11: ='ELCA (numbers)'!AD11/W11 -> 0.087520259 | Z11: ='ELCA (numbers)'!AE11/W11 -> 0.05834684 | AA11: ='ELCA (numbers)'!AF11/W11 -> 0.23824959 | AB11: 660 | AC11: ='ELCA (numbers)'!AI11/AB11 -> 0.06969697 | AD11: ='ELCA (numbers)'!AJ11/AB11 -> 0.083333333 | AE11: ='ELCA (numbers)'!AK11/AB11 -> 0.066666667 | AF11: ='ELCA (numbers)'!AL11/AB11 -> 0.21969697 | AG11: =AF11-G11 -> -0.011458809
A12: 153375 | B12: Grand View University | C12: 334 | D12: ='ELCA (numbers)'!E12/C12 -> 0.01497006 | E12: ='ELCA (numbers)'!F12/C12 -> 0 | F12: ='ELCA (numbers)'!G12/C12 -> 0.005988024 | G12: ='ELCA (numbers)'!H12/C12 -> 0.020958084 | H12: 425 | I12: ='ELCA (numbers)'!K12/H12 -> 0.030588235 | J12: ='ELCA (numbers)'!L12/H12 -> 0 | K12: ='ELCA (numbers)'!M12/H12 -> 0.0070588235 | L12: ='ELCA (numbers)'!N12/H12 -> 0.037647059 | M12: 411 | N12: ='ELCA (numbers)'!Q12/M12 -> 0.01703163 | O12: ='ELCA (numbers)'!R12/M12 -> 0.0243309 | P12: ='ELCA (numbers)'!S12/M12 -> 0 | Q12: ='ELCA (numbers)'!T12/M12 -> 0.04136253 | R12: 495 | S12: ='ELCA (numbers)'!W12/R12 -> 0.018181818 | T12: ='ELCA (numbers)'!X12/R12 -> 0.012121212 | U12: ='ELCA (numbers)'!Y12/R12 -> 0.0060606061 | V12: ='ELCA (numbers)'!Z12/R12 -> 0.036363636 | W12: 496 | X12: ='ELCA (numbers)'!AC12/W12 -> 0.02016129 | Y12: ='ELCA (numbers)'!AD12/W12 -> 0.02016129 | Z12: ='ELCA (numbers)'!AE12/W12 -> 0.0060483871 | AA12: ='ELCA (numbers)'!AF12/W12 -> 0.046370968 | AB12: 478 | AC12: ='ELCA (numbers)'!AI12/AB12 -> 0.018828452 | AD12: ='ELCA (numbers)'!AJ12/AB12 -> 0.016736402 | AE12: ='ELCA (numbers)'!AK12/AB12 -> 0.0062761506 | AF12: ='ELCA (numbers)'!AL12/AB12 -> 0.041841004 | AG12: =AF12-G12 -> 0.02088292
A13: 173647 | B13: Gustavus Adolphus College | C13: 703 | D13: ='ELCA (numbers)'!E13/C13 -> 0.038406828 | E13: ='ELCA (numbers)'!F13/C13 -> 0.031294452 | F13: ='ELCA (numbers)'!G13/C13 -> 0.027027027 | G13: ='ELCA (numbers)'!H13/C13 -> 0.096728307 | H13: 689 | I13: ='ELCA (numbers)'!K13/H13 -> 0.042089985 | J13: ='ELCA (numbers)'!L13/H13 -> 0.031930334 | K13: ='ELCA (numbers)'!M13/H13 -> 0.030478955 | L13: ='ELCA (numbers)'!N13/H13 -> 0.10449927 | M13: 666 | N13: ='ELCA (numbers)'!Q13/M13 -> 0.045045045 | O13: ='ELCA (numbers)'!R13/M13 -> 0.033033033 | P13: ='ELCA (numbers)'!S13/M13 -> 0.022522523 | Q13: ='ELCA (numbers)'!T13/M13 -> 0.1006006 | R13: 586 | S13: ='ELCA (numbers)'!W13/R13 -> 0.040955631 | T13: ='ELCA (numbers)'!X13/R13 -> 0.037542662 | U13: ='ELCA (numbers)'!Y13/R13 -> 0.023890785 | V13: ='ELCA (numbers)'!Z13/R13 -> 0.10238908 | W13: 619 | X13: ='ELCA (numbers)'!AC13/W13 -> 0.046849758 | Y13: ='ELCA (numbers)'!AD13/W13 -> 0.048465267 | Z13: ='ELCA (numbers)'!AE13/W13 -> 0.02907916 | AA13: ='ELCA (numbers)'!AF13/W13 -> 0.12439418 | AB13: 650 | AC13: ='ELCA (numbers)'!AI13/AB13 -> 0.047692308 | AD13: ='ELCA (numbers)'!AJ13/AB13 -> 0.029230769 | AE13: ='ELCA (numbers)'!AK13/AB13 -> 0.024615385 | AF13: ='ELCA (numbers)'!AL13/AB13 -> 0.10153846 | AG13: =AF13-G13 -> 0.0048101543
... A27: 206525 | B27: Wittenberg University | C27: 438 | D27: ='ELCA (numbers)'!E27/C27 -> 0.10730594 | E27: ='ELCA (numbers)'!F27/C27 -> 0.03652968 | F27: ='ELCA (numbers)'!G27/C27 -> 0.015981735 | G27: ='ELCA (numbers)'!H27/C27 -> 0.15981735 | H27: 438 | I27: ='ELCA (numbers)'!K27/H27 -> 0.093607306 | J27: ='ELCA (numbers)'!L27/H27 -> 0.052511416 | K27: ='ELCA (numbers)'!M27/H27 -> 0.020547945 | L27: ='ELCA (numbers)'!N27/H27 -> 0.16666667 | M27: 452 | N27: ='ELCA (numbers)'!Q27/M27 -> 0.086283186 | O27: ='ELCA (numbers)'!R27/M27 -> 0.046460177 | P27: ='ELCA (numbers)'!S27/M27 -> 0.019911504 | Q27: ='ELCA (numbers)'!T27/M27 -> 0.15265487 | R27: 434 | S27: ='ELCA (numbers)'!W27/R27 -> 0.085253456 | T27: ='ELCA (numbers)'!X27/R27 -> 0.043778802 | U27: ='ELCA (numbers)'!Y27/R27 -> 0.011520737 | V27: ='ELCA (numbers)'!Z27/R27 -> 0.140553 | W27: 417 | X27: ='ELCA (numbers)'!AC27/W27 -> 0.076738609 | Y27: ='ELCA (numbers)'!AD27/W27 -> 0.045563549 | Z27: ='ELCA (numbers)'!AE27/W27 -> 0.016786571 | AA27: ='ELCA (numbers)'!AF27/W27 -> 0.13908873 | AB27: 393 | AC27: ='ELCA (numbers)'!AI27/AB27 -> 0.06870229 | AD27: ='ELCA (numbers)'!AJ27/AB27 -> 0.048346056 | AE27: ='ELCA (numbers)'!AK27/AB27 -> 0.017811705 | AF27: ='ELCA (numbers)'!AL27/AB27 -> 0.13486005 | AG27: =AF27-G27 -> -0.024957301
B28: TOTALS | C28: =SUM(C2:C27) -> 10817 | D28: 655 | E28: 397 | F28: 355 | G28: 1407 | H28: =SUM(H2:H27) -> 11058 | I28: 641 | J28: 450 | K28: 326 | L28: 1417 | M28: =SUM(M2:M27) -> 11224 | N28: 623 | O28: 406 | P28: 299 | Q28: 1328 | R28: =SUM(R2:R27) -> 11291 | S28: 558 | T28: 420 | U28: 286 | V28: 1264 | W28: =SUM(W2:W27) -> 11752 | X28: 643 | Y28: 450 | Z28: 313 | AA28: 1406 | AB28: =SUM(AB2:AB27) -> 11988 | AC28: 568 | AD28: 372 | AE28: 253 | AF28: 1193 | AG28: =AF28-G28 -> -214
