Workbook

Sheet completions in humanities and o
A1: UnitID | B1: Institution Name | C1: Grand total (C2003_A First major Bachelor's degree Business management marketing and related support services.) | D1: Grand total (C2003_A Second major Bachelor's degree Business management marketing and related support services.) | E1: Grand total (C2004_A First major Bachelor's degree Business management marketing and related support services.) | F1: Grand total (C2004_A Second major Bachelor's degree Business management marketing and related support services.) | G1: Grand total (C2006_A First major Bachelor's degree Business management marketing and related support services.) | H1: Grand total (C2006_A Second major Bachelor's degree Business management marketing and related support services.) | I1: Grand total (C2008_A First major Bachelor's degree Business management marketing and related support services.) | J1: Grand total (C2008_A Second major Bachelor's degree Business management marketing and related support services.) | K1: Grand total (C2010_A First major Bachelor's degree Business Management Marketing and Related Support Services) | L1: Grand total (C2010_A Second major Bachelor's degree Business Management Marketing and Related Support Services) | M1: Grand total (C2012_A First major Bachelor's degree Business Management Marketing and Related Support Services) | N1: Grand total (C2012_A Second major Bachelor's degree Business Management Marketing and Related Support Services) | O1: Grand total (C2013_A First major Bachelor's degree Business Management Marketing and Related Support Services) | P1: Grand total (C2013_A Second major Bachelor's degree Business Management Marketing and Related Support Services) | Q1: Grand total (C2014_A First major Bachelor's degree Business Management Marketing and Related Support Services) | R1: Grand total (C2014_A Second major Bachelor's degree Business Management Marketing and Related Support Services) | S1: Grand total (C2003_A First major Bachelor's degree Education.) | T1: Grand total (C2003_A Second major Bachelor's degree Education.) | U1: Grand total (C2004_A First major Bachelor's degree Education.) | V1: Grand total (C2004_A Second major Bachelor's degree Education.) | W1: Grand total (C2006_A First major Bachelor's degree Education.) | X1: Grand total (C2006_A Second major Bachelor's degree Education.) | Y1: Grand total (C2008_A First major Bachelor's degree Education.) | Z1: Grand total (C2008_A Second major Bachelor's degree Education.) | AA1: Grand total (C2010_A First major Bachelor's degree Education) | AB1: Grand total (C2010_A Second major Bachelor's degree Education) | AC1: Grand total (C2012_A First major Bachelor's degree Education) | AD1: Grand total (C2012_A Second major Bachelor's degree Education) | AE1: Grand total (C2013_A First major Bachelor's degree Education) | AF1: Grand total (C2013_A Second major Bachelor's degree Education) | AG1: Grand total (C2014_A First major Bachelor's degree Education) | AH1: Grand total (C2014_A Second major Bachelor's degree Education) | AI1: Grand total (C2003_A First major Bachelor's degree English language and literature/letters.) | AJ1: Grand total (C2003_A Second major Bachelor's degree English language and literature/letters.) | AK1: Grand total (C2004_A First major Bachelor's degree English language and literature/letters.) | AL1: Grand total (C2004_A Second major Bachelor's degree English language and literature/letters.) | AM1: Grand total (C2006_A First major Bachelor's degree English language and literature/letters.) | AN1: Grand total (C2006_A Second major Bachelor's degree English language and literature/letters.) | AO1: Grand total (C2008_A First major Bachelor's degree English language and literature/letters.) | AP1: Grand total (C2008_A Second major Bachelor's degree English language and literature/letters.) | AQ1: Grand total (C2010_A First major Bachelor's degree English Language and Literature/Letters) | AR1: Grand total (C2010_A Second major Bachelor's degree English Language and Literature/Letters) | AS1: Grand total (C2012_A First major Bachelor's degree English Language and Literature/Letters) | AT1: Grand total (C2012_A Second major Bachelor's degree English Language and Literature/Letters) | AU1: Grand total (C2013_A First major Bachelor's degree English Language and Literature/Letters) | AV1: Grand total (C2013_A Second major Bachelor's degree English Language and Literature/Letters) | AW1: Grand total (C2014_A First major Bachelor's degree English Language and Literature/Letters) | AX1: Grand total (C2014_A Second major Bachelor's degree English Language and Literature/Letters) | AY1: Grand total (C2003_A First major Bachelor's degree History) | AZ1: Grand total (C2003_A Second major Bachelor's degree History) | BA1: Grand total (C2004_A First major Bachelor's degree History) | BB1: Grand total (C2004_A Second major Bachelor's degree History) | BC1: Grand total (C2006_A First major Bachelor's degree History) | BD1: Grand total (C2006_A Second major Bachelor's degree History) | BE1: Grand total (C2008_A First major Bachelor's degree History) | BF1: Grand total (C2008_A Second major Bachelor's degree History) | BG1: Grand total (C2010_A First major Bachelor's degree History) | BH1: Grand total (C2010_A Second major Bachelor's degree History) | BI1: Grand total (C2012_A First major Bachelor's degree History) | BJ1: Grand total (C2012_A Second major Bachelor's degree History) | BK1: Grand total (C2013_A First major Bachelor's degree History) | BL1: Grand total (C2013_A Second major Bachelor's degree History) | BM1: Grand total (C2014_A First major Bachelor's degree History) | BN1: Grand total (C2014_A Second major Bachelor's degree History) | BO1: Grand total (C2003_A First major Bachelor's degree Nursing) | BP1: Grand total (C2003_A Second major Bachelor's degree Nursing) | BQ1: Grand total (C2004_A First major Bachelor's degree Nursing) | BR1: Grand total (C2004_A Second major Bachelor's degree Nursing) | BS1: Grand total (C2006_A First major Bachelor's degree Nursing) | BT1: Grand total (C2006_A Second major Bachelor's degree Nursing) | BU1: Grand total (C2008_A First major Bachelor's degree Nursing) | BV1: Grand total (C2008_A Second major Bachelor's degree Nursing) | BW1: Grand total (C2010_A First major Bachelor's degree Registered Nursing Nursing Administration Nursing Research and Clinical Nursin) | BX1: Grand total (C2010_A Second major Bachelor's degree Registered Nursing Nursing Administration Nursing Research and Clinical Nursin) | BY1: Grand total (C2012_A First major Bachelor's degree Registered Nursing Nursing Administration Nursing Research and Clinical Nursin) | BZ1: Grand total (C2012_A Second major Bachelor's degree Registered Nursing Nursing Administration Nursing Research and Clinical Nursin) | CA1: Grand total (C2013_A First major Bachelor's degree Registered Nursing Nursing Administration Nursing Research and Clinical Nursin) | CB1: Grand total (C2013_A Second major Bachelor's degree Registered Nursing Nursing Administration Nursing Research and Clinical Nursin) | CC1: Grand total (C2014_A First major Bachelor's degree Registered Nursing Nursing Administration Nursing Research and Clinical Nursin) | CD1: Grand total (C2014_A Second major Bachelor's degree Registered Nursing Nursing Administration Nursing Research and Clinical Nursin) | CE1: Grand total (C2003_A First major Bachelor's degree Philosophy and religious studies.) | CF1: Grand total (C2003_A Second major Bachelor's degree Philosophy and religious studies.) | CG1: Grand total (C2004_A First major Bachelor's degree Philosophy and religious studies.) | CH1: Grand total (C2004_A Second major Bachelor's degree Philosophy and religious studies.) | CI1: Grand total (C2006_A First major Bachelor's degree Philosophy and religious studies.) | CJ1: Grand total (C2006_A Second major Bachelor's degree Philosophy and religious studies.) | CK1: Grand total (C2008_A First major Bachelor's degree Philosophy and religious studies.) | CL1: Grand total (C2008_A Second major Bachelor's degree Philosophy and religious studies.) | CM1: Grand total (C2010_A First major Bachelor's degree Philosophy and Religious Studies) | CN1: Grand total (C2010_A Second major Bachelor's degree Philosophy and Religious Studies) | CO1: Grand total (C2012_A First major Bachelor's degree Philosophy and Religious Studies) | CP1: Grand total (C2012_A Second major Bachelor's degree Philosophy and Religious Studies) | CQ1: Grand total (C2013_A First major Bachelor's degree Philosophy and Religious Studies) | CR1: Grand total (C2013_A Second major Bachelor's degree Philosophy and Religious Studies) | CS1: Grand total (C2014_A First major Bachelor's degree Philosophy and Religious Studies) | CT1: Grand total (C2014_A Second major Bachelor's degree Philosophy and Religious Studies) | CU1: Grand total (C2003_A First major Bachelor's degree Theology/Theological Studies) | CV1: Grand total (C2003_A Second major Bachelor's degree Theology/Theological Studies) | CW1: Grand total (C2004_A First major Bachelor's degree Theology/Theological Studies) | CX1: Grand total (C2004_A Second major Bachelor's degree Theology/Theological Studies) | CY1: Grand total (C2006_A First major Bachelor's degree Theology/Theological Studies) | CZ1: Grand total (C2006_A Second major Bachelor's degree Theology/Theological Studies) | DA1: Grand total (C2008_A First major Bachelor's degree Theology/Theological Studies) | DB1: Grand total (C2008_A Second major Bachelor's degree Theology/Theological Studies) | DC1: Grand total (C2010_A First major Bachelor's degree Theology/Theological Studies) | DD1: Grand total (C2010_A Second major Bachelor's degree Theology/Theological Studies) | DE1: Grand total (C2012_A First major Bachelor's degree Theology/Theological Studies) | DF1: Grand total (C2012_A Second major Bachelor's degree Theology/Theological Studies) | DG1: Grand total (C2013_A First major Bachelor's degree Theology/Theological Studies) | DH1: Grand total (C2013_A Second major Bachelor's degree Theology/Theological Studies) | DI1: Grand total (C2014_A First major Bachelor's degree Theology/Theological Studies) | DJ1: Grand total (C2014_A Second major Bachelor's degree Theology/Theological Studies) | DK1: Grand total (C2003_A First major Grand total Bachelor's degree) | DL1: Grand total (C2003_A Second major Grand total Bachelor's degree) | DM1: Grand total (C2004_A First major Bachelor's degree Grand total) | DN1: Grand total (C2004_A Second major Bachelor's degree Grand total) | DO1: Grand total (C2006_A First major Bachelor's degree Grand total) | DP1: Grand total (C2006_A Second major Bachelor's degree Grand total) | DQ1: Grand total (C2008_A First major Bachelor's degree Grand total) | DR1: Grand total (C2008_A Second major Bachelor's degree Grand total) | DS1: Grand total (C2010_A First major Bachelor's degree Grand total) | DT1: Grand total (C2010_A Second major Bachelor's degree Grand total) | DU1: Grand total (C2012_A First major Bachelor's degree Grand total) | DV1: Grand total (C2012_A Second major Bachelor's degree Grand total) | DW1: Grand total (C2014_A First major Bachelor's degree Grand total) | DX1: Grand total (C2014_A Second major Bachelor's degree Grand total)
A2: a 1 | B2: a 2 | C2: bus 03 a | D2: bus 03b | E2: bus 04 a | F2: bus 04 b | G2: bus 06 a | H2: bus 06 b | I2: bus 08 a | J2: bus 08 b | K2: bus 10 a | L2: bus 10 b | M2: bus 12 a | N2: bus 12 b | O2: bus 13 a | P2: bus 13 b | Q2: bus 14 a | R2: bus 14 b | S2: edu 03 a | T2: edu 03 b | U2: edu 04 a | V2: edu 04 b | W2: edu 06 a | X2: edu 06 b | Y2: edu 08 a | Z2: edu 08 b | AA2: edu 10 a | AB2: edu 10 b | AC2: edu 12 a | AD2: edu 12 b | AE2: edu 13 a | AF2: edu 13 b | AG2: edu 14 a | AH2: edu 14 b | AI2: eng 03 a | AJ2: eng 03 b | AK2: eng 04 a | AL2: eng 04 b | AM2: eng 06 a | AN2: eng 06 b | AO2: eng 08 a | AP2: eng 08 b | AQ2: eng 10 a | AR2: eng 10 b | AS2: eng 12 a | AT2: eng 12 b | AU2: eng 13 a | AV2: eng 13 b | AW2: eng 14 a | AX2: eng 14 b | AY2: his 03 a | AZ2: his 03 b | BA2: his 04 a | BB2: his 04 b | BC2: his 06 a | BD2: his 06 b | BE2: his 08 a | BF2: his 08 b | BG2: his 10 a | BH2: his 10 b | BI2: his 12 a | BJ2: his 12 b | BK2: his 13 a | BL2: his 13 b | BM2: his 14 a | BN2: his 14 b | BO2: nur 03 a | BP2: nur 03 b | BQ2: nur 04 a | BR2: nur 04b | BS2: nur 06 a | BT2: nur 06 b | BU2: nur 08 a | BV2: nur 08 b | BW2: nur 10 a | BX2: nur 10 b | BY2: nur 12 a | BZ2: nur 12 b | CA2: nur 13 a | CB2: nur 13 b | CC2: nur 14 a | CD2: nur 14 b | CE2: phi 03 a | CF2: phi 03 b | CG2: phi 04 a | CH2: phi 04 b | CI2: phi 06 a | CJ2: phi 06 b | CK2: phi 08 a | CL2: phi 08 b | CM2: phi 10 a | CN2: phi 10 b | CO2: phi 12 a | CP2: phi 12 b | CQ2: phi 13 a | CR2: phi 13 b | CS2: phi 14 a | CT2: phi 14 b | CU2: the 03 a | CV2: the 03 b | CW2: the 04 a | CX2: the 04 b | CY2: the 06 a | CZ2: the 06 b | DA2: the 08 a | DB2: the 08 b | DC2: the 10 a | DD2: the 10 b | DE2: the 12 a | DF2: the 12 b | DG2: the 13 a | DH2: the 13 b | DI2: the 14 a | DJ2: the 14 b | DK2: tot 03 a | DL2: tot 03 b | DM2: tot 04 a | DN2: tot 04 b | DO2: tot 06 a | DP2: tot 06 b | DQ2: tot 08 a | DR2: tot 08 b | DS2: tot 10 a | DT2: tot 10 b | DU2: tot 12 a | DV2: tot 12 b | DW2: tot 14 a | DX2: tot 14 b
A3: 222178 | B3: Abilene Christian University | C3: 170 | D3: 49 | E3: 168 | F3: 47 | G3: 160 | H3: 30 | I3: 190 | J3: 41 | K3: 163 | L3: 18 | M3: 168 | N3: 26 | O3: 155 | P3: 28 | Q3: 180 | R3: 30 | S3: 100 | U3: 105 | V3: 0 | W3: 99 | X3: 0 | Y3: 92 | Z3: 0 | AA3: 86 | AB3: 0 | AC3: 68 | AD3: 0 | AE3: 71 | AF3: 0 | AG3: 62 | AH3: 0 | AI3: 25 | AK3: 47 | AM3: 49 | AN3: 0 | AO3: 29 | AP3: 0 | AQ3: 29 | AS3: 24 | AU3: 19 | AW3: 20 | AY3: 12 | BA3: 10 | BC3: 15 | BD3: 1 | BE3: 6 | BF3: 0 | BG3: 8 | BH3: 0 | BI3: 11 | BJ3: 0 | BK3: 10 | BL3: 0 | BM3: 7 | BN3: 0 | BO3: 22 | BQ3: 14 | BS3: 24 | BU3: 25 | BW3: 26 | BY3: 27 | CA3: 25 | CC3: 30 | DK3: 792 | DL3: 52 | DM3: 817 | DN3: 54 | DO3: 790 | DP3: 35 | DQ3: 850 | DR3: 42 | DS3: 818 | DT3: 18 | DU3: 805 | DV3: 27 | DW3: 792 | DX3: 30
A4: 150066 | B4: Anderson University | C4: 80 | D4: 11 | E4: 74 | F4: 6 | G4: 92 | H4: 5 | I4: 110 | J4: 6 | K4: 94 | L4: 1 | M4: 94 | N4: 6 | O4: 106 | P4: 2 | Q4: 79 | R4: 4 | S4: 91 | T4: 3 | U4: 72 | V4: 2 | W4: 80 | X4: 4 | Y4: 73 | Z4: 1 | AA4: 58 | AB4: 5 | AC4: 57 | AD4: 2 | AE4: 67 | AF4: 6 | AG4: 47 | AH4: 2 | AI4: 9 | AJ4: 1 | AK4: 9 | AM4: 5 | AN4: 2 | AO4: 10 | AP4: 2 | AQ4: 9 | AR4: 2 | AS4: 3 | AT4: 3 | AU4: 6 | AV4: 6 | AW4: 6 | AX4: 2 | AY4: 6 | AZ4: 1 | BA4: 9 | BB4: 4 | BC4: 15 | BD4: 4 | BE4: 14 | BF4: 2 | BG4: 25 | BH4: 0 | BI4: 18 | BJ4: 4 | BK4: 10 | BL4: 3 | BM4: 9 | BN4: 4 | BO4: 20 | BQ4: 33 | BS4: 27 | BU4: 35 | BW4: 33 | BY4: 31 | CA4: 40 | CC4: 25 | CE4: 9 | CF4: 3 | CG4: 12 | CH4: 4 | CI4: 13 | CJ4: 5 | CK4: 12 | CL4: 2 | CM4: 13 | CN4: 2 | CO4: 8 | CP4: 0 | CQ4: 9 | CR4: 1 | CS4: 4 | CT4: 0 | CU4: 26 | CV4: 5 | CW4: 21 | CX4: 2 | CY4: 12 | CZ4: 4 | DA4: 19 | DB4: 7 | DC4: 10 | DD4: 4 | DE4: 8 | DF4: 1 | DG4: 5 | DH4: 4 | DI4: 7 | DJ4: 1 | DK4: 414 | DL4: 48 | DM4: 394 | DN4: 34 | DO4: 437 | DP4: 48 | DQ4: 478 | DR4: 57 | DS4: 401 | DT4: 48 | DU4: 418 | DV4: 58 | DW4: 377 | DX4: 41
A5: 217633 | B5: Anderson University | C5: 96 | D5: 7 | E5: 90 | F5: 3 | G5: 59 | I5: 69 | J5: 4 | K5: 74 | L5: 6 | M5: 79 | N5: 6 | O5: 77 | P5: 17 | Q5: 116 | R5: 10 | S5: 33 | T5: 2 | U5: 43 | W5: 65 | Y5: 57 | Z5: 4 | AA5: 68 | AB5: 3 | AC5: 72 | AD5: 3 | AE5: 91 | AF5: 1 | AG5: 80 | AH5: 0 | AI5: 3 | AK5: 3 | AM5: 7 | AO5: 6 | AQ5: 1 | AR5: 1 | AS5: 1 | AT5: 1 | AU5: 7 | AV5: 2 | AW5: 15 | AX5: 1 | AY5: 5 | BA5: 5 | BC5: 8 | BE5: 3 | BG5: 5 | BI5: 5 | BK5: 4 | BM5: 6 | BN5: 1 | BY5: 0 | CA5: 0 | CC5: 15 | CE5: 4 | CG5: 14 | CH5: 1 | CI5: 18 | CK5: 4 | CM5: 14 | CO5: 14 | CQ5: 12 | CS5: 33 | CT5: 1 | DK5: 200 | DL5: 12 | DM5: 222 | DN5: 9 | DO5: 259 | DQ5: 220 | DR5: 9 | DS5: 235 | DT5: 16 | DU5: 249 | DV5: 16 | DW5: 451 | DX5: 15
A6: 156213 | B6: Asbury University | C6: 17 | D6: 2 | E6: 18 | F6: 0 | G6: 18 | H6: 5 | I6: 23 | J6: 3 | K6: 31 | L6: 0 | M6: 17 | N6: 0 | O6: 32 | P6: 1 | Q6: 32 | R6: 3 | S6: 43 | U6: 20 | W6: 29 | X6: 0 | Y6: 23 | Z6: 0 | AA6: 51 | AB6: 2 | AC6: 34 | AD6: 1 | AE6: 46 | AF6: 8 | AG6: 47 | AH6: 5 | AI6: 35 | AJ6: 1 | AK6: 32 | AL6: 2 | AM6: 27 | AN6: 0 | AO6: 21 | AP6: 0 | AQ6: 5 | AR6: 4 | AS6: 19 | AT6: 1 | AU6: 14 | AV6: 6 | AW6: 13 | AX6: 2 | AY6: 9 | BA6: 16 | BB6: 1 | BC6: 9 | BD6: 1 | BE6: 13 | BF6: 1 | BG6: 14 | BH6: 2 | BI6: 9 | BJ6: 1 | BK6: 11 | BL6: 3 | BM6: 4 | BN6: 0 | CE6: 3 | CF6: 2 | CG6: 5 | CH6: 1 | CI6: 7 | CJ6: 1 | CK6: 2 | CL6: 2 | CM6: 2 | CN6: 1 | CO6: 2 | CP6: 1 | CQ6: 3 | CR6: 1 | CS6: 0 | CT6: 0 | DK6: 301 | DL6: 15 | DM6: 254 | DN6: 13 | DO6: 273 | DP6: 14 | DQ6: 222 | DR6: 20 | DS6: 286 | DT6: 30 | DU6: 240 | DV6: 23 | DW6: 260 | DX6: 42
A7: 109785 | B7: Azusa Pacific University | C7: 214 | D7: 2 | E7: 243 | F7: 1 | G7: 258 | H7: 0 | I7: 281 | K7: 250 | L7: 4 | M7: 298 | N7: 4 | O7: 321 | P7: 2 | Q7: 371 | R7: 1 | S7: 36 | U7: 17 | V7: 1 | W7: 24 | X7: 0 | Y7: 25 | AA7: 24 | AC7: 34 | AD7: 0 | AE7: 45 | AF7: 0 | AG7: 69 | AH7: 0 | AI7: 38 | AJ7: 2 | AK7: 26 | AL7: 2 | AM7: 27 | AN7: 3 | AO7: 32 | AP7: 1 | AQ7: 44 | AR7: 3 | AS7: 45 | AT7: 4 | AU7: 52 | AV7: 0 | AW7: 60 | AX7: 1 | AY7: 3 | AZ7: 2 | BA7: 10 | BC7: 0 | BD7: 0 | BE7: 20 | BG7: 16 | BH7: 3 | BI7: 13 | BJ7: 9 | BK7: 19 | BL7: 3 | BM7: 25 | BN7: 2 | BO7: 80 | BQ7: 60 | BS7: 91 | BU7: 125 | BW7: 119 | BX7: 11 | BY7: 275 | BZ7: 0 | CA7: 354 | CB7: 0 | CC7: 360 | CD7: 0 | CE7: 47 | CF7: 10 | CG7: 3 | CI7: 7 | CK7: 12 | CL7: 2 | CM7: 2 | CN7: 0 | CO7: 10 | CP7: 1 | CQ7: 8 | CR7: 4 | CS7: 10 | CT7: 5 | CW7: 4 | CX7: 1 | CY7: 9 | CZ7: 1 | DA7: 9 | DB7: 3 | DC7: 8 | DD7: 2 | DE7: 3 | DF7: 1 | DG7: 7 | DH7: 0 | DI7: 7 | DJ7: 1 | DK7: 1114 | DL7: 29 | DM7: 1091 | DN7: 16 | DO7: 1160 | DP7: 21 | DQ7: 1282 | DR7: 24 | DS7: 1137 | DT7: 49 | DU7: 1401 | DV7: 36 | DW7: 1741 | DX7: 23
A8: 175421 | B8: Belhaven University | C8: 274 | D8: 2 | E8: 222 | F8: 1 | G8: 224 | I8: 192 | K8: 216 | M8: 171 | O8: 190 | Q8: 159 | S8: 25 | U8: 24 | W8: 19 | X8: 0 | Y8: 18 | AA8: 10 | AC8: 30 | AE8: 13 | AG8: 9 | AI8: 10 | AK8: 12 | AM8: 13 | AO8: 5 | AQ8: 13 | AS8: 5 | AU8: 14 | AW8: 15 | AY8: 12 | BA8: 12 | BC8: 11 | BD8: 1 | BE8: 11 | BG8: 6 | BI8: 12 | BK8: 4 | BM8: 4 | CE8: 3 | CG8: 0 | CI8: 3 | CJ8: 0 | CK8: 2 | CM8: 2 | CO8: 1 | CQ8: 6 | CS8: 1 | DK8: 430 | DL8: 2 | DM8: 385 | DN8: 6 | DO8: 373 | DP8: 5 | DQ8: 412 | DS8: 472 | DU8: 462 | DW8: 498
A9: 150145 | B9: Bethel College-Indiana | C9: 104 | E9: 100 | G9: 95 | I9: 131 | K9: 155 | M9: 184 | O9: 148 | Q9: 133 | S9: 52 | U9: 37 | W9: 50 | Y9: 37 | AA9: 50 | AC9: 54 | AE9: 54 | AG9: 35 | AI9: 5 | AK9: 4 | AM9: 5 | AO9: 4 | AQ9: 4 | AS9: 5 | AU9: 3 | AW9: 6 | AY9: 3 | BA9: 3 | BC9: 8 | BE9: 1 | BG9: 3 | BI9: 1 | BK9: 5 | BM9: 3 | BO9: 34 | BQ9: 28 | BS9: 18 | BU9: 45 | BW9: 62 | BY9: 54 | CA9: 55 | CC9: 69 | CE9: 15 | CG9: 8 | CI9: 14 | CK9: 10 | CM9: 10 | CO9: 12 | CQ9: 3 | CS9: 4 | CU9: 4 | CW9: 4 | CY9: 2 | DA9: 10 | DC9: 5 | DE9: 3 | DG9: 3 | DK9: 321 | DL9: 1 | DM9: 305 | DO9: 329 | DQ9: 348 | DS9: 419 | DU9: 465 | DW9: 450
A10: 173160 | B10: Bethel University | C10: 149 | E10: 176 | G10: 190 | H10: 1 | I10: 210 | J10: 1 | K10: 196 | L10: 3 | M10: 208 | N10: 0 | O10: 231 | P10: 1 | Q10: 192 | R10: 3 | S10: 95 | T10: 11 | U10: 94 | V10: 4 | W10: 108 | X10: 5 | Y10: 94 | Z10: 11 | AA10: 77 | AB10: 15 | AC10: 77 | AD10: 8 | AE10: 90 | AF10: 11 | AG10: 75 | AH10: 14 | AI10: 18 | AJ10: 1 | AK10: 21 | AL10: 0 | AM10: 17 | AN10: 2 | AO10: 24 | AP10: 2 | AQ10: 15 | AR10: 1 | AS10: 17 | AT10: 0 | AU10: 15 | AV10: 3 | AW10: 13 | AX10: 0 | AY10: 12 | AZ10: 4 | BA10: 17 | BB10: 4 | BC10: 12 | BD10: 6 | BE10: 23 | BF10: 2 | BG10: 14 | BH10: 2 | BI10: 10 | BJ10: 5 | BK10: 13 | BL10: 5 | BM10: 6 | BN10: 5 | BO10: 83 | BP10: 1 | BQ10: 85 | BR10: 0 | BS10: 107 | BT10: 0 | BU10: 121 | BW10: 163 | BY10: 182 | CA10: 174 | CC10: 184 | CE10: 13 | CG10: 12 | CH10: 4 | CI10: 8 | CJ10: 3 | CK10: 7 | CL10: 6 | CM10: 8 | CN10: 10 | CO10: 4 | CP10: 8 | CQ10: 5 | CR10: 8 | CS10: 2 | CT10: 1 | DK10: 637 | DL10: 58 | DM10: 692 | DN10: 38 | DO10: 750 | DP10: 53 | DQ10: 766 | DR10: 64 | DS10: 843 | DT10: 75 | DU10: 856 | DV10: 77 | DW10: 842 | DX10: 68
A11: 110097 | B11: Biola University | C11: 182 | E11: 136 | G11: 204 | I11: 237 | K11: 236 | M11: 163 | O11: 141 | Q11: 108 | S11: 57 | U11: 61 | W11: 67 | Y11: 48 | AA11: 44 | AC11: 71 | AE11: 55 | AG11: 51 | AI11: 27 | AK11: 29 | AM11: 22 | AO11: 42 | AQ11: 39 | AS11: 31 | AU11: 39 | AW11: 41 | AY11: 8 | BA11: 11 | BC11: 12 | BE11: 10 | BG11: 18 | BI11: 19 | BK11: 11 | BM11: 13 | BO11: 21 | BQ11: 32 | BS11: 26 | BU11: 32 | BW11: 32 | BY11: 37 | CA11: 35 | CC11: 39 | CE11: 10 | CG11: 12 | CI11: 9 | CK11: 10 | CM11: 15 | CO11: 8 | CQ11: 9 | CS11: 14 | DK11: 660 | DM11: 690 | DO11: 778 | DQ11: 896 | DS11: 913 | DU11: 897 | DW11: 932
A12: 231554 | B12: Bluefield College | C12: 134 | E12: 114 | F12: 0 | G12: 103 | H12: 0 | I12: 114 | J12: 0 | K12: 92 | L12: 0 | M12: 70 | N12: 0 | O12: 73 | P12: 0 | Q12: 73 | R12: 0 | W12: 0 | Y12: 0 | AA12: 0 | AC12: 0 | AE12: 0 | AG12: 0 | AI12: 2 | AK12: 2 | AL12: 0 | AM12: 3 | AN12: 0 | AO12: 4 | AP12: 0 | AQ12: 0 | AR12: 0 | AS12: 4 | AT12: 0 | AU12: 4 | AV12: 1 | AW12: 1 | AX12: 0 | AY12: 1 | BA12: 1 | BB12: 0 | BC12: 6 | BD12: 0 | BE12: 4 | BF12: 0 | BG12: 2 | BH12: 0 | BI12: 2 | BJ12: 0 | BK12: 1 | BL12: 0 | BM12: 2 | BN12: 0 | BY12: 0 | CA12: 4 | CC12: 13 | CE12: 4 | CG12: 5 | CI12: 7 | CK12: 4 | CM12: 6 | CO12: 2 | CQ12: 2 | CR12: 1 | CS12: 0 | CT12: 0 | DK12: 243 | DM12: 230 | DN12: 1 | DO12: 255 | DP12: 0 | DQ12: 277 | DR12: 0 | DS12: 205 | DT12: 0 | DU12: 208 | DV12: 2 | DW12: 225 | DX12: 5
A13: 201371 | B13: Bluffton University | C13: 87 | D13: 6 | E13: 84 | F13: 4 | G13: 68 | H13: 3 | I13: 82 | J13: 1 | K13: 90 | L13: 5 | M13: 88 | N13: 12 | O13: 82 | P13: 11 | Q13: 73 | R13: 9 | S13: 48 | T13: 3 | U13: 52 | V13: 4 | W13: 58 | X13: 7 | Y13: 49 | Z13: 10 | AA13: 35 | AB13: 6 | AC13: 41 | AD13: 6 | AE13: 30 | AF13: 4 | AG13: 29 | AH13: 4 | AI13: 5 | AK13: 5 | AL13: 0 | AM13: 6 | AN13: 1 | AO13: 8 | AP13: 0 | AQ13: 6 | AR13: 2 | AS13: 10 | AT13: 4 | AU13: 5 | AV13: 2 | AW13: 5 | AX13: 1 | AY13: 2 | BA13: 4 | BB13: 0 | BC13: 3 | BD13: 0 | BE13: 7 | BF13: 0 | BG13: 13 | BH13: 1 | BI13: 9 | BJ13: 0 | BK13: 4 | BL13: 0 | BM13: 5 | BN13: 0 | CE13: 1 | CG13: 2 | CH13: 0 | CI13: 2 | CJ13: 0 | CK13: 2 | CL13: 0 | CM13: 3 | CN13: 0 | CO13: 4 | CP13: 0 | CQ13: 3 | CR13: 0 | DK13: 215 | DL13: 16 | DM13: 230 | DN13: 20 | DO13: 242 | DP13: 21 | DQ13: 253 | DR13: 21 | DS13: 219 | DT13: 21 | DU13: 240 | DV13: 32 | DW13: 187 | DX13: 22
A14: 219790 | B14: Bryan College-Dayton | C14: 35 | E14: 33 | G14: 72 | I14: 153 | K14: 185 | M14: 167 | O14: 176 | Q14: 146 | S14: 17 | U14: 22 | W14: 19 | Y14: 15 | AA14: 20 | AC14: 24 | AD14: 1 | AE14: 15 | AG14: 34 | AI14: 7 | AK14: 6 | AM14: 6 | AO14: 7 | AQ14: 9 | AS14: 3 | AT14: 1 | AU14: 9 | AW14: 14 | AX14: 3 | AY14: 4 | AZ14: 1 | BA14: 8 | BC14: 8 | BE14: 1 | BF14: 1 | BG14: 5 | BI14: 5 | BJ14: 1 | BK14: 2 | BM14: 5 | CK14: 2 | CM14: 2 | CO14: 2 | CQ14: 1 | CS14: 2 | DK14: 149 | DL14: 8 | DM14: 127 | DN14: 1 | DO14: 175 | DP14: 1 | DQ14: 247 | DR14: 1 | DS14: 303 | DT14: 2 | DU14: 300 | DV14: 9 | DW14: 293 | DX14: 11
A15: 110361 | B15: California Baptist University | C15: 45 | E15: 60 | G15: 76 | H15: 1 | I15: 113 | K15: 122 | L15: 0 | M15: 113 | O15: 136 | Q15: 126 | R15: 3 | S15: 139 | AA15: 20 | AC15: 30 | AD15: 0 | AE15: 42 | AF15: 2 | AG15: 47 | AH15: 1 | AI15: 12 | AK15: 22 | AL15: 1 | AM15: 25 | AN15: 2 | AO15: 32 | AP15: 1 | AQ15: 33 | AR15: 3 | AS15: 27 | AU15: 23 | AV15: 1 | AW15: 30 | AY15: 9 | BA15: 9 | BB15: 6 | BC15: 16 | BD15: 7 | BE15: 19 | BF15: 3 | BG15: 21 | BH15: 4 | BI15: 15 | BJ15: 1 | BK15: 13 | BL15: 4 | BM15: 17 | BU15: 3 | BW15: 45 | BY15: 65 | CA15: 86 | CC15: 104 | CE15: 3 | CG15: 4 | CI15: 15 | CJ15: 2 | CK15: 27 | CL15: 2 | CM15: 28 | CN15: 3 | CO15: 31 | CP15: 2 | CQ15: 28 | CR15: 4 | CS15: 29 | CT15: 6 | DK15: 358 | DL15: 6 | DM15: 418 | DN15: 12 | DO15: 564 | DP15: 31 | DQ15: 626 | DR15: 22 | DS15: 711 | DT15: 28 | DU15: 825 | DV15: 25 | DW15: 1029 | DX15: 28
A16: 169080 | B16: Calvin College | C16: 154 | D16: 11 | E16: 124 | F16: 2 | G16: 114 | H16: 4 | I16: 112 | J16: 19 | K16: 144 | M16: 117 | N16: 1 | O16: 119 | P16: 0 | Q16: 124 | R16: 0 | S16: 83 | U16: 81 | W16: 83 | X16: 3 | Y16: 66 | Z16: 1 | AA16: 103 | AB16: 4 | AC16: 104 | AD16: 5 | AE16: 88 | AF16: 21 | AG16: 97 | AH16: 33 | AI16: 66 | AJ16: 13 | AK16: 59 | AL16: 5 | AM16: 38 | AN16: 5 | AO16: 32 | AP16: 7 | AQ16: 35 | AR16: 9 | AS16: 27 | AT16: 4 | AU16: 38 | AV16: 5 | AW16: 30 | AX16: 5 | AY16: 33 | AZ16: 4 | BA16: 24 | BB16: 4 | BC16: 48 | BD16: 5 | BE16: 21 | BF16: 7 | BG16: 21 | BH16: 2 | BI16: 10 | BJ16: 6 | BK16: 12 | BL16: 2 | BM16: 9 | BN16: 5 | BO16: 47 | BP16: 1 | BQ16: 51 | BR16: 0 | BS16: 57 | BU16: 59 | BV16: 2 | BW16: 61 | BY16: 60 | CA16: 61 | CC16: 65 | CE16: 28 | CF16: 9 | CG16: 28 | CH16: 10 | CI16: 27 | CJ16: 12 | CK16: 33 | CL16: 6 | CM16: 19 | CN16: 17 | CO16: 20 | CP16: 16 | CQ16: 11 | CR16: 13 | CS16: 23 | CT16: 16 | DK16: 894 | DL16: 86 | DM16: 872 | DN16: 80 | DO16: 919 | DP16: 111 | DQ16: 823 | DR16: 104 | DS16: 908 | DT16: 130 | DU16: 795 | DV16: 110 | DW16: 852 | DX16: 148
A17: 156365 | B17: Campbellsville University | C17: 34 | D17: 12 | E17: 56 | G17: 46 | I17: 46 | K17: 58 | L17: 1 | M17: 52 | O17: 58 | Q17: 49 | S17: 39 | T17: 1 | U17: 36 | V17: 2 | W17: 22 | X17: 1 | Y17: 44 | Z17: 1 | AA17: 50 | AC17: 57 | AD17: 3 | AE17: 61 | AF17: 4 | AG17: 58 | AH17: 5 | AI17: 2 | AJ17: 2 | AK17: 4 | AM17: 5 | AO17: 4 | AQ17: 7 | AR17: 1 | AS17: 5 | AU17: 6 | AV17: 2 | AW17: 6 | AX17: 1 | AY17: 1 | AZ17: 2 | BA17: 1 | BB17: 2 | BC17: 4 | BD17: 1 | BE17: 1 | BG17: 3 | BH17: 1 | BI17: 7 | BJ17: 2 | BK17: 2 | BL17: 1 | BM17: 2 | BN17: 2 | CC17: 14 | CU17: 1 | DK17: 177 | DL17: 70 | DM17: 196 | DN17: 29 | DO17: 175 | DP17: 16 | DQ17: 220 | DR17: 13 | DS17: 256 | DT17: 10 | DU17: 325 | DV17: 9 | DW17: 333 | DX17: 24
A18: 219806 | B18: Carson-Newman University | C18: 51 | E18: 48 | F18: 0 | G18: 69 | H18: 0 | I18: 44 | J18: 1 | K18: 56 | L18: 0 | M18: 62 | N18: 0 | O18: 53 | P18: 1 | Q18: 67 | R18: 5 | S18: 71 | U18: 81 | V18: 2 | W18: 82 | X18: 0 | Y18: 49 | Z18: 4 | AA18: 51 | AB18: 0 | AC18: 49 | AD18: 0 | AE18: 50 | AF18: 0 | AG18: 51 | AH18: 0 | AI18: 17 | AK18: 3 | AL18: 7 | AM18: 5 | AN18: 0 | AO18: 5 | AP18: 2 | AQ18: 7 | AR18: 0 | AS18: 4 | AT18: 0 | AU18: 4 | AV18: 0 | AW18: 7 | AX18: 0 | AY18: 15 | BA18: 14 | BB18: 2 | BC18: 12 | BD18: 0 | BE18: 11 | BF18: 0 | BG18: 9 | BH18: 0 | BI18: 3 | BJ18: 0 | BK18: 7 | BL18: 0 | BM18: 2 | BN18: 0 | BO18: 10 | BQ18: 14 | BS18: 33 | BU18: 64 | BW18: 1 | BY18: 40 | CA18: 45 | CC18: 38 | CE18: 23 | CF18: 5 | CG18: 27 | CH18: 6 | CI18: 23 | CJ18: 0 | CK18: 13 | CL18: 4 | CM18: 14 | CN18: 1 | CO18: 14 | CP18: 2 | CQ18: 15 | CR18: 0 | CS18: 15 | CT18: 8 | DK18: 397 | DL18: 24 | DM18: 394 | DN18: 34 | DO18: 403 | DP18: 0 | DQ18: 347 | DR18: 33 | DS18: 326 | DT18: 2 | DU18: 333 | DV18: 4 | DW18: 328 | DX18: 54
A19: 201654 | B19: Cedarville University | C19: 83 | D19: 34 | E19: 88 | F19: 11 | G19: 74 | H19: 16 | I19: 83 | J19: 19 | K19: 71 | L19: 10 | M19: 66 | N19: 8 | O19: 61 | P19: 12 | Q19: 77 | R19: 12 | S19: 113 | T19: 4 | U19: 121 | V19: 13 | W19: 117 | X19: 15 | Y19: 81 | Z19: 11 | AA19: 94 | AB19: 14 | AC19: 74 | AD19: 4 | AE19: 61 | AF19: 2 | AG19: 68 | AH19: 6 | AI19: 24 | AJ19: 1 | AK19: 27 | AL19: 0 | AM19: 19 | AN19: 0 | AO19: 23 | AP19: 0 | AQ19: 16 | AR19: 0 | AS19: 13 | AT19: 2 | AU19: 17 | AV19: 2 | AW19: 21 | AX19: 2 | AY19: 9 | AZ19: 5 | BA19: 12 | BB19: 2 | BC19: 12 | BD19: 1 | BE19: 14 | BF19: 2 | BG19: 13 | BH19: 3 | BI19: 16 | BJ19: 5 | BK19: 17 | BL19: 1 | BM19: 12 | BN19: 1 | BO19: 37 | BQ19: 44 | BS19: 65 | BU19: 73 | BW19: 83 | BY19: 82 | CA19: 53 | CC19: 88 | CE19: 6 | CF19: 2 | CG19: 2 | CH19: 0 | CI19: 3 | CJ19: 0 | CK19: 5 | CL19: 0 | CM19: 4 | CN19: 0 | CO19: 3 | CP19: 1 | CQ19: 1 | CR19: 0 | CS19: 2 | CT19: 0 | CU19: 30 | CV19: 4 | CW19: 18 | CX19: 0 | CY19: 13 | CZ19: 0 | DA19: 17 | DB19: 1 | DC19: 13 | DD19: 0 | DE19: 10 | DF19: 0 | DG19: 10 | DH19: 0 | DI19: 8 | DJ19: 1 | DK19: 623 | DL19: 63 | DM19: 620 | DN19: 51 | DO19: 625 | DP19: 60 | DQ19: 617 | DR19: 57 | DS19: 629 | DT19: 47 | DU19: 622 | DV19: 43 | DW19: 722 | DX19: 39
A20: 217688 | B20: Charleston Southern University | C20: 76 | E20: 58 | G20: 75 | H20: 1 | I20: 94 | J20: 1 | K20: 141 | L20: 1 | M20: 95 | O20: 92 | P20: 2 | Q20: 74 | R20: 3 | S20: 40 | U20: 64 | W20: 73 | Y20: 49 | AA20: 41 | AC20: 30 | AE20: 40 | AG20: 46 | AH20: 1 | AI20: 9 | AK20: 6 | AM20: 7 | AN20: 2 | AO20: 8 | AQ20: 3 | AR20: 1 | AS20: 9 | AU20: 9 | AV20: 1 | AW20: 6 | AX20: 1 | AY20: 11 | BA20: 5 | BC20: 8 | BD20: 2 | BE20: 8 | BF20: 1 | BG20: 12 | BI20: 8 | BJ20: 2 | BK20: 8 | BL20: 1 | BM20: 12 | BN20: 0 | BO20: 25 | BQ20: 20 | BS20: 18 | BU20: 19 | BW20: 22 | BY20: 27 | CA20: 30 | CC20: 41 | CE20: 17 | CG20: 12 | CI20: 23 | CJ20: 7 | CK20: 19 | CL20: 4 | CM20: 18 | CN20: 6 | CO20: 13 | CP20: 5 | CQ20: 19 | CR20: 4 | CS20: 16 | CT20: 3 | DK20: 379 | DM20: 327 | DO20: 386 | DP20: 27 | DQ20: 437 | DR20: 19 | DS20: 464 | DT20: 21 | DU20: 412 | DV20: 21 | DW20: 481 | DX20: 24
A21: 178697 | B21: College of the Ozarks | C21: 42 | D21: 1 | E21: 56 | F21: 2 | G21: 59 | H21: 1 | I21: 62 | J21: 2 | K21: 41 | L21: 2 | M21: 52 | N21: 3 | O21: 33 | P21: 4 | Q21: 53 | R21: 7 | S21: 45 | U21: 52 | W21: 44 | Y21: 38 | AA21: 49 | AC21: 58 | AD21: 0 | AE21: 55 | AF21: 0 | AG21: 48 | AH21: 0 | AI21: 7 | AK21: 6 | AL21: 1 | AM21: 13 | AO21: 21 | AP21: 0 | AQ21: 17 | AS21: 12 | AT21: 0 | AU21: 8 | AV21: 1 | AW21: 12 | AX21: 1 | AY21: 6 | AZ21: 2 | BA21: 6 | BB21: 2 | BC21: 9 | BE21: 4 | BG21: 9 | BH21: 0 | BI21: 5 | BJ21: 0 | BK21: 4 | BL21: 1 | BM21: 7 | BN21: 0 | BO21: 1 | BW21: 16 | BY21: 16 | CA21: 18 | CC21: 14 | CE21: 5 | CF21: 1 | CG21: 5 | CH21: 1 | CI21: 9 | CJ21: 0 | CK21: 9 | CL21: 9 | CM21: 5 | CN21: 4 | CO21: 4 | CP21: 1 | CQ21: 4 | CR21: 0 | CS21: 6 | CT21: 0 | DK21: 254 | DL21: 10 | DM21: 284 | DN21: 20 | DO21: 266 | DP21: 17 | DQ21: 291 | DR21: 33 | DS21: 297 | DT21: 44 | DU21: 303 | DV21: 49 | DW21: 317 | DX21: 48
A22: 126669 | B22: Colorado Christian University | C22: 318 | D22: 4 | E22: 188 | F22: 2 | G22: 59 | I22: 131 | K22: 209 | M22: 177 | N22: 2 | O22: 184 | P22: 11 | Q22: 160 | R22: 7 | S22: 1 | U22: 50 | W22: 42 | X22: 0 | Y22: 93 | Z22: 0 | AA22: 80 | AC22: 68 | AD22: 2 | AE22: 67 | AF22: 0 | AG22: 58 | AH22: 0 | AI22: 10 | AK22: 11 | AM22: 2 | AO22: 9 | AQ22: 7 | AS22: 12 | AU22: 13 | AW22: 6 | AX22: 1 | AY22: 3 | BA22: 2 | BC22: 1 | BE22: 2 | BG22: 10 | BI22: 7 | BK22: 8 | BL22: 1 | BM22: 7 | BN22: 0 | BW22: 4 | BY22: 6 | CA22: 38 | CC22: 61 | CW22: 1 | CY22: 0 | CZ22: 0 | DA22: 3 | DB22: 0 | DC22: 3 | DE22: 9 | DG22: 12 | DI22: 13 | DJ22: 2 | DK22: 462 | DL22: 4 | DM22: 471 | DN22: 5 | DO22: 156 | DP22: 0 | DQ22: 332 | DR22: 0 | DS22: 424 | DU22: 406 | DV22: 6 | DW22: 501 | DX22: 15
A23: 112075 | B23: Concordia University-Irvine | C23: 37 | E23: 53 | F23: 2 | G23: 74 | H23: 2 | I23: 69 | K23: 78 | M23: 121 | N23: 1 | O23: 99 | P23: 2 | Q23: 124 | S23: 2 | U23: 1 | Y23: 31 | AI23: 9 | AK23: 12 | AL23: 1 | AM23: 13 | AN23: 1 | AO23: 14 | AP23: 2 | AQ23: 17 | AS23: 17 | AU23: 9 | AW23: 7 | AY23: 10 | BC23: 12 | BD23: 1 | BE23: 10 | BG23: 6 | BI23: 17 | BJ23: 1 | BK23: 16 | BM23: 15 | BW23: 48 | BY23: 49 | CA23: 69 | CC23: 97 | CM23: 1 | CO23: 0 | CQ23: 0 | CS23: 0 | CU23: 16 | CW23: 16 | CX23: 1 | CY23: 10 | CZ23: 1 | DA23: 6 | DB23: 2 | DC23: 6 | DE23: 3 | DG23: 8 | DI23: 5 | DK23: 236 | DM23: 285 | DN23: 13 | DO23: 312 | DP23: 13 | DQ23: 299 | DR23: 5 | DS23: 352 | DU23: 429 | DV23: 7 | DW23: 506 | DX23: 3
A24: 210331 | B24: Corban University | C24: 45 | E24: 49 | G24: 44 | I24: 34 | K24: 50 | M24: 50 | O24: 30 | Q24: 42 | S24: 24 | U24: 23 | W24: 25 | Y24: 36 | AA24: 18 | AC24: 31 | AE24: 34 | AG24: 35 | AM24: 2 | AO24: 18 | AQ24: 13 | AS24: 8 | AU24: 16 | AW24: 14 | BC24: 5 | CY24: 0 | DK24: 173 | DM24: 186 | DO24: 152 | DQ24: 191 | DS24: 201 | DU24: 221 | DW24: 202
A25: 170037 | B25: Cornerstone University | C25: 160 | D25: 2 | E25: 175 | F25: 13 | G25: 193 | I25: 158 | K25: 200 | M25: 218 | O25: 214 | Q25: 208 | S25: 36 | U25: 78 | V25: 1 | W25: 66 | Y25: 74 | AA25: 60 | AC25: 43 | AE25: 38 | AG25: 37 | AI25: 30 | AJ25: 1 | AK25: 10 | AM25: 11 | AO25: 8 | AQ25: 7 | AS25: 5 | AU25: 5 | AW25: 2 | AY25: 2 | AZ25: 2 | BA25: 3 | BB25: 1 | BC25: 3 | BE25: 6 | BG25: 5 | BI25: 3 | BK25: 8 | BM25: 2 | CE25: 3 | CF25: 1 | CG25: 2 | CI25: 3 | CK25: 1 | CM25: 4 | CO25: 1 | DK25: 333 | DL25: 22 | DM25: 371 | DN25: 36 | DO25: 357 | DQ25: 366 | DS25: 386 | DU25: 377 | DW25: 461
A26: 139393 | B26: Covenant College | C26: 203 | E26: 238 | G26: 161 | I26: 168 | K26: 140 | L26: 1 | M26: 33 | N26: 0 | O26: 24 | P26: 0 | Q26: 17 | R26: 1 | S26: 17 | U26: 22 | W26: 39 | Y26: 45 | AA26: 59 | AC26: 41 | AD26: 0 | AE26: 41 | AF26: 0 | AG26: 25 | AI26: 17 | AK26: 17 | AL26: 2 | AM26: 24 | AN26: 0 | AO26: 16 | AP26: 0 | AQ26: 23 | AR26: 1 | AS26: 13 | AT26: 0 | AU26: 20 | AV26: 3 | AW26: 33 | AX26: 0 | AY26: 13 | BA26: 23 | BB26: 6 | BC26: 11 | BD26: 3 | BE26: 16 | BF26: 1 | BG26: 24 | BH26: 0 | BI26: 10 | BJ26: 0 | BK26: 13 | BL26: 0 | BM26: 14 | BN26: 1 | CE26: 13 | CG26: 15 | CH26: 4 | CI26: 11 | CJ26: 2 | CK26: 5 | CL26: 1 | CM26: 13 | CN26: 0 | CO26: 9 | CP26: 0 | CQ26: 9 | CR26: 4 | CS26: 9 | CT26: 0 | DK26: 355 | DM26: 402 | DN26: 20 | DO26: 341 | DP26: 9 | DQ26: 347 | DR26: 4 | DS26: 376 | DT26: 8 | DU26: 224 | DV26: 14 | DW26: 243 | DX26: 10
A27: 174862 | B27: Crown College | C27: 34 | E27: 20 | G27: 27 | H27: 1 | I27: 33 | J27: 1 | K27: 33 | L27: 1 | M27: 31 | N27: 0 | O27: 16 | P27: 0 | Q27: 23 | R27: 0 | S27: 29 | T27: 1 | U27: 40 | V27: 0 | W27: 38 | X27: 0 | Y27: 36 | Z27: 0 | AA27: 50 | AB27: 1 | AC27: 26 | AD27: 0 | AE27: 27 | AF27: 0 | AG27: 28 | AH27: 0 | AI27: 3 | AK27: 2 | AM27: 4 | AO27: 1 | AQ27: 1 | AR27: 0 | AS27: 1 | AT27: 0 | AU27: 2 | AV27: 0 | AW27: 3 | AX27: 1 | AY27: 2 | BA27: 4 | BC27: 0 | BE27: 0 | BG27: 0 | BI27: 2 | BK27: 2 | BM27: 2 | BU27: 8 | BW27: 28 | BY27: 28 | CA27: 28 | CC27: 25 | CU27: 7 | CV27: 26 | CW27: 1 | CX27: 0 | CY27: 2 | CZ27: 0 | DA27: 6 | DB27: 0 | DC27: 4 | DD27: 0 | DE27: 3 | DF27: 0 | DG27: 5 | DH27: 0 | DI27: 3 | DJ27: 0 | DK27: 143 | DL27: 31 | DM27: 119 | DN27: 0 | DO27: 191 | DP27: 43 | DQ27: 203 | DR27: 3 | DS27: 226 | DT27: 3 | DU27: 207 | DV27: 0 | DW27: 197 | DX27: 82
A28: 224226 | B28: Dallas Baptist University | C28: 348 | D28: 7 | E28: 309 | F28: 7 | G28: 282 | H28: 14 | I28: 260 | J28: 6 | K28: 269 | L28: 7 | M28: 194 | N28: 6 | O28: 205 | P28: 2 | Q28: 199 | R28: 5 | S28: 23 | U28: 31 | W28: 43 | Y28: 39 | Z28: 1 | AA28: 24 | AB28: 0 | AC28: 24 | AD28: 0 | AE28: 26 | AF28: 0 | AG28: 27 | AI28: 14 | AJ28: 2 | AK28: 18 | AL28: 1 | AM28: 11 | AO28: 21 | AP28: 0 | AQ28: 17 | AR28: 3 | AS28: 5 | AT28: 1 | AU28: 8 | AV28: 0 | AW28: 9 | AY28: 9 | AZ28: 2 | BA28: 4 | BB28: 2 | BC28: 11 | BD28: 2 | BE28: 9 | BF28: 1 | BG28: 11 | BH28: 1 | BI28: 12 | BJ28: 1 | BK28: 12 | BL28: 0 | BM28: 6 | BN28: 1 | CE28: 2 | CG28: 3 | CI28: 4 | CK28: 6 | CL28: 0 | CM28: 6 | CN28: 3 | CO28: 1 | CP28: 0 | CQ28: 1 | CR28: 2 | CS28: 3 | CT28: 0 | DK28: 779 | DL28: 23 | DM28: 777 | DN28: 38 | DO28: 771 | DP28: 38 | DQ28: 811 | DR28: 27 | DS28: 858 | DT28: 36 | DU28: 697 | DV28: 32 | DW28: 728 | DX28: 26
A29: 153250 | B29: Dordt College | C29: 61 | D29: 15 | E29: 49 | F29: 11 | G29: 34 | H29: 5 | I29: 60 | J29: 11 | K29: 54 | L29: 10 | M29: 39 | N29: 7 | O29: 24 | P29: 3 | Q29: 56 | R29: 7 | S29: 53 | T29: 8 | U29: 58 | V29: 10 | W29: 46 | X29: 2 | Y29: 32 | AA29: 55 | AB29: 9 | AC29: 53 | AD29: 4 | AE29: 63 | AF29: 12 | AG29: 52 | AH29: 12 | AI29: 12 | AJ29: 1 | AK29: 8 | AM29: 10 | AO29: 13 | AQ29: 11 | AR29: 4 | AS29: 4 | AT29: 4 | AU29: 4 | AV29: 4 | AW29: 1 | AX29: 3 | AY29: 9 | BA29: 6 | BC29: 5 | BD29: 1 | BE29: 8 | BG29: 3 | BH29: 2 | BI29: 5 | BJ29: 2 | BK29: 8 | BL29: 8 | BM29: 1 | BN29: 2 | BS29: 0 | BU29: 10 | BW29: 10 | BY29: 19 | CA29: 27 | CC29: 18 | CE29: 2 | CF29: 1 | CG29: 2 | CH29: 1 | CI29: 1 | CK29: 2 | CM29: 0 | CO29: 1 | CQ29: 1 | CS29: 0 | CU29: 6 | CV29: 1 | CW29: 11 | CX29: 1 | CY29: 2 | CZ29: 2 | DA29: 10 | DB29: 1 | DC29: 6 | DE29: 0 | DG29: 0 | DI29: 1 | DK29: 291 | DL29: 53 | DM29: 257 | DN29: 38 | DO29: 205 | DP29: 28 | DQ29: 263 | DR29: 25 | DS29: 265 | DT29: 43 | DU29: 284 | DV29: 32 | DW29: 299 | DX29: 40
A30: 224527 | B30: East Texas Baptist University | C30: 38 | E30: 32 | G30: 24 | I30: 36 | K30: 26 | M30: 23 | N30: 1 | O30: 27 | Q30: 26 | S30: 75 | U30: 42 | W30: 56 | Y30: 58 | AA30: 40 | AC30: 47 | AE30: 34 | AG30: 38 | AI30: 15 | AJ30: 3 | AK30: 9 | AM30: 12 | AO30: 11 | AP30: 0 | AQ30: 6 | AR30: 1 | AS30: 4 | AT30: 1 | AU30: 7 | AW30: 7 | AY30: 1 | BA30: 0 | BB30: 1 | BC30: 4 | BE30: 3 | BF30: 1 | BG30: 5 | BH30: 1 | BI30: 2 | BK30: 0 | BM30: 0 | BO30: 17 | BQ30: 22 | BS30: 19 | BU30: 27 | BW30: 12 | BY30: 25 | CA30: 13 | CC30: 12 | CE30: 11 | CF30: 1 | CG30: 11 | CH30: 3 | CI30: 6 | CJ30: 1 | CK30: 5 | CL30: 0 | CM30: 6 | CO30: 3 | CQ30: 2 | CS30: 0 | CT30: 1 | CU30: 5 | CW30: 5 | CY30: 1 | DA30: 0 | DK30: 226 | DL30: 4 | DM30: 207 | DN30: 8 | DO30: 221 | DP30: 1 | DQ30: 258 | DR30: 3 | DS30: 195 | DT30: 3 | DU30: 207 | DV30: 9 | DW30: 175 | DX30: 3
A31: 232043 | B31: Eastern Mennonite University | C31: 76 | D31: 2 | E31: 65 | F31: 2 | G31: 79 | H31: 1 | I31: 59 | J31: 3 | K31: 55 | L31: 5 | M31: 43 | N31: 1 | O31: 40 | P31: 3 | Q31: 31 | R31: 1 | S31: 4 | U31: 2 | W31: 3 | Y31: 2 | AA31: 2 | AC31: 7 | AE31: 7 | AG31: 1 | AI31: 8 | AK31: 5 | AL31: 2 | AM31: 5 | AN31: 1 | AO31: 6 | AP31: 0 | AQ31: 5 | AR31: 0 | AS31: 3 | AT31: 0 | AU31: 2 | AV31: 0 | AW31: 9 | AX31: 3 | AY31: 2 | AZ31: 1 | BA31: 4 | BB31: 1 | BC31: 9 | BD31: 1 | BE31: 4 | BF31: 0 | BG31: 4 | BH31: 1 | BI31: 7 | BJ31: 3 | BK31: 6 | BL31: 1 | BM31: 6 | BN31: 0 | BO31: 33 | BQ31: 42 | BR31: 0 | BS31: 51 | BT31: 1 | BU31: 79 | BV31: 0 | BW31: 88 | BX31: 0 | BY31: 84 | BZ31: 0 | CA31: 119 | CB31: 0 | CC31: 134 | CD31: 0 | CE31: 2 | CF31: 1 | CG31: 0 | CH31: 3 | CI31: 1 | CJ31: 0 | CK31: 0 | CL31: 1 | CM31: 0 | CN31: 0 | CO31: 2 | CP31: 0 | CQ31: 2 | CR31: 0 | CS31: 1 | CT31: 0 | CU31: 4 | CV31: 1 | CW31: 4 | CX31: 0 | DK31: 269 | DL31: 18 | DM31: 264 | DN31: 26 | DO31: 303 | DP31: 26 | DQ31: 279 | DR31: 12 | DS31: 265 | DT31: 25 | DU31: 279 | DV31: 22 | DW31: 294 | DX31: 19
A32: 165644 | B32: Eastern Nazarene College | C32: 118 | E32: 108 | F32: 1 | G32: 102 | H32: 0 | I32: 24 | J32: 0 | K32: 71 | L32: 0 | M32: 81 | N32: 1 | O32: 65 | P32: 1 | Q32: 84 | R32: 3 | S32: 10 | T32: 5 | U32: 10 | V32: 3 | W32: 21 | X32: 0 | Y32: 31 | Z32: 0 | AA32: 23 | AB32: 0 | AC32: 18 | AD32: 3 | AE32: 16 | AF32: 1 | AG32: 49 | AH32: 6 | AI32: 5 | AK32: 6 | AL32: 1 | AM32: 14 | AN32: 0 | AO32: 7 | AP32: 0 | AQ32: 4 | AR32: 0 | AS32: 2 | AT32: 0 | AU32: 2 | AV32: 3 | AW32: 9 | AX32: 0 | AY32: 6 | BA32: 7 | BB32: 1 | BC32: 7 | BD32: 0 | BE32: 5 | BF32: 0 | BG32: 3 | BH32: 0 | BI32: 1 | BJ32: 0 | BK32: 3 | BL32: 0 | BM32: 4 | BN32: 0 | CE32: 2 | CG32: 11 | CI32: 9 | CK32: 5 | CM32: 9 | CO32: 6 | CQ32: 9 | CR32: 1 | CS32: 8 | CT32: 1 | DK32: 200 | DL32: 14 | DM32: 214 | DN32: 18 | DO32: 240 | DP32: 0 | DQ32: 155 | DR32: 0 | DS32: 195 | DT32: 0 | DU32: 179 | DV32: 18 | DW32: 234 | DX32: 26
A33: 212133 | B33: Eastern University | C33: 222 | E33: 277 | G33: 206 | I33: 140 | K33: 164 | M33: 136 | O33: 151 | Q33: 130 | S33: 48 | U33: 51 | W33: 50 | Y33: 63 | AA33: 74 | AC33: 90 | AE33: 131 | AG33: 98 | AI33: 26 | AK33: 23 | AM33: 25 | AO33: 23 | AQ33: 16 | AS33: 17 | AU33: 22 | AW33: 18 | AY33: 13 | BA33: 7 | BC33: 8 | BE33: 13 | BG33: 12 | BI33: 13 | BK33: 8 | BM33: 6 | BO33: 27 | BQ33: 33 | BS33: 55 | BU33: 81 | BW33: 56 | BY33: 62 | CA33: 98 | CC33: 56 | CE33: 1 | CG33: 4 | CI33: 4 | CK33: 4 | CM33: 4 | CO33: 6 | CQ33: 12 | CS33: 5 | CU33: 7 | CW33: 11 | CY33: 6 | DA33: 11 | DC33: 5 | DE33: 4 | DG33: 8 | DI33: 5 | DK33: 477 | DM33: 632 | DO33: 539 | DQ33: 537 | DS33: 517 | DU33: 522 | DW33: 497
A34: 139630 | B34: Emmanuel College | C34: 20 | E34: 20 | G34: 16 | I34: 20 | K34: 16 | M34: 17 | O34: 14 | Q34: 11 | S34: 33 | U34: 35 | W34: 40 | Y34: 22 | AA34: 43 | AC34: 34 | AE34: 18 | AG34: 17 | AI34: 1 | AK34: 2 | AM34: 2 | AO34: 4 | AQ34: 2 | AS34: 4 | AU34: 1 | AW34: 3 | AY34: 2 | BA34: 0 | BC34: 1 | BE34: 5 | BG34: 2 | BI34: 1 | BK34: 3 | BM34: 4 | CE34: 20 | DK34: 132 | DM34: 115 | DO34: 115 | DQ34: 105 | DS34: 117 | DU34: 121 | DW34: 111
A35: 217998 | B35: Erskine College | C35: 24 | D35: 1 | E35: 33 | G35: 24 | I35: 20 | K35: 27 | L35: 1 | M35: 18 | N35: 1 | O35: 15 | P35: 2 | Q35: 20 | R35: 2 | S35: 21 | U35: 20 | W35: 12 | X35: 1 | Y35: 16 | AA35: 17 | AB35: 2 | AC35: 8 | AD35: 1 | AE35: 16 | AF35: 2 | AG35: 9 | AH35: 0 | AI35: 4 | AJ35: 1 | AK35: 1 | AM35: 2 | AO35: 9 | AP35: 2 | AQ35: 4 | AR35: 2 | AS35: 1 | AT35: 2 | AU35: 7 | AV35: 1 | AW35: 3 | AX35: 0 | AY35: 3 | AZ35: 2 | BA35: 1 | BC35: 6 | BD35: 1 | BE35: 5 | BF35: 1 | BG35: 8 | BH35: 1 | BI35: 3 | BJ35: 1 | BK35: 8 | BL35: 3 | BM35: 4 | BN35: 0 | CE35: 5 | CF35: 2 | CG35: 7 | CH35: 4 | CI35: 9 | CJ35: 5 | CK35: 10 | CL35: 2 | CM35: 4 | CN35: 1 | CO35: 2 | CP35: 1 | CQ35: 2 | CR35: 1 | CS35: 5 | CT35: 0 | DK35: 115 | DL35: 15 | DM35: 99 | DN35: 5 | DO35: 104 | DP35: 15 | DQ35: 117 | DR35: 18 | DS35: 130 | DT35: 11 | DU35: 96 | DV35: 16 | DW35: 104 | DX35: 8
A36: 177339 | B36: Evangel University | C36: 99 | E36: 28 | G36: 52 | I36: 57 | K36: 78 | M36: 85 | N36: 10 | O36: 81 | P36: 10 | Q36: 68 | R36: 4 | S36: 71 | U36: 84 | W36: 71 | Y36: 67 | AA36: 47 | AC36: 50 | AD36: 6 | AE36: 58 | AF36: 9 | AG36: 63 | AH36: 13 | AI36: 7 | AK36: 0 | AM36: 7 | AO36: 6 | AQ36: 4 | AS36: 6 | AT36: 2 | AU36: 7 | AV36: 2 | AW36: 5 | AX36: 1 | AY36: 6 | BA36: 9 | BC36: 5 | BE36: 8 | BG36: 4 | BI36: 3 | BJ36: 2 | BK36: 8 | BL36: 0 | BM36: 3 | BN36: 0 | BW36: 16 | BY36: 6 | CA36: 9 | CC36: 9 | CE36: 33 | CG36: 33 | CI36: 28 | CK36: 38 | CM36: 14 | CO36: 17 | CQ36: 21 | CR36: 2 | CS36: 18 | CT36: 1 | DK36: 378 | DM36: 286 | DO36: 352 | DQ36: 324 | DS36: 346 | DU36: 373 | DV36: 35 | DW36: 386 | DX36: 30
A37: 101189 | B37: Faulkner University | C37: 447 | E37: 515 | G37: 452 | I37: 448 | K37: 518 | M37: 362 | O37: 380 | Q37: 341 | S37: 9 | U37: 7 | W37: 14 | Y37: 23 | AA37: 13 | AC37: 16 | AE37: 18 | AG37: 18 | AI37: 4 | AK37: 2 | AM37: 0 | AO37: 5 | AQ37: 4 | AS37: 10 | AU37: 3 | AW37: 7 | BA37: 3 | BC37: 5 | BE37: 2 | BG37: 3 | BI37: 4 | BK37: 4 | BM37: 1 | DK37: 582 | DM37: 659 | DO37: 622 | DQ37: 591 | DS37: 649 | DU37: 570 | DV37: 5 | DW37: 508 | DX37: 2
A38: 114813 | B38: Fresno Pacific University | C38: 112 | D38: 3 | E38: 99 | F38: 11 | G38: 98 | H38: 3 | I38: 155 | J38: 6 | K38: 142 | L38: 7 | M38: 192 | N38: 4 | O38: 224 | Q38: 121 | S38: 100 | T38: 1 | U38: 118 | V38: 0 | W38: 140 | X38: 0 | Y38: 140 | Z38: 3 | AA38: 115 | AB38: 2 | AC38: 184 | AD38: 1 | AE38: 142 | AG38: 16 | AI38: 9 | AK38: 7 | AL38: 1 | AM38: 11 | AN38: 3 | AO38: 5 | AP38: 0 | AQ38: 10 | AR38: 0 | AS38: 4 | AT38: 1 | AU38: 1 | AW38: 0 | AY38: 2 | AZ38: 1 | BA38: 4 | BB38: 0 | BC38: 5 | BD38: 1 | BE38: 3 | BF38: 2 | BG38: 8 | BH38: 2 | BI38: 8 | BJ38: 1 | BK38: 17 | BM38: 6 | BY38: 14 | CA38: 33 | CC38: 31 | CG38: 0 | CH38: 0 | CI38: 3 | CJ38: 2 | CK38: 3 | CL38: 1 | CM38: 1 | CN38: 0 | CO38: 0 | CP38: 0 | CQ38: 1 | CS38: 1 | DK38: 283 | DL38: 11 | DM38: 308 | DN38: 23 | DO38: 363 | DP38: 23 | DQ38: 448 | DR38: 19 | DS38: 491 | DT38: 21 | DU38: 747 | DV38: 24 | DW38: 595
A39: 212656 | B39: Geneva College | C39: 188 | D39: 3 | E39: 139 | F39: 1 | G39: 143 | H39: 1 | I39: 139 | J39: 2 | K39: 129 | L39: 5 | M39: 104 | N39: 4 | O39: 106 | P39: 8 | Q39: 109 | R39: 5 | S39: 52 | U39: 90 | W39: 38 | X39: 9 | Y39: 37 | Z39: 18 | AA39: 32 | AB39: 17 | AC39: 42 | AD39: 23 | AE39: 40 | AF39: 21 | AG39: 44 | AI39: 12 | AJ39: 1 | AK39: 14 | AL39: 3 | AM39: 16 | AN39: 1 | AO39: 17 | AP39: 0 | AQ39: 13 | AR39: 0 | AS39: 15 | AT39: 0 | AU39: 16 | AV39: 2 | AW39: 19 | AX39: 0 | AY39: 3 | BA39: 6 | BC39: 11 | BD39: 2 | BE39: 8 | BF39: 0 | BG39: 11 | BH39: 0 | BI39: 12 | BJ39: 1 | BK39: 9 | BL39: 0 | BM39: 13 | BN39: 1 | CE39: 4 | CF39: 1 | CG39: 5 | CH39: 3 | CI39: 3 | CJ39: 0 | CK39: 1 | CL39: 0 | CM39: 1 | CN39: 1 | CO39: 1 | CP39: 0 | CQ39: 3 | CR39: 0 | CS39: 1 | CT39: 2 | DK39: 454 | DL39: 32 | DM39: 424 | DN39: 8 | DO39: 381 | DP39: 23 | DQ39: 424 | DR39: 28 | DS39: 383 | DT39: 28 | DU39: 439 | DV39: 39 | DW39: 443 | DX39: 16
A40: 165936 | B40: Gordon College | C40: 37 | D40: 10 | E40: 35 | F40: 11 | G40: 30 | H40: 9 | I40: 26 | J40: 13 | K40: 39 | L40: 14 | M40: 39 | N40: 12 | O40: 28 | P40: 8 | Q40: 34 | R40: 16 | S40: 6 | T40: 24 | U40: 13 | V40: 31 | W40: 4 | X40: 38 | Y40: 6 | Z40: 30 | AA40: 5 | AB40: 34 | AC40: 8 | AD40: 29 | AE40: 24 | AF40: 21 | AG40: 20 | AH40: 5 | AI40: 44 | AK40: 48 | AL40: 6 | AM40: 45 | AN40: 0 | AO40: 36 | AP40: 8 | AQ40: 43 | AR40: 1 | AS40: 20 | AT40: 1 | AU40: 25 | AV40: 3 | AW40: 20 | AX40: 5 | AY40: 28 | AZ40: 1 | BA40: 27 | BB40: 2 | BC40: 19 | BD40: 14 | BE40: 18 | BF40: 0 | BG40: 27 | BH40: 3 | BI40: 24 | BJ40: 3 | BK40: 13 | BL40: 7 | BM40: 9 | BN40: 4 | CE40: 24 | CF40: 6 | CG40: 28 | CH40: 9 | CI40: 30 | CJ40: 14 | CK40: 22 | CL40: 10 | CM40: 21 | CN40: 17 | CO40: 19 | CP40: 4 | CQ40: 10 | CR40: 12 | CS40: 15 | CT40: 8 | DA40: 1 | DB40: 0 | DK40: 334 | DL40: 73 | DM40: 388 | DN40: 95 | DO40: 374 | DP40: 113 | DQ40: 325 | DR40: 83 | DS40: 346 | DT40: 105 | DU40: 339 | DV40: 82 | DW40: 305 | DX40: 73
...

Sheet simplified
A1: UnitID | B1: Institution Name | C1: TOTAL (2004) | D1: Business (2004) | E1: Education (2004) | F1: Nursing (2004) | G1: English (2004) | H1: History (2004) | I1: Philosophy (2004) | J1: HUMANITIES (2004) | K1: TOTAL (2006) | L1: Business (2006) | M1: Education (2006) | N1: Nursing (2006) | O1: English (2006) | P1: History (2006) | Q1: Philosophy (2006) | R1: HUMANITIES (2006) | S1: TOTAL (2008) | T1: Business (2008) | U1: Education (2008) | V1: Nursing (2008) | W1: English (2008) | X1: History (2008) | Y1: Philosophy (2008) | Z1: HUMANITIES (2008) | AA1: TOTAL (2010) | AB1: Business (2010) | AC1: Education (2010) | AD1: Nursing (2010) | AE1: English (2010) | AF1: History (2010) | AG1: Philosophy (2010) | AH1: HUMANITIES (2010) | AI1: TOTAL (2012) | AJ1: Business (2012) | AK1: Education (2012) | AL1: Nursing (2012) | AM1: English (2012) | AN1: History (2012) | AO1: Philosophy (2012) | AP1: HUMANITIES (2012) | AQ1: TOTAL (2014) | AR1: Business (2014) | AS1: Education (2014) | AT1: Nursing (2014) | AU1: English (2014) | AV1: History (2014) | AW1: Philosophy (2014) | AX1: HUMANITIES (2014)
A2: a 1 | B2: a 2
A3: 222178 | B3: Abilene Christian University | C3: 871 | D3: 215 | E3: 105 | F3: 14 | G3: 47 | H3: 10 | I3: 0 | J3: =G3+H3+I3 -> 57 | K3: 825 | L3: 190 | M3: 99 | N3: 24 | O3: 49 | P3: 16 | Q3: 0 | R3: =O3+P3+Q3 -> 65 | S3: 892 | T3: 231 | U3: 92 | V3: 25 | W3: 29 | X3: 6 | Y3: 0 | Z3: =W3+X3+Y3 -> 35 | AA3: 836 | AB3: 181 | AC3: 86 | AD3: 26 | AE3: 29 | AF3: 8 | AG3: 0 | AH3: =AE3+AF3+AG3 -> 37 | AI3: 832 | AJ3: 194 | AK3: 68 | AL3: 27 | AM3: 24 | AN3: 11 | AO3: 0 | AP3: =AM3+AN3+AO3 -> 35 | AQ3: 822 | AR3: 210 | AS3: 62 | AT3: 30 | AU3: 20 | AV3: 7 | AW3: 0 | AX3: =AU3+AV3+AW3 -> 27
A4: 150066 | B4: Anderson University, IN | C4: 428 | D4: 80 | E4: 74 | F4: 33 | G4: 9 | H4: 13 | I4: 16 | J4: =G4+H4+I4 -> 38 | K4: 485 | L4: 97 | M4: 84 | N4: 27 | O4: 7 | P4: 19 | Q4: 18 | R4: =O4+P4+Q4 -> 44 | S4: 535 | T4: 116 | U4: 74 | V4: 35 | W4: 12 | X4: 16 | Y4: 14 | Z4: =W4+X4+Y4 -> 42 | AA4: 449 | AB4: 95 | AC4: 63 | AD4: 33 | AE4: 11 | AF4: 25 | AG4: 15 | AH4: =AE4+AF4+AG4 -> 51 | AI4: 476 | AJ4: 100 | AK4: 59 | AL4: 31 | AM4: 6 | AN4: 22 | AO4: 8 | AP4: =AM4+AN4+AO4 -> 36 | AQ4: 418 | AR4: 83 | AS4: 49 | AT4: 25 | AU4: 8 | AV4: 13 | AW4: 4 | AX4: =AU4+AV4+AW4 -> 25
A5: 156213 | B5: Asbury University | C5: 267 | D5: 18 | E5: 20 | F5: 0 | G5: 34 | H5: 17 | I5: 6 | J5: =G5+H5+I5 -> 57 | K5: 287 | L5: 23 | M5: 29 | N5: 0 | O5: 27 | P5: 10 | Q5: 8 | R5: =O5+P5+Q5 -> 45 | S5: 242 | T5: 26 | U5: 23 | V5: 0 | W5: 21 | X5: 14 | Y5: 4 | Z5: =W5+X5+Y5 -> 39 | AA5: 316 | AB5: 31 | AC5: 53 | AD5: 0 | AE5: 9 | AF5: 16 | AG5: 3 | AH5: =AE5+AF5+AG5 -> 28 | AI5: 263 | AJ5: 17 | AK5: 35 | AL5: 0 | AM5: 20 | AN5: 10 | AO5: 3 | AP5: =AM5+AN5+AO5 -> 33 | AQ5: 302 | AR5: 35 | AS5: 52 | AT5: 0 | AU5: 15 | AV5: 4 | AW5: 0 | AX5: =AU5+AV5+AW5 -> 19
A6: 109785 | B6: Azusa Pacific University | C6: 1107 | D6: 244 | E6: 18 | F6: 60 | G6: 28 | H6: 10 | I6: 3 | J6: =G6+H6+I6 -> 41 | K6: 1181 | L6: 258 | M6: 24 | N6: 91 | O6: 30 | P6: 0 | Q6: 7 | R6: =O6+P6+Q6 -> 37 | S6: 1306 | T6: 281 | U6: 25 | V6: 125 | W6: 33 | X6: 20 | Y6: 14 | Z6: =W6+X6+Y6 -> 67 | AA6: 1186 | AB6: 254 | AC6: 24 | AD6: 130 | AE6: 47 | AF6: 19 | AG6: 2 | AH6: =AE6+AF6+AG6 -> 68 | AI6: 1437 | AJ6: 302 | AK6: 34 | AL6: 275 | AM6: 49 | AN6: 22 | AO6: 11 | AP6: =AM6+AN6+AO6 -> 82 | AQ6: 1764 | AR6: 372 | AS6: 69 | AT6: 360 | AU6: 61 | AV6: 27 | AW6: 15 | AX6: =AU6+AV6+AW6 -> 103
A7: 175421 | B7: Belhaven University | C7: 391 | D7: 223 | E7: 24 | F7: 0 | G7: 12 | H7: 12 | I7: 0 | J7: =G7+H7+I7 -> 24 | K7: 378 | L7: 224 | M7: 19 | N7: 0 | O7: 13 | P7: 12 | Q7: 3 | R7: =O7+P7+Q7 -> 28 | S7: 412 | T7: 192 | U7: 18 | V7: 0 | W7: 5 | X7: 11 | Y7: 2 | Z7: =W7+X7+Y7 -> 18 | AA7: 472 | AB7: 216 | AC7: 10 | AD7: 0 | AE7: 13 | AF7: 6 | AG7: 2 | AH7: =AE7+AF7+AG7 -> 21 | AI7: 462 | AJ7: 171 | AK7: 30 | AL7: 0 | AM7: 5 | AN7: 12 | AO7: 1 | AP7: =AM7+AN7+AO7 -> 18 | AQ7: 498 | AR7: 159 | AS7: 9 | AT7: 0 | AU7: 15 | AV7: 4 | AW7: 1 | AX7: =AU7+AV7+AW7 -> 20
A8: 150145 | B8: Bethel College, IN | C8: 305 | D8: 100 | E8: 37 | F8: 28 | G8: 4 | H8: 3 | I8: 8 | J8: =G8+H8+I8 -> 15 | K8: 329 | L8: 95 | M8: 50 | N8: 18 | O8: 5 | P8: 8 | Q8: 14 | R8: =O8+P8+Q8 -> 27 | S8: 348 | T8: 131 | U8: 37 | V8: 45 | W8: 4 | X8: 1 | Y8: 10 | Z8: =W8+X8+Y8 -> 15 | AA8: 419 | AB8: 155 | AC8: 50 | AD8: 62 | AE8: 4 | AF8: 3 | AG8: 10 | AH8: =AE8+AF8+AG8 -> 17 | AI8: 465 | AJ8: 184 | AK8: 54 | AL8: 54 | AM8: 5 | AN8: 1 | AO8: 12 | AP8: =AM8+AN8+AO8 -> 18 | AQ8: 450 | AR8: 133 | AS8: 35 | AT8: 69 | AU8: 6 | AV8: 3 | AW8: 4 | AX8: =AU8+AV8+AW8 -> 13
A9: 173160 | B9: Bethel University, MN | C9: 730 | D9: 176 | E9: 98 | F9: 85 | G9: 21 | H9: 21 | I9: 16 | J9: =G9+H9+I9 -> 58 | K9: 803 | L9: 191 | M9: 113 | N9: 107 | O9: 19 | P9: 18 | Q9: 11 | R9: =O9+P9+Q9 -> 48 | S9: 830 | T9: 211 | U9: 105 | V9: 121 | W9: 26 | X9: 25 | Y9: 13 | Z9: =W9+X9+Y9 -> 64 | AA9: 918 | AB9: 199 | AC9: 92 | AD9: 163 | AE9: 16 | AF9: 16 | AG9: 18 | AH9: =AE9+AF9+AG9 -> 50 | AI9: 933 | AJ9: 208 | AK9: 85 | AL9: 182 | AM9: 17 | AN9: 15 | AO9: 12 | AP9: =AM9+AN9+AO9 -> 44 | AQ9: 910 | AR9: 195 | AS9: 89 | AT9: 184 | AU9: 13 | AV9: 11 | AW9: 3 | AX9: =AU9+AV9+AW9 -> 27
A10: 110097 | B10: Biola University | C10: 690 | D10: 136 | E10: 61 | F10: 32 | G10: 29 | H10: 11 | I10: 12 | J10: =G10+H10+I10 -> 52 | K10: 778 | L10: 204 | M10: 67 | N10: 26 | O10: 22 | P10: 12 | Q10: 9 | R10: =O10+P10+Q10 -> 43 | S10: 896 | T10: 237 | U10: 48 | V10: 32 | W10: 42 | X10: 10 | Y10: 10 | Z10: =W10+X10+Y10 -> 62 | AA10: 913 | AB10: 236 | AC10: 44 | AD10: 32 | AE10: 39 | AF10: 18 | AG10: 15 | AH10: =AE10+AF10+AG10 -> 72 | AI10: 897 | AJ10: 163 | AK10: 71 | AL10: 37 | AM10: 31 | AN10: 19 | AO10: 8 | AP10: =AM10+AN10+AO10 -> 58 | AQ10: 932 | AR10: 108 | AS10: 51 | AT10: 39 | AU10: 41 | AV10: 13 | AW10: 14 | AX10: =AU10+AV10+AW10 -> 68
A11: 201371 | B11: Bluffton University | C11: 250 | D11: 88 | E11: 56 | F11: 0 | G11: 5 | H11: 4 | I11: 2 | J11: =G11+H11+I11 -> 11 | K11: 263 | L11: 71 | M11: 65 | N11: 0 | O11: 7 | P11: 3 | Q11: 2 | R11: =O11+P11+Q11 -> 12 | S11: 274 | T11: 83 | U11: 59 | V11: 0 | W11: 8 | X11: 7 | Y11: 2 | Z11: =W11+X11+Y11 -> 17 | AA11: 240 | AB11: 95 | AC11: 41 | AD11: 0 | AE11: 8 | AF11: 14 | AG11: 3 | AH11: =AE11+AF11+AG11 -> 25 | AI11: 272 | AJ11: 100 | AK11: 47 | AL11: 0 | AM11: 14 | AN11: 9 | AO11: 4 | AP11: =AM11+AN11+AO11 -> 27 | AQ11: 209 | AR11: 82 | AS11: 33 | AT11: 0 | AU11: 6 | AV11: 5 | AW11: 0 | AX11: =AU11+AV11+AW11 -> 11
A12: 219790 | B12: Bryan College-Dayton | C12: 128 | D12: 33 | E12: 22 | F12: 0 | G12: 6 | H12: 8 | I12: 0 | J12: =G12+H12+I12 -> 14 | K12: 176 | L12: 72 | M12: 19 | N12: 0 | O12: 6 | P12: 8 | Q12: 0 | R12: =O12+P12+Q12 -> 14 | S12: 248 | T12: 153 | U12: 15 | V12: 0 | W12: 7 | X12: 2 | Y12: 2 | Z12: =W12+X12+Y12 -> 11 | AA12: 305 | AB12: 185 | AC12: 20 | AD12: 0 | AE12: 9 | AF12: 5 | AG12: 2 | AH12: =AE12+AF12+AG12 -> 16 | AI12: 309 | AJ12: 167 | AK12: 25 | AL12: 0 | AM12: 4 | AN12: 6 | AO12: 2 | AP12: =AM12+AN12+AO12 -> 12 | AQ12: 304 | AR12: 146 | AS12: 34 | AT12: 0 | AU12: 17 | AV12: 5 | AW12: 2 | AX12: =AU12+AV12+AW12 -> 24
A13: 110361 | B13: California Baptist University | C13: 430 | D13: 60 | E13: 0 | F13: 0 | G13: 23 | H13: 15 | I13: 4 | J13: =G13+H13+I13 -> 42 | K13: 595 | L13: 77 | M13: 0 | N13: 0 | O13: 27 | P13: 23 | Q13: 17 | R13: =O13+P13+Q13 -> 67 | S13: 648 | T13: 113 | U13: 0 | V13: 3 | W13: 33 | X13: 22 | Y13: 29 | Z13: =W13+X13+Y13 -> 84 | AA13: 739 | AB13: 122 | AC13: 20 | AD13: 45 | AE13: 36 | AF13: 25 | AG13: 31 | AH13: =AE13+AF13+AG13 -> 92 | AI13: 850 | AJ13: 113 | AK13: 30 | AL13: 65 | AM13: 27 | AN13: 16 | AO13: 33 | AP13: =AM13+AN13+AO13 -> 76 | AQ13: 1057 | AR13: 129 | AS13: 48 | AT13: 104 | AU13: 30 | AV13: 17 | AW13: 35 | AX13: =AU13+AV13+AW13 -> 82
A14: 169080 | B14: Calvin College | C14: 952 | D14: 126 | E14: 81 | F14: 51 | G14: 64 | H14: 28 | I14: 38 | J14: =G14+H14+I14 -> 130 | K14: 1030 | L14: 118 | M14: 86 | N14: 57 | O14: 43 | P14: 53 | Q14: 39 | R14: =O14+P14+Q14 -> 135 | S14: 927 | T14: 131 | U14: 67 | V14: 61 | W14: 39 | X14: 28 | Y14: 39 | Z14: =W14+X14+Y14 -> 106 | AA14: 1038 | AB14: 144 | AC14: 107 | AD14: 61 | AE14: 44 | AF14: 23 | AG14: 36 | AH14: =AE14+AF14+AG14 -> 103 | AI14: 905 | AJ14: 118 | AK14: 109 | AL14: 60 | AM14: 31 | AN14: 16 | AO14: 36 | AP14: =AM14+AN14+AO14 -> 83 | AQ14: 1000 | AR14: 124 | AS14: 130 | AT14: 65 | AU14: 35 | AV14: 14 | AW14: 39 | AX14: =AU14+AV14+AW14 -> 88
... A113: 101189 | B113: Faulkner University (2014) | C113: 659 | D113: 515 | E113: 7 | F113: 0 | G113: 2 | H113: 3 | I113: 0 | J113: =G113+H113+I113 -> 5 | K113: 622 | L113: 452 | M113: 14 | N113: 0 | O113: 0 | P113: 5 | Q113: 0 | R113: =O113+P113+Q113 -> 5 | S113: 591 | T113: 448 | U113: 23 | V113: 0 | W113: 5 | X113: 2 | Y113: 0 | Z113: =W113+X113+Y113 -> 7 | AA113: 649 | AB113: 518 | AC113: 13 | AD113: 0 | AE113: 4 | AF113: 3 | AG113: 0 | AH113: =AE113+AF113+AG113 -> 7 | AI113: 575 | AJ113: 362 | AK113: 16 | AL113: 0 | AM113: 10 | AN113: 4 | AO113: 0 | AP113: =AM113+AN113+AO113 -> 14 | AQ113: 510 | AR113: 341 | AS113: 18 | AT113: 0 | AU113: 7 | AV113: 1 | AW113: 0 | AX113: =AU113+AV113+AW113 -> 8
B114: TOTALS | C114: =SUM(C3:C100) -> 39473 | D114: =SUM(D3:D100) -> 11643 | E114: =SUM(E3:E100) -> 4718 | F114: =SUM(F3:F100) -> 1599 | G114: =SUM(G3:G100) -> 1264 | H114: =SUM(H3:H100) -> 746 | I114: =SUM(I3:I100) -> 935 | J114: =SUM(J3:J100) -> 2945 | K114: =SUM(K3:K101) -> 40085 | L114: =SUM(L3:L101) -> 11079 | M114: =SUM(M3:M101) -> 4599 | N114: =SUM(N3:N101) -> 2200 | O114: =SUM(O3:O101) -> 1264 | P114: =SUM(P3:P101) -> 837 | Q114: =SUM(Q3:Q101) -> 898 | R114: =SUM(R3:R101) -> 2999 | S114: =SUM(S3:S105) -> 43601 | T114: =SUM(T3:T105) -> 12116 | U114: =SUM(U3:U105) -> 4723 | V114: =SUM(V3:V105) -> 3233 | W114: =SUM(W3:W105) -> 1280 | X114: =SUM(X3:X105) -> 826 | Y114: =SUM(Y3:Y105) -> 795 | Z114: =SUM(Z3:Z105) -> 2901 | ... AH114: =SUM(AH3:AH105) -> 2949 | AI114: =SUM(AI3:AI111) -> 47015 | AJ114: =SUM(AJ3:AJ111) -> 11538 | AK114: =SUM(AK3:AK111) -> 5106 | AL114: =SUM(AL3:AL111) -> 4373 | AM114: =SUM(AM3:AM111) -> 1260 | AN114: =SUM(AN3:AN111) -> 884 | AO114: =SUM(AO3:AO111) -> 705 | AP114: =SUM(AP3:AP111) -> 2849 | AQ114: =SUM(AQ3:AQ113) -> 49986 | AR114: =SUM(AR3:AR113) -> 11398 | AS114: =SUM(AS3:AS113) -> 4711 | AT114: =SUM(AT3:AT113) -> 5542 | AU114: =SUM(AU3:AU113) -> 1318 | AV114: =SUM(AV3:AV113) -> 747 | AW114: =SUM(AW3:AW113) -> 677 | AX114: =SUM(AX3:AX113) -> 2742
B115: As % | D115: =D114/39473 -> 0.29496111 | E115: =E114/39473 -> 0.11952474 | F115: =F114/39473 -> 0.040508702 | G115: =G114/39473 -> 0.032021888 | H115: =H114/39473 -> 0.018898994 | I115: =I114/39473 -> 0.023687077 | J115: =J114/39473 -> 0.07460796 | L115: =L114/40085 -> 0.27638768 | M115: =M114/40085 -> 0.1147312 | N115: =N114/40085 -> 0.054883373 | O115: =O114/40085 -> 0.031532992 | P115: =P114/40085 -> 0.020880629 | Q115: =Q114/40085 -> 0.022402395 | R115: =R114/40085 -> 0.074816016 | T115: =T114/43601 -> 0.27788353 | U115: =U114/43601 -> 0.1083232 | V115: =V114/43601 -> 0.074149675 | W115: =W114/43601 -> 0.029357125 | X115: =X114/43601 -> 0.01894452 | Y115: =Y114/43601 -> 0.018233527 | Z115: =Z114/43601 -> 0.066535171 | AB115: =AB114/45095 -> 0.27113871 | AC115: =AC114/45095 -> 0.1060428 | AD115: =AD114/45095 -> 0.081738552 | AE115: =AE114/45095 -> 0.028717153 | AF115: =AF114/45095 -> 0.019869165 | AG115: =AG114/45095 -> 0.016808959 | AH115: =AH114/45095 -> 0.065395277 | AJ115: =AJ114/47015 -> 0.24541104 | AK115: =AK114/47015 -> 0.10860364 | AL115: =AL114/47015 -> 0.093012868 | AM115: =AM114/47015 -> 0.026799957 | AN115: =AN114/47015 -> 0.01880251 | AO115: =AO114/47015 -> 0.014995214 | AP115: =AP114/47015 -> 0.060597682 | AR115: =AR114/49986 -> 0.22802385 | AS115: =AS114/49986 -> 0.094246389 | AT115: =AT114/49986 -> 0.11087104 | AU115: =AU114/49986 -> 0.026367383 | AV115: =AV114/49986 -> 0.014944184 | AW115: =AW114/49986 -> 0.013543792 | AX115: =AX114/49986 -> 0.05485536
B116: TOTALS (counting all schools) | C116: 42551 | D116: 12755 | E116: 5069 | F116: 1683 | G116: 1323 | H116: 771 | I116: 1008 | J116: 3102 | K116: 42968 | L116: 12015 | M116: 4912 | N116: 2293 | O116: 1317 | P116: 896 | Q116: 958 | R116: 3171 | S116: 45758 | T116: 12894 | U116: 4977 | V116: 3281 | W116: 1317 | X116: 854 | Y116: 843 | Z116: 3014 | AA116: 47279 | AB116: 13051 | AC116: 5025 | AD116: 3776 | AE116: 1344 | AF116: 918 | AG116: 797 | AH116: 3059 | AI116: 47786 | AJ116: 11935 | AK116: 5137 | AL116: 4373 | AM116: 1288 | AN116: 893 | AO116: 705 | AP116: 2886 | AQ116: 49986 | AR116: 11398 | AS116: 4711 | AT116: 5542 | AU116: 1318 | AV116: 747 | AW116: 677 | AX116: 2742
B117: As % | D117: 0.29975794 | E117: 0.11912764 | F117: 0.039552537 | G117: 0.031092101 | H117: 0.018119433 | I117: 0.02368922 | J117: 0.072900754 | L117: 0.2796267 | M117: 0.11431763 | N117: 0.053365295 | O117: 0.030650717 | P117: 0.020852728 | Q117: 0.022295662 | R117: 0.073799106 | T117: 0.28178679 | U117: 0.10876787 | V117: 0.071703309 | W117: 0.028781852 | X117: 0.018663403 | Y117: 0.018423008 | Z117: 0.065868263 | AB117: 0.27604222 | AC117: 0.10628397 | AD117: 0.079866325 | AE117: 0.028426997 | AF117: 0.019416654 | AG117: 0.016857379 | AH117: 0.06470103 | AJ117: 0.24975934 | AK117: 0.1075001 | AL117: 0.091512158 | AM117: 0.026953501 | AN117: 0.018687482 | AO117: 0.014753275 | AP117: 0.060394258 | AR117: 0.22802385 | AS117: 0.094246389 | AT117: 0.11087104 | AU117: 0.026367383 | AV117: 0.014944184 | AW117: 0.013543792 | AX117: 0.05485536

Sheet percentages
