Workbook

Sheet completions in humanities and o
A1: UnitID | B1: Institution Name | C1: Grand total (C2003_A First major Bachelor's degree Business management marketing and related support services.) | D1: Grand total (C2003_A Second major Bachelor's degree Business management marketing and related support services.) | E1: Grand total (C2004_A First major Bachelor's degree Business management marketing and related support services.) | F1: Grand total (C2004_A Second major Bachelor's degree Business management marketing and related support services.) | G1: Grand total (C2006_A First major Bachelor's degree Business management marketing and related support services.) | H1: Grand total (C2006_A Second major Bachelor's degree Business management marketing and related support services.) | I1: Grand total (C2008_A First major Bachelor's degree Business management marketing and related support services.) | J1: Grand total (C2008_A Second major Bachelor's degree Business management marketing and related support services.) | K1: Grand total (C2010_A First major Bachelor's degree Business Management Marketing and Related Support Services) | L1: Grand total (C2010_A Second major Bachelor's degree Business Management Marketing and Related Support Services) | M1: Grand total (C2012_A First major Bachelor's degree Business Management Marketing and Related Support Services) | N1: Grand total (C2012_A Second major Bachelor's degree Business Management Marketing and Related Support Services) | O1: Grand total (C2013_A First major Bachelor's degree Business Management Marketing and Related Support Services) | P1: Grand total (C2013_A Second major Bachelor's degree Business Management Marketing and Related Support Services) | Q1: Grand total (C2014_A First major Bachelor's degree Business Management Marketing and Related Support Services) | R1: Grand total (C2014_A Second major Bachelor's degree Business Management Marketing and Related Support Services) | S1: Grand total (C2003_A First major Bachelor's degree Education.) | T1: Grand total (C2003_A Second major Bachelor's degree Education.) | U1: Grand total (C2004_A First major Bachelor's degree Education.) | V1: Grand total (C2004_A Second major Bachelor's degree Education.) | W1: Grand total (C2006_A First major Bachelor's degree Education.) | X1: Grand total (C2006_A Second major Bachelor's degree Education.) | Y1: Grand total (C2008_A First major Bachelor's degree Education.) | Z1: Grand total (C2008_A Second major Bachelor's degree Education.) | AA1: Grand total (C2010_A First major Bachelor's degree Education) | AB1: Grand total (C2010_A Second major Bachelor's degree Education) | AC1: Grand total (C2012_A First major Bachelor's degree Education) | AD1: Grand total (C2012_A Second major Bachelor's degree Education) | AE1: Grand total (C2013_A First major Bachelor's degree Education) | AF1: Grand total (C2013_A Second major Bachelor's degree Education) | AG1: Grand total (C2014_A First major Bachelor's degree Education) | AH1: Grand total (C2014_A Second major Bachelor's degree Education) | AI1: Grand total (C2003_A First major Bachelor's degree English language and literature/letters.) | AJ1: Grand total (C2003_A Second major Bachelor's degree English language and literature/letters.) | AK1: Grand total (C2004_A First major Bachelor's degree English language and literature/letters.) | AL1: Grand total (C2004_A Second major Bachelor's degree English language and literature/letters.) | AM1: Grand total (C2006_A First major Bachelor's degree English language and literature/letters.) | AN1: Grand total (C2006_A Second major Bachelor's degree English language and literature/letters.) | AO1: Grand total (C2008_A First major Bachelor's degree English language and literature/letters.) | AP1: Grand total (C2008_A Second major Bachelor's degree English language and literature/letters.) | AQ1: Grand total (C2010_A First major Bachelor's degree English Language and Literature/Letters) | AR1: Grand total (C2010_A Second major Bachelor's degree English Language and Literature/Letters) | AS1: Grand total (C2012_A First major Bachelor's degree English Language and Literature/Letters) | AT1: Grand total (C2012_A Second major Bachelor's degree English Language and Literature/Letters) | AU1: Grand total (C2013_A First major Bachelor's degree English Language and Literature/Letters) | AV1: Grand total (C2013_A Second major Bachelor's degree English Language and Literature/Letters) | AW1: Grand total (C2014_A First major Bachelor's degree English Language and Literature/Letters) | AX1: Grand total (C2014_A Second major Bachelor's degree English Language and Literature/Letters) | AY1: Grand total (C2003_A First major Bachelor's degree History) | AZ1: Grand total (C2003_A Second major Bachelor's degree History) | BA1: Grand total (C2004_A First major Bachelor's degree History) | BB1: Grand total (C2004_A Second major Bachelor's degree History) | BC1: Grand total (C2006_A First major Bachelor's degree History) | BD1: Grand total (C2006_A Second major Bachelor's degree History) | BE1: Grand total (C2008_A First major Bachelor's degree History) | BF1: Grand total (C2008_A Second major Bachelor's degree History) | BG1: Grand total (C2010_A First major Bachelor's degree History) | BH1: Grand total (C2010_A Second major Bachelor's degree History) | BI1: Grand total (C2012_A First major Bachelor's degree History) | BJ1: Grand total (C2012_A Second major Bachelor's degree History) | BK1: Grand total (C2013_A First major Bachelor's degree History) | BL1: Grand total (C2013_A Second major Bachelor's degree History) | BM1: Grand total (C2014_A First major Bachelor's degree History) | BN1: Grand total (C2014_A Second major Bachelor's degree History) | BO1: Grand total (C2003_A First major Bachelor's degree Nursing) | BP1: Grand total (C2003_A Second major Bachelor's degree Nursing) | BQ1: Grand total (C2004_A First major Bachelor's degree Nursing) | BR1: Grand total (C2004_A Second major Bachelor's degree Nursing) | BS1: Grand total (C2006_A First major Bachelor's degree Nursing) | BT1: Grand total (C2006_A Second major Bachelor's degree Nursing) | BU1: Grand total (C2008_A First major Bachelor's degree Nursing) | BV1: Grand total (C2008_A Second major Bachelor's degree Nursing) | BW1: Grand total (C2010_A First major Bachelor's degree Registered Nursing Nursing Administration Nursing Research and Clinical Nursin) | BX1: Grand total (C2010_A Second major Bachelor's degree Registered Nursing Nursing Administration Nursing Research and Clinical Nursin) | BY1: Grand total (C2012_A First major Bachelor's degree Registered Nursing Nursing Administration Nursing Research and Clinical Nursin) | BZ1: Grand total (C2012_A Second major Bachelor's degree Registered Nursing Nursing Administration Nursing Research and Clinical Nursin) | CA1: Grand total (C2013_A First major Bachelor's degree Registered Nursing Nursing Administration Nursing Research and Clinical Nursin) | CB1: Grand total (C2013_A Second major Bachelor's degree Registered Nursing Nursing Administration Nursing Research and Clinical Nursin) | CC1: Grand total (C2014_A First major Bachelor's degree Registered Nursing Nursing Administration Nursing Research and Clinical Nursin) | CD1: Grand total (C2014_A Second major Bachelor's degree Registered Nursing Nursing Administration Nursing Research and Clinical Nursin) | CE1: Grand total (C2003_A First major Bachelor's degree Philosophy and religious studies.) | CF1: Grand total (C2003_A Second major Bachelor's degree Philosophy and religious studies.) | CG1: Grand total (C2004_A First major Bachelor's degree Philosophy and religious studies.) | CH1: Grand total (C2004_A Second major Bachelor's degree Philosophy and religious studies.) | CI1: Grand total (C2006_A First major Bachelor's degree Philosophy and religious studies.) | CJ1: Grand total (C2006_A Second major Bachelor's degree Philosophy and religious studies.) | CK1: Grand total (C2008_A First major Bachelor's degree Philosophy and religious studies.) | CL1: Grand total (C2008_A Second major Bachelor's degree Philosophy and religious studies.) | CM1: Grand total (C2010_A First major Bachelor's degree Philosophy and Religious Studies) | CN1: Grand total (C2010_A Second major Bachelor's degree Philosophy and Religious Studies) | CO1: Grand total (C2012_A First major Bachelor's degree Philosophy and Religious Studies) | CP1: Grand total (C2012_A Second major Bachelor's degree Philosophy and Religious Studies) | CQ1: Grand total (C2013_A First major Bachelor's degree Philosophy and Religious Studies) | CR1: Grand total (C2013_A Second major Bachelor's degree Philosophy and Religious Studies) | CS1: Grand total (C2014_A First major Bachelor's degree Philosophy and Religious Studies) | CT1: Grand total (C2014_A Second major Bachelor's degree Philosophy and Religious Studies) | CU1: Grand total (C2003_A First major Bachelor's degree Theology/Theological Studies) | CV1: Grand total (C2003_A Second major Bachelor's degree Theology/Theological Studies) | CW1: Grand total (C2004_A First major Bachelor's degree Theology/Theological Studies) | CX1: Grand total (C2004_A Second major Bachelor's degree Theology/Theological Studies) | CY1: Grand total (C2006_A First major Bachelor's degree Theology/Theological Studies) | CZ1: Grand total (C2006_A Second major Bachelor's degree Theology/Theological Studies) | DA1: Grand total (C2008_A First major Bachelor's degree Theology/Theological Studies) | DB1: Grand total (C2008_A Second major Bachelor's degree Theology/Theological Studies) | DC1: Grand total (C2010_A First major Bachelor's degree Theology/Theological Studies) | DD1: Grand total (C2010_A Second major Bachelor's degree Theology/Theological Studies) | DE1: Grand total (C2012_A First major Bachelor's degree Theology/Theological Studies) | DF1: Grand total (C2012_A Second major Bachelor's degree Theology/Theological Studies) | DG1: Grand total (C2013_A First major Bachelor's degree Theology/Theological Studies) | DH1: Grand total (C2013_A Second major Bachelor's degree Theology/Theological Studies) | DI1: Grand total (C2014_A First major Bachelor's degree Theology/Theological Studies) | DJ1: Grand total (C2014_A Second major Bachelor's degree Theology/Theological Studies) | DK1: Grand total (C2003_A First major Grand total Bachelor's degree) | DL1: Grand total (C2003_A Second major Grand total Bachelor's degree) | DM1: Grand total (C2004_A First major Bachelor's degree Grand total) | DN1: Grand total (C2004_A Second major Bachelor's degree Grand total) | DO1: Grand total (C2006_A First major Bachelor's degree Grand total) | DP1: Grand total (C2006_A Second major Bachelor's degree Grand total) | DQ1: Grand total (C2008_A First major Bachelor's degree Grand total) | DR1: Grand total (C2008_A Second major Bachelor's degree Grand total) | DS1: Grand total (C2010_A First major Bachelor's degree Grand total) | DT1: Grand total (C2010_A Second major Bachelor's degree Grand total) | DU1: Grand total (C2012_A First major Bachelor's degree Grand total) | DV1: Grand total (C2012_A Second major Bachelor's degree Grand total) | DW1: Grand total (C2014_A First major Bachelor's degree Grand total) | DX1: Grand total (C2014_A Second major Bachelor's degree Grand total)
A2: a 1 | B2: a 2 | C2: bus 03 a | D2: bus 03b | E2: bus 04 a | F2: bus 04 b | G2: bus 06 a | H2: bus 06 b | I2: bus 08 a | J2: bus 08 b | K2: bus 10 a | L2: bus 10 b | M2: bus 12 a | N2: bus 12 b | O2: bus 13 a | P2: bus 13 b | Q2: bus 14 a | R2: bus 14 b | S2: edu 03 a | T2: edu 03 b | U2: edu 04 a | V2: edu 04 b | W2: edu 06 a | X2: edu 06 b | Y2: edu 08 a | Z2: edu 08 b | AA2: edu 10 a | AB2: edu 10 b | AC2: edu 12 a | AD2: edu 12 b | AE2: edu 13 a | AF2: edu 13 b | AG2: edu 14 a | AH2: edu 14 b | AI2: eng 03 a | AJ2: eng 03 b | AK2: eng 04 a | AL2: eng 04 b | AM2: eng 06 a | AN2: eng 06 b | AO2: eng 08 a | AP2: eng 08 b | AQ2: eng 10 a | AR2: eng 10 b | AS2: eng 12 a | AT2: eng 12 b | AU2: eng 13 a | AV2: eng 13 b | AW2: eng 14 a | AX2: eng 14 b | AY2: his 03 a | AZ2: his 03 b | BA2: his 04 a | BB2: his 04 b | BC2: his 06 a | BD2: his 06 b | BE2: his 08 a | BF2: his 08 b | BG2: his 10 a | BH2: his 10 b | BI2: his 12 a | BJ2: his 12 b | BK2: his 13 a | BL2: his 13 b | BM2: his 14 a | BN2: his 14 b | BO2: nur 03 a | BP2: nur 03 b | BQ2: nur 04 a | BR2: nur 04b | BS2: nur 06 a | BT2: nur 06 b | BU2: nur 08 a | BV2: nur 08 b | BW2: nur 10 a | BX2: nur 10 b | BY2: nur 12 a | BZ2: nur 12 b | CA2: nur 13 a | CB2: nur 13 b | CC2: nur 14 a | CD2: nur 14 b | CE2: phi 03 a | CF2: phi 03 b | CG2: phi 04 a | CH2: phi 04 b | CI2: phi 06 a | CJ2: phi 06 b | CK2: phi 08 a | CL2: phi 08 b | CM2: phi 10 a | CN2: phi 10 b | CO2: phi 12 a | CP2: phi 12 b | CQ2: phi 13 a | CR2: phi 13 b | CS2: phi 14 a | CT2: phi 14 b | CU2: the 03 a | CV2: the 03 b | CW2: the 04 a | CX2: the 04 b | CY2: the 06 a | CZ2: the 06 b | DA2: the 08 a | DB2: the 08 b | DC2: the 10 a | DD2: the 10 b | DE2: the 12 a | DF2: the 12 b | DG2: the 13 a | DH2: the 13 b | DI2: the 14 a | DJ2: the 14 b | DK2: tot 03 a | DL2: tot 03 b | DM2: tot 04 a | DN2: tot 04 b | DO2: tot 06 a | DP2: tot 06 b | DQ2: tot 08 a | DR2: tot 08 b | DS2: tot 10 a | DT2: tot 10 b | DU2: tot 12 a | DV2: tot 12 b | DW2: tot 14 a | DX2: tot 14 b
A3: 222178 | B3: Abilene Christian University | C3: 170 | D3: 49 | E3: 168 | F3: 47 | G3: 160 | H3: 30 | I3: 190 | J3: 41 | K3: 163 | L3: 18 | M3: 168 | N3: 26 | O3: 155 | P3: 28 | Q3: 180 | R3: 30 | S3: 100 | U3: 105 | V3: 0 | W3: 99 | X3: 0 | Y3: 92 | Z3: 0 | AA3: 86 | AB3: 0 | AC3: 68 | AD3: 0 | AE3: 71 | AF3: 0 | AG3: 62 | AH3: 0 | AI3: 25 | AK3: 47 | AM3: 49 | AN3: 0 | AO3: 29 | AP3: 0 | AQ3: 29 | AS3: 24 | AU3: 19 | AW3: 20 | AY3: 12 | BA3: 10 | BC3: 15 | BD3: 1 | BE3: 6 | BF3: 0 | BG3: 8 | BH3: 0 | BI3: 11 | BJ3: 0 | BK3: 10 | BL3: 0 | BM3: 7 | BN3: 0 | BO3: 22 | BQ3: 14 | BS3: 24 | BU3: 25 | BW3: 26 | BY3: 27 | CA3: 25 | CC3: 30 | DK3: 792 | DL3: 52 | DM3: 817 | DN3: 54 | DO3: 790 | DP3: 35 | DQ3: 850 | DR3: 42 | DS3: 818 | DT3: 18 | DU3: 805 | DV3: 27 | DW3: 792 | DX3: 30
A4: 150066 | B4: Anderson University | C4: 80 | D4: 11 | E4: 74 | F4: 6 | G4: 92 | H4: 5 | I4: 110 | J4: 6 | K4: 94 | L4: 1 | M4: 94 | N4: 6 | O4: 106 | P4: 2 | Q4: 79 | R4: 4 | S4: 91 | T4: 3 | U4: 72 | V4: 2 | W4: 80 | X4: 4 | Y4: 73 | Z4: 1 | AA4: 58 | AB4: 5 | AC4: 57 | AD4: 2 | AE4: 67 | AF4: 6 | AG4: 47 | AH4: 2 | AI4: 9 | AJ4: 1 | AK4: 9 | AM4: 5 | AN4: 2 | AO4: 10 | AP4: 2 | AQ4: 9 | AR4: 2 | AS4: 3 | AT4: 3 | AU4: 6 | AV4: 6 | AW4: 6 | AX4: 2 | AY4: 6 | AZ4: 1 | BA4: 9 | BB4: 4 | BC4: 15 | BD4: 4 | BE4: 14 | BF4: 2 | BG4: 25 | BH4: 0 | BI4: 18 | BJ4: 4 | BK4: 10 | BL4: 3 | BM4: 9 | BN4: 4 | BO4: 20 | BQ4: 33 | BS4: 27 | BU4: 35 | BW4: 33 | BY4: 31 | CA4: 40 | CC4: 25 | CE4: 9 | CF4: 3 | CG4: 12 | CH4: 4 | CI4: 13 | CJ4: 5 | CK4: 12 | CL4: 2 | CM4: 13 | CN4: 2 | CO4: 8 | CP4: 0 | CQ4: 9 | CR4: 1 | CS4: 4 | CT4: 0 | CU4: 26 | CV4: 5 | CW4: 21 | CX4: 2 | CY4: 12 | CZ4: 4 | DA4: 19 | DB4: 7 | DC4: 10 | DD4: 4 | DE4: 8 | DF4: 1 | DG4: 5 | DH4: 4 | DI4: 7 | DJ4: 1 | DK4: 414 | DL4: 48 | DM4: 394 | DN4: 34 | DO4: 437 | DP4: 48 | DQ4: 478 | DR4: 57 | DS4: 401 | DT4: 48 | DU4: 418 | DV4: 58 | DW4: 377 | DX4: 41
A5: 217633 | B5: Anderson University | C5: 96 | D5: 7 | E5: 90 | F5: 3 | G5: 59 | I5: 69 | J5: 4 | K5: 74 | L5: 6 | M5: 79 | N5: 6 | O5: 77 | P5: 17 | Q5: 116 | R5: 10 | S5: 33 | T5: 2 | U5: 43 | W5: 65 | Y5: 57 | Z5: 4 | AA5: 68 | AB5: 3 | AC5: 72 | AD5: 3 | AE5: 91 | AF5: 1 | AG5: 80 | AH5: 0 | AI5: 3 | AK5: 3 | AM5: 7 | AO5: 6 | AQ5: 1 | AR5: 1 | AS5: 1 | AT5: 1 | AU5: 7 | AV5: 2 | AW5: 15 | AX5: 1 | AY5: 5 | BA5: 5 | BC5: 8 | BE5: 3 | BG5: 5 | BI5: 5 | BK5: 4 | BM5: 6 | BN5: 1 | BY5: 0 | CA5: 0 | CC5: 15 | CE5: 4 | CG5: 14 | CH5: 1 | CI5: 18 | CK5: 4 | CM5: 14 | CO5: 14 | CQ5: 12 | CS5: 33 | CT5: 1 | DK5: 200 | DL5: 12 | DM5: 222 | DN5: 9 | DO5: 259 | DQ5: 220 | DR5: 9 | DS5: 235 | DT5: 16 | DU5: 249 | DV5: 16 | DW5: 451 | DX5: 15
A6: 156213 | B6: Asbury University | C6: 17 | D6: 2 | E6: 18 | F6: 0 | G6: 18 | H6: 5 | I6: 23 | J6: 3 | K6: 31 | L6: 0 | M6: 17 | N6: 0 | O6: 32 | P6: 1 | Q6: 32 | R6: 3 | S6: 43 | U6: 20 | W6: 29 | X6: 0 | Y6: 23 | Z6: 0 | AA6: 51 | AB6: 2 | AC6: 34 | AD6: 1 | AE6: 46 | AF6: 8 | AG6: 47 | AH6: 5 | AI6: 35 | AJ6: 1 | AK6: 32 | AL6: 2 | AM6: 27 | AN6: 0 | AO6: 21 | AP6: 0 | AQ6: 5 | AR6: 4 | AS6: 19 | AT6: 1 | AU6: 14 | AV6: 6 | AW6: 13 | AX6: 2 | AY6: 9 | BA6: 16 | BB6: 1 | BC6: 9 | BD6: 1 | BE6: 13 | BF6: 1 | BG6: 14 | BH6: 2 | BI6: 9 | BJ6: 1 | BK6: 11 | BL6: 3 | BM6: 4 | BN6: 0 | CE6: 3 | CF6: 2 | CG6: 5 | CH6: 1 | CI6: 7 | CJ6: 1 | CK6: 2 | CL6: 2 | CM6: 2 | CN6: 1 | CO6: 2 | CP6: 1 | CQ6: 3 | CR6: 1 | CS6: 0 | CT6: 0 | DK6: 301 | DL6: 15 | DM6: 254 | DN6: 13 | DO6: 273 | DP6: 14 | DQ6: 222 | DR6: 20 | DS6: 286 | DT6: 30 | DU6: 240 | DV6: 23 | DW6: 260 | DX6: 42
A7: 109785 | B7: Azusa Pacific University | C7: 214 | D7: 2 | E7: 243 | F7: 1 | G7: 258 | H7: 0 | I7: 281 | K7: 250 | L7: 4 | M7: 298 | N7: 4 | O7: 321 | P7: 2 | Q7: 371 | R7: 1 | S7: 36 | U7: 17 | V7: 1 | W7: 24 | X7: 0 | Y7: 25 | AA7: 24 | AC7: 34 | AD7: 0 | AE7: 45 | AF7: 0 | AG7: 69 | AH7: 0 | AI7: 38 | AJ7: 2 | AK7: 26 | AL7: 2 | AM7: 27 | AN7: 3 | AO7: 32 | AP7: 1 | AQ7: 44 | AR7: 3 | AS7: 45 | AT7: 4 | AU7: 52 | AV7: 0 | AW7: 60 | AX7: 1 | AY7: 3 | AZ7: 2 | BA7: 10 | BC7: 0 | BD7: 0 | BE7: 20 | BG7: 16 | BH7: 3 | BI7: 13 | BJ7: 9 | BK7: 19 | BL7: 3 | BM7: 25 | BN7: 2 | BO7: 80 | BQ7: 60 | BS7: 91 | BU7: 125 | BW7: 119 | BX7: 11 | BY7: 275 | BZ7: 0 | CA7: 354 | CB7: 0 | CC7: 360 | CD7: 0 | CE7: 47 | CF7: 10 | CG7: 3 | CI7: 7 | CK7: 12 | CL7: 2 | CM7: 2 | CN7: 0 | CO7: 10 | CP7: 1 | CQ7: 8 | CR7: 4 | CS7: 10 | CT7: 5 | CW7: 4 | CX7: 1 | CY7: 9 | CZ7: 1 | DA7: 9 | DB7: 3 | DC7: 8 | DD7: 2 | DE7: 3 | DF7: 1 | DG7: 7 | DH7: 0 | DI7: 7 | DJ7: 1 | DK7: 1114 | DL7: 29 | DM7: 1091 | DN7: 16 | DO7: 1160 | DP7: 21 | DQ7: 1282 | DR7: 24 | DS7: 1137 | DT7: 49 | DU7: 1401 | DV7: 36 | DW7: 1741 | DX7: 23
A8: 175421 | B8: Belhaven University | C8: 274 | D8: 2 | E8: 222 | F8: 1 | G8: 224 | I8: 192 | K8: 216 | M8: 171 | O8: 190 | Q8: 159 | S8: 25 | U8: 24 | W8: 19 | X8: 0 | Y8: 18 | AA8: 10 | AC8: 30 | AE8: 13 | AG8: 9 | AI8: 10 | AK8: 12 | AM8: 13 | AO8: 5 | AQ8: 13 | AS8: 5 | AU8: 14 | AW8: 15 | AY8: 12 | BA8: 12 | BC8: 11 | BD8: 1 | BE8: 11 | BG8: 6 | BI8: 12 | BK8: 4 | BM8: 4 | CE8: 3 | CG8: 0 | CI8: 3 | CJ8: 0 | CK8: 2 | CM8: 2 | CO8: 1 | CQ8: 6 | CS8: 1 | DK8: 430 | DL8: 2 | DM8: 385 | DN8: 6 | DO8: 373 | DP8: 5 | DQ8: 412 | DS8: 472 | DU8: 462 | DW8: 498
A9: 150145 | B9: Bethel College-Indiana | C9: 104 | E9: 100 | G9: 95 | I9: 131 | K9: 155 | M9: 184 | O9: 148 | Q9: 133 | S9: 52 | U9: 37 | W9: 50 | Y9: 37 | AA9: 50 | AC9: 54 | AE9: 54 | AG9: 35 | AI9: 5 | AK9: 4 | AM9: 5 | AO9: 4 | AQ9: 4 | AS9: 5 | AU9: 3 | AW9: 6 | AY9: 3 | BA9: 3 | BC9: 8 | BE9: 1 | BG9: 3 | BI9: 1 | BK9: 5 | BM9: 3 | BO9: 34 | BQ9: 28 | BS9: 18 | BU9: 45 | BW9: 62 | BY9: 54 | CA9: 55 | CC9: 69 | CE9: 15 | CG9: 8 | CI9: 14 | CK9: 10 | CM9: 10 | CO9: 12 | CQ9: 3 | CS9: 4 | CU9: 4 | CW9: 4 | CY9: 2 | DA9: 10 | DC9: 5 | DE9: 3 | DG9: 3 | DK9: 321 | DL9: 1 | DM9: 305 | DO9: 329 | DQ9: 348 | DS9: 419 | DU9: 465 | DW9: 450
A10: 173160 | B10: Bethel University | C10: 149 | E10: 176 | G10: 190 | H10: 1 | I10: 210 | J10: 1 | K10: 196 | L10: 3 | M10: 208 | N10: 0 | O10: 231 | P10: 1 | Q10: 192 | R10: 3 | S10: 95 | T10: 11 | U10: 94 | V10: 4 | W10: 108 | X10: 5 | Y10: 94 | Z10: 11 | AA10: 77 | AB10: 15 | AC10: 77 | AD10: 8 | AE10: 90 | AF10: 11 | AG10: 75 | AH10: 14 | AI10: 18 | AJ10: 1 | AK10: 21 | AL10: 0 | AM10: 17 | AN10: 2 | AO10: 24 | AP10: 2 | AQ10: 15 | AR10: 1 | AS10: 17 | AT10: 0 | AU10: 15 | AV10: 3 | AW10: 13 | AX10: 0 | AY10: 12 | AZ10: 4 | BA10: 17 | BB10: 4 | BC10: 12 | BD10: 6 | BE10: 23 | BF10: 2 | BG10: 14 | BH10: 2 | BI10: 10 | BJ10: 5 | BK10: 13 | BL10: 5 | BM10: 6 | BN10: 5 | BO10: 83 | BP10: 1 | BQ10: 85 | BR10: 0 | BS10: 107 | BT10: 0 | BU10: 121 | BW10: 163 | BY10: 182 | CA10: 174 | CC10: 184 | CE10: 13 | CG10: 12 | CH10: 4 | CI10: 8 | CJ10: 3 | CK10: 7 | CL10: 6 | CM10: 8 | CN10: 10 | CO10: 4 | CP10: 8 | CQ10: 5 | CR10: 8 | CS10: 2 | CT10: 1 | DK10: 637 | DL10: 58 | DM10: 692 | DN10: 38 | DO10: 750 | DP10: 53 | DQ10: 766 | DR10: 64 | DS10: 843 | DT10: 75 | DU10: 856 | DV10: 77 | DW10: 842 | DX10: 68
A11: 110097 | B11: Biola University | C11: 182 | E11: 136 | G11: 204 | I11: 237 | K11: 236 | M11: 163 | O11: 141 | Q11: 108 | S11: 57 | U11: 61 | W11: 67 | Y11: 48 | AA11: 44 | AC11: 71 | AE11: 55 | AG11: 51 | AI11: 27 | AK11: 29 | AM11: 22 | AO11: 42 | AQ11: 39 | AS11: 31 | AU11: 39 | AW11: 41 | AY11: 8 | BA11: 11 | BC11: 12 | BE11: 10 | BG11: 18 | BI11: 19 | BK11: 11 | BM11: 13 | BO11: 21 | BQ11: 32 | BS11: 26 | BU11: 32 | BW11: 32 | BY11: 37 | CA11: 35 | CC11: 39 | CE11: 10 | CG11: 12 | CI11: 9 | CK11: 10 | CM11: 15 | CO11: 8 | CQ11: 9 | CS11: 14 | DK11: 660 | DM11: 690 | DO11: 778 | DQ11: 896 | DS11: 913 | DU11: 897 | DW11: 932
A12: 231554 | B12: Bluefield College | C12: 134 | E12: 114 | F12: 0 | G12: 103 | H12: 0 | I12: 114 | J12: 0 | K12: 92 | L12: 0 | M12: 70 | N12: 0 | O12: 73 | P12: 0 | Q12: 73 | R12: 0 | W12: 0 | Y12: 0 | AA12: 0 | AC12: 0 | AE12: 0 | AG12: 0 | AI12: 2 | AK12: 2 | AL12: 0 | AM12: 3 | AN12: 0 | AO12: 4 | AP12: 0 | AQ12: 0 | AR12: 0 | AS12: 4 | AT12: 0 | AU12: 4 | AV12: 1 | AW12: 1 | AX12: 0 | AY12: 1 | BA12: 1 | BB12: 0 | BC12: 6 | BD12: 0 | BE12: 4 | BF12: 0 | BG12: 2 | BH12: 0 | BI12: 2 | BJ12: 0 | BK12: 1 | BL12: 0 | BM12: 2 | BN12: 0 | BY12: 0 | CA12: 4 | CC12: 13 | CE12: 4 | CG12: 5 | CI12: 7 | CK12: 4 | CM12: 6 | CO12: 2 | CQ12: 2 | CR12: 1 | CS12: 0 | CT12: 0 | DK12: 243 | DM12: 230 | DN12: 1 | DO12: 255 | DP12: 0 | DQ12: 277 | DR12: 0 | DS12: 205 | DT12: 0 | DU12: 208 | DV12: 2 | DW12: 225 | DX12: 5
A13: 201371 | B13: Bluffton University | C13: 87 | D13: 6 | E13: 84 | F13: 4 | G13: 68 | H13: 3 | I13: 82 | J13: 1 | K13: 90 | L13: 5 | M13: 88 | N13: 12 | O13: 82 | P13: 11 | Q13: 73 | R13: 9 | S13: 48 | T13: 3 | U13: 52 | V13: 4 | W13: 58 | X13: 7 | Y13: 49 | Z13: 10 | AA13: 35 | AB13: 6 | AC13: 41 | AD13: 6 | AE13: 30 | AF13: 4 | AG13: 29 | AH13: 4 | AI13: 5 | AK13: 5 | AL13: 0 | AM13: 6 | AN13: 1 | AO13: 8 | AP13: 0 | AQ13: 6 | AR13: 2 | AS13: 10 | AT13: 4 | AU13: 5 | AV13: 2 | AW13: 5 | AX13: 1 | AY13: 2 | BA13: 4 | BB13: 0 | BC13: 3 | BD13: 0 | BE13: 7 | BF13: 0 | BG13: 13 | BH13: 1 | BI13: 9 | BJ13: 0 | BK13: 4 | BL13: 0 | BM13: 5 | BN13: 0 | CE13: 1 | CG13: 2 | CH13: 0 | CI13: 2 | CJ13: 0 | CK13: 2 | CL13: 0 | CM13: 3 | CN13: 0 | CO13: 4 | CP13: 0 | CQ13: 3 | CR13: 0 | DK13: 215 | DL13: 16 | DM13: 230 | DN13: 20 | DO13: 242 | DP13: 21 | DQ13: 253 | DR13: 21 | DS13: 219 | DT13: 21 | DU13: 240 | DV13: 32 | DW13: 187 | DX13: 22
A14: 219790 | B14: Bryan College-Dayton | C14: 35 | E14: 33 | G14: 72 | I14: 153 | K14: 185 | M14: 167 | O14: 176 | Q14: 146 | S14: 17 | U14: 22 | W14: 19 | Y14: 15 | AA14: 20 | AC14: 24 | AD14: 1 | AE14: 15 | AG14: 34 | AI14: 7 | AK14: 6 | AM14: 6 | AO14: 7 | AQ14: 9 | AS14: 3 | AT14: 1 | AU14: 9 | AW14: 14 | AX14: 3 | AY14: 4 | AZ14: 1 | BA14: 8 | BC14: 8 | BE14: 1 | BF14: 1 | BG14: 5 | BI14: 5 | BJ14: 1 | BK14: 2 | BM14: 5 | CK14: 2 | CM14: 2 | CO14: 2 | CQ14: 1 | CS14: 2 | DK14: 149 | DL14: 8 | DM14: 127 | DN14: 1 | DO14: 175 | DP14: 1 | DQ14: 247 | DR14: 1 | DS14: 303 | DT14: 2 | DU14: 300 | DV14: 9 | DW14: 293 | DX14: 11
A15: 110361 | B15: California Baptist University | C15: 45 | E15: 60 | G15: 76 | H15: 1 | I15: 113 | K15: 122 | L15: 0 | M15: 113 | O15: 136 | Q15: 126 | R15: 3 | S15: 139 | AA15: 20 | AC15: 30 | AD15: 0 | AE15: 42 | AF15: 2 | AG15: 47 | AH15: 1 | AI15: 12 | AK15: 22 | AL15: 1 | AM15: 25 | AN15: 2 | AO15: 32 | AP15: 1 | AQ15: 33 | AR15: 3 | AS15: 27 | AU15: 23 | AV15: 1 | AW15: 30 | AY15: 9 | BA15: 9 | BB15: 6 | BC15: 16 | BD15: 7 | BE15: 19 | BF15: 3 | BG15: 21 | BH15: 4 | BI15: 15 | BJ15: 1 | BK15: 13 | BL15: 4 | BM15: 17 | BU15: 3 | BW15: 45 | BY15: 65 | CA15: 86 | CC15: 104 | CE15: 3 | CG15: 4 | CI15: 15 | CJ15: 2 | CK15: 27 | CL15: 2 | CM15: 28 | CN15: 3 | CO15: 31 | CP15: 2 | CQ15: 28 | CR15: 4 | CS15: 29 | CT15: 6 | DK15: 358 | DL15: 6 | DM15: 418 | DN15: 12 | DO15: 564 | DP15: 31 | DQ15: 626 | DR15: 22 | DS15: 711 | DT15: 28 | DU15: 825 | DV15: 25 | DW15: 1029 | DX15: 28
A16: 169080 | B16: Calvin College | C16: 154 | D16: 11 | E16: 124 | F16: 2 | G16: 114 | H16: 4 | I16: 112 | J16: 19 | K16: 144 | M16: 117 | N16: 1 | O16: 119 | P16: 0 | Q16: 124 | R16: 0 | S16: 83 | U16: 81 | W16: 83 | X16: 3 | Y16: 66 | Z16: 1 | AA16: 103 | AB16: 4 | AC16: 104 | AD16: 5 | AE16: 88 | AF16: 21 | AG16: 97 | AH16: 33 | AI16: 66 | AJ16: 13 | AK16: 59 | AL16: 5 | AM16: 38 | AN16: 5 | AO16: 32 | AP16: 7 | AQ16: 35 | AR16: 9 | AS16: 27 | AT16: 4 | AU16: 38 | AV16: 5 | AW16: 30 | AX16: 5 | AY16: 33 | AZ16: 4 | BA16: 24 | BB16: 4 | BC16: 48 | BD16: 5 | BE16: 21 | BF16: 7 | BG16: 21 | BH16: 2 | BI16: 10 | BJ16: 6 | BK16: 12 | BL16: 2 | BM16: 9 | BN16: 5 | BO16: 47 | BP16: 1 | BQ16: 51 | BR16: 0 | BS16: 57 | BU16: 59 | BV16: 2 | BW16: 61 | BY16: 60 | CA16: 61 | CC16: 65 | CE16: 28 | CF16: 9 | CG16: 28 | CH16: 10 | CI16: 27 | CJ16: 12 | CK16: 33 | CL16: 6 | CM16: 19 | CN16: 17 | CO16: 20 | CP16: 16 | CQ16: 11 | CR16: 13 | CS16: 23 | CT16: 16 | DK16: 894 | DL16: 86 | DM16: 872 | DN16: 80 | DO16: 919 | DP16: 111 | DQ16: 823 | DR16: 104 | DS16: 908 | DT16: 130 | DU16: 795 | DV16: 110 | DW16: 852 | DX16: 148
A17: 156365 | B17: Campbellsville University | C17: 34 | D17: 12 | E17: 56 | G17: 46 | I17: 46 | K17: 58 | L17: 1 | M17: 52 | O17: 58 | Q17: 49 | S17: 39 | T17: 1 | U17: 36 | V17: 2 | W17: 22 | X17: 1 | Y17: 44 | Z17: 1 | AA17: 50 | AC17: 57 | AD17: 3 | AE17: 61 | AF17: 4 | AG17: 58 | AH17: 5 | AI17: 2 | AJ17: 2 | AK17: 4 | AM17: 5 | AO17: 4 | AQ17: 7 | AR17: 1 | AS17: 5 | AU17: 6 | AV17: 2 | AW17: 6 | AX17: 1 | AY17: 1 | AZ17: 2 | BA17: 1 | BB17: 2 | BC17: 4 | BD17: 1 | BE17: 1 | BG17: 3 | BH17: 1 | BI17: 7 | BJ17: 2 | BK17: 2 | BL17: 1 | BM17: 2 | BN17: 2 | CC17: 14 | CU17: 1 | DK17: 177 | DL17: 70 | DM17: 196 | DN17: 29 | DO17: 175 | DP17: 16 | DQ17: 220 | DR17: 13 | DS17: 256 | DT17: 10 | DU17: 325 | DV17: 9 | DW17: 333 | DX17: 24
A18: 219806 | B18: Carson-Newman University | C18: 51 | E18: 48 | F18: 0 | G18: 69 | H18: 0 | I18: 44 | J18: 1 | K18: 56 | L18: 0 | M18: 62 | N18: 0 | O18: 53 | P18: 1 | Q18: 67 | R18: 5 | S18: 71 | U18: 81 | V18: 2 | W18: 82 | X18: 0 | Y18: 49 | Z18: 4 | AA18: 51 | AB18: 0 | AC18: 49 | AD18: 0 | AE18: 50 | AF18: 0 | AG18: 51 | AH18: 0 | AI18: 17 | AK18: 3 | AL18: 7 | AM18: 5 | AN18: 0 | AO18: 5 | AP18: 2 | AQ18: 7 | AR18: 0 | AS18: 4 | AT18: 0 | AU18: 4 | AV18: 0 | AW18: 7 | AX18: 0 | AY18: 15 | BA18: 14 | BB18: 2 | BC18: 12 | BD18: 0 | BE18: 11 | BF18: 0 | BG18: 9 | BH18: 0 | BI18: 3 | BJ18: 0 | BK18: 7 | BL18: 0 | BM18: 2 | BN18: 0 | BO18: 10 | BQ18: 14 | BS18: 33 | BU18: 64 | BW18: 1 | BY18: 40 | CA18: 45 | CC18: 38 | CE18: 23 | CF18: 5 | CG18: 27 | CH18: 6 | CI18: 23 | CJ18: 0 | CK18: 13 | CL18: 4 | CM18: 14 | CN18: 1 | CO18: 14 | CP18: 2 | CQ18: 15 | CR18: 0 | CS18: 15 | CT18: 8 | DK18: 397 | DL18: 24 | DM18: 394 | DN18: 34 | DO18: 403 | DP18: 0 | DQ18: 347 | DR18: 33 | DS18: 326 | DT18: 2 | DU18: 333 | DV18: 4 | DW18: 328 | DX18: 54
A19: 201654 | B19: Cedarville University | C19: 83 | D19: 34 | E19: 88 | F19: 11 | G19: 74 | H19: 16 | I19: 83 | J19: 19 | K19: 71 | L19: 10 | M19: 66 | N19: 8 | O19: 61 | P19: 12 | Q19: 77 | R19: 12 | S19: 113 | T19: 4 | U19: 121 | V19: 13 | W19: 117 | X19: 15 | Y19: 81 | Z19: 11 | AA19: 94 | AB19: 14 | AC19: 74 | AD19: 4 | AE19: 61 | AF19: 2 | AG19: 68 | AH19: 6 | AI19: 24 | AJ19: 1 | AK19: 27 | AL19: 0 | AM19: 19 | AN19: 0 | AO19: 23 | AP19: 0 | AQ19: 16 | AR19: 0 | AS19: 13 | AT19: 2 | AU19: 17 | AV19: 2 | AW19: 21 | AX19: 2 | AY19: 9 | AZ19: 5 | BA19: 12 | BB19: 2 | BC19: 12 | BD19: 1 | BE19: 14 | BF19: 2 | BG19: 13 | BH19: 3 | BI19: 16 | BJ19: 5 | BK19: 17 | BL19: 1 | BM19: 12 | BN19: 1 | BO19: 37 | BQ19: 44 | BS19: 65 | BU19: 73 | BW19: 83 | BY19: 82 | CA19: 53 | CC19: 88 | CE19: 6 | CF19: 2 | CG19: 2 | CH19: 0 | CI19: 3 | CJ19: 0 | CK19: 5 | CL19: 0 | CM19: 4 | CN19: 0 | CO19: 3 | CP19: 1 | CQ19: 1 | CR19: 0 | CS19: 2 | CT19: 0 | CU19: 30 | CV19: 4 | CW19: 18 | CX19: 0 | CY19: 13 | CZ19: 0 | DA19: 17 | DB19: 1 | DC19: 13 | DD19: 0 | DE19: 10 | DF19: 0 | DG19: 10 | DH19: 0 | DI19: 8 | DJ19: 1 | DK19: 623 | DL19: 63 | DM19: 620 | DN19: 51 | DO19: 625 | DP19: 60 | DQ19: 617 | DR19: 57 | DS19: 629 | DT19: 47 | DU19: 622 | DV19: 43 | DW19: 722 | DX19: 39
A20: 217688 | B20: Charleston Southern University | C20: 76 | E20: 58 | G20: 75 | H20: 1 | I20: 94 | J20: 1 | K20: 141 | L20: 1 | M20: 95 | O20: 92 | P20: 2 | Q20: 74 | R20: 3 | S20: 40 | U20: 64 | W20: 73 | Y20: 49 | AA20: 41 | AC20: 30 | AE20: 40 | AG20: 46 | AH20: 1 | AI20: 9 | AK20: 6 | AM20: 7 | AN20: 2 | AO20: 8 | AQ20: 3 | AR20: 1 | AS20: 9 | AU20: 9 | AV20: 1 | AW20: 6 | AX20: 1 | AY20: 11 | BA20: 5 | BC20: 8 | BD20: 2 | BE20: 8 | BF20: 1 | BG20: 12 | BI20: 8 | BJ20: 2 | BK20: 8 | BL20: 1 | BM20: 12 | BN20: 0 | BO20: 25 | BQ20: 20 | BS20: 18 | BU20: 19 | BW20: 22 | BY20: 27 | CA20: 30 | CC20: 41 | CE20: 17 | CG20: 12 | CI20: 23 | CJ20: 7 | CK20: 19 | CL20: 4 | CM20: 18 | CN20: 6 | CO20: 13 | CP20: 5 | CQ20: 19 | CR20: 4 | CS20: 16 | CT20: 3 | DK20: 379 | DM20: 327 | DO20: 386 | DP20: 27 | DQ20: 437 | DR20: 19 | DS20: 464 | DT20: 21 | DU20: 412 | DV20: 21 | DW20: 481 | DX20: 24
A21: 178697 | B21: College of the Ozarks | C21: 42 | D21: 1 | E21: 56 | F21: 2 | G21: 59 | H21: 1 | I21: 62 | J21: 2 | K21: 41 | L21: 2 | M21: 52 | N21: 3 | O21: 33 | P21: 4 | Q21: 53 | R21: 7 | S21: 45 | U21: 52 | W21: 44 | Y21: 38 | AA21: 49 | AC21: 58 | AD21: 0 | AE21: 55 | AF21: 0 | AG21: 48 | AH21: 0 | AI21: 7 | AK21: 6 | AL21: 1 | AM21: 13 | AO21: 21 | AP21: 0 | AQ21: 17 | AS21: 12 | AT21: 0 | AU21: 8 | AV21: 1 | AW21: 12 | AX21: 1 | AY21: 6 | AZ21: 2 | BA21: 6 | BB21: 2 | BC21: 9 | BE21: 4 | BG21: 9 | BH21: 0 | BI21: 5 | BJ21: 0 | BK21: 4 | BL21: 1 | BM21: 7 | BN21: 0 | BO21: 1 | BW21: 16 | BY21: 16 | CA21: 18 | CC21: 14 | CE21: 5 | CF21: 1 | CG21: 5 | CH21: 1 | CI21: 9 | CJ21: 0 | CK21: 9 | CL21: 9 | CM21: 5 | CN21: 4 | CO21: 4 | CP21: 1 | CQ21: 4 | CR21: 0 | CS21: 6 | CT21: 0 | DK21: 254 | DL21: 10 | DM21: 284 | DN21: 20 | DO21: 266 | DP21: 17 | DQ21: 291 | DR21: 33 | DS21: 297 | DT21: 44 | DU21: 303 | DV21: 49 | DW21: 317 | DX21: 48
A22: 126669 | B22: Colorado Christian University | C22: 318 | D22: 4 | E22: 188 | F22: 2 | G22: 59 | I22: 131 | K22: 209 | M22: 177 | N22: 2 | O22: 184 | P22: 11 | Q22: 160 | R22: 7 | S22: 1 | U22: 50 | W22: 42 | X22: 0 | Y22: 93 | Z22: 0 | AA22: 80 | AC22: 68 | AD22: 2 | AE22: 67 | AF22: 0 | AG22: 58 | AH22: 0 | AI22: 10 | AK22: 11 | AM22: 2 | AO22: 9 | AQ22: 7 | AS22: 12 | AU22: 13 | AW22: 6 | AX22: 1 | AY22: 3 | BA22: 2 | BC22: 1 | BE22: 2 | BG22: 10 | BI22: 7 | BK22: 8 | BL22: 1 | BM22: 7 | BN22: 0 | BW22: 4 | BY22: 6 | CA22: 38 | CC22: 61 | CW22: 1 | CY22: 0 | CZ22: 0 | DA22: 3 | DB22: 0 | DC22: 3 | DE22: 9 | DG22: 12 | DI22: 13 | DJ22: 2 | DK22: 462 | DL22: 4 | DM22: 471 | DN22: 5 | DO22: 156 | DP22: 0 | DQ22: 332 | DR22: 0 | DS22: 424 | DU22: 406 | DV22: 6 | DW22: 501 | DX22: 15
A23: 112075 | B23: Concordia University-Irvine | C23: 37 | E23: 53 | F23: 2 | G23: 74 | H23: 2 | I23: 69 | K23: 78 | M23: 121 | N23: 1 | O23: 99 | P23: 2 | Q23: 124 | S23: 2 | U23: 1 | Y23: 31 | AI23: 9 | AK23: 12 | AL23: 1 | AM23: 13 | AN23: 1 | AO23: 14 | AP23: 2 | AQ23: 17 | AS23: 17 | AU23: 9 | AW23: 7 | AY23: 10 | BC23: 12 | BD23: 1 | BE23: 10 | BG23: 6 | BI23: 17 | BJ23: 1 | BK23: 16 | BM23: 15 | BW23: 48 | BY23: 49 | CA23: 69 | CC23: 97 | CM23: 1 | CO23: 0 | CQ23: 0 | CS23: 0 | CU23: 16 | CW23: 16 | CX23: 1 | CY23: 10 | CZ23: 1 | DA23: 6 | DB23: 2 | DC23: 6 | DE23: 3 | DG23: 8 | DI23: 5 | DK23: 236 | DM23: 285 | DN23: 13 | DO23: 312 | DP23: 13 | DQ23: 299 | DR23: 5 | DS23: 352 | DU23: 429 | DV23: 7 | DW23: 506 | DX23: 3
A24: 210331 | B24: Corban University | C24: 45 | E24: 49 | G24: 44 | I24: 34 | K24: 50 | M24: 50 | O24: 30 | Q24: 42 | S24: 24 | U24: 23 | W24: 25 | Y24: 36 | AA24: 18 | AC24: 31 | AE24: 34 | AG24: 35 | AM24: 2 | AO24: 18 | AQ24: 13 | AS24: 8 | AU24: 16 | AW24: 14 | BC24: 5 | CY24: 0 | DK24: 173 | DM24: 186 | DO24: 152 | DQ24: 191 | DS24: 201 | DU24: 221 | DW24: 202
A25: 170037 | B25: Cornerstone University | C25: 160 | D25: 2 | E25: 175 | F25: 13 | G25: 193 | I25: 158 | K25: 200 | M25: 218 | O25: 214 | Q25: 208 | S25: 36 | U25: 78 | V25: 1 | W25: 66 | Y25: 74 | AA25: 60 | AC25: 43 | AE25: 38 | AG25: 37 | AI25: 30 | AJ25: 1 | AK25: 10 | AM25: 11 | AO25: 8 | AQ25: 7 | AS25: 5 | AU25: 5 | AW25: 2 | AY25: 2 | AZ25: 2 | BA25: 3 | BB25: 1 | BC25: 3 | BE25: 6 | BG25: 5 | BI25: 3 | BK25: 8 | BM25: 2 | CE25: 3 | CF25: 1 | CG25: 2 | CI25: 3 | CK25: 1 | CM25: 4 | CO25: 1 | DK25: 333 | DL25: 22 | DM25: 371 | DN25: 36 | DO25: 357 | DQ25: 366 | DS25: 386 | DU25: 377 | DW25: 461
A26: 139393 | B26: Covenant College | C26: 203 | E26: 238 | G26: 161 | I26: 168 | K26: 140 | L26: 1 | M26: 33 | N26: 0 | O26: 24 | P26: 0 | Q26: 17 | R26: 1 | S26: 17 | U26: 22 | W26: 39 | Y26: 45 | AA26: 59 | AC26: 41 | AD26: 0 | AE26: 41 | AF26: 0 | AG26: 25 | AI26: 17 | AK26: 17 | AL26: 2 | AM26: 24 | AN26: 0 | AO26: 16 | AP26: 0 | AQ26: 23 | AR26: 1 | AS26: 13 | AT26: 0 | AU26: 20 | AV26: 3 | AW26: 33 | AX26: 0 | AY26: 13 | BA26: 23 | BB26: 6 | BC26: 11 | BD26: 3 | BE26: 16 | BF26: 1 | BG26: 24 | BH26: 0 | BI26: 10 | BJ26: 0 | BK26: 13 | BL26: 0 | BM26: 14 | BN26: 1 | CE26: 13 | CG26: 15 | CH26: 4 | CI26: 11 | CJ26: 2 | CK26: 5 | CL26: 1 | CM26: 13 | CN26: 0 | CO26: 9 | CP26: 0 | CQ26: 9 | CR26: 4 | CS26: 9 | CT26: 0 | DK26: 355 | DM26: 402 | DN26: 20 | DO26: 341 | DP26: 9 | DQ26: 347 | DR26: 4 | DS26: 376 | DT26: 8 | DU26: 224 | DV26: 14 | DW26: 243 | DX26: 10
A27: 174862 | B27: Crown College | C27: 34 | E27: 20 | G27: 27 | H27: 1 | I27: 33 | J27: 1 | K27: 33 | L27: 1 | M27: 31 | N27: 0 | O27: 16 | P27: 0 | Q27: 23 | R27: 0 | S27: 29 | T27: 1 | U27: 40 | V27: 0 | W27: 38 | X27: 0 | Y27: 36 | Z27: 0 | AA27: 50 | AB27: 1 | AC27: 26 | AD27: 0 | AE27: 27 | AF27: 0 | AG27: 28 | AH27: 0 | AI27: 3 | AK27: 2 | AM27: 4 | AO27: 1 | AQ27: 1 | AR27: 0 | AS27: 1 | AT27: 0 | AU27: 2 | AV27: 0 | AW27: 3 | AX27: 1 | AY27: 2 | BA27: 4 | BC27: 0 | BE27: 0 | BG27: 0 | BI27: 2 | BK27: 2 | BM27: 2 | BU27: 8 | BW27: 28 | BY27: 28 | CA27: 28 | CC27: 25 | CU27: 7 | CV27: 26 | CW27: 1 | CX27: 0 | CY27: 2 | CZ27: 0 | DA27: 6 | DB27: 0 | DC27: 4 | DD27: 0 | DE27: 3 | DF27: 0 | DG27: 5 | DH27: 0 | DI27: 3 | DJ27: 0 | DK27: 143 | DL27: 31 | DM27: 119 | DN27: 0 | DO27: 191 | DP27: 43 | DQ27: 203 | DR27: 3 | DS27: 226 | DT27: 3 | DU27: 207 | DV27: 0 | DW27: 197 | DX27: 82
A28: 224226 | B28: Dallas Baptist University | C28: 348 | D28: 7 | E28: 309 | F28: 7 | G28: 282 | H28: 14 | I28: 260 | J28: 6 | K28: 269 | L28: 7 | M28: 194 | N28: 6 | O28: 205 | P28: 2 | Q28: 199 | R28: 5 | S28: 23 | U28: 31 | W28: 43 | Y28: 39 | Z28: 1 | AA28: 24 | AB28: 0 | AC28: 24 | AD28: 0 | AE28: 26 | AF28: 0 | AG28: 27 | AI28: 14 | AJ28: 2 | AK28: 18 | AL28: 1 | AM28: 11 | AO28: 21 | AP28: 0 | AQ28: 17 | AR28: 3 | AS28: 5 | AT28: 1 | AU28: 8 | AV28: 0 | AW28: 9 | AY28: 9 | AZ28: 2 | BA28: 4 | BB28: 2 | BC28: 11 | BD28: 2 | BE28: 9 | BF28: 1 | BG28: 11 | BH28: 1 | BI28: 12 | BJ28: 1 | BK28: 12 | BL28: 0 | BM28: 6 | BN28: 1 | CE28: 2 | CG28: 3 | CI28: 4 | CK28: 6 | CL28: 0 | CM28: 6 | CN28: 3 | CO28: 1 | CP28: 0 | CQ28: 1 | CR28: 2 | CS28: 3 | CT28: 0 | DK28: 779 | DL28: 23 | DM28: 777 | DN28: 38 | DO28: 771 | DP28: 38 | DQ28: 811 | DR28: 27 | DS28: 858 | DT28: 36 | DU28: 697 | DV28: 32 | DW28: 728 | DX28: 26
A29: 153250 | B29: Dordt College | C29: 61 | D29: 15 | E29: 49 | F29: 11 | G29: 34 | H29: 5 | I29: 60 | J29: 11 | K29: 54 | L29: 10 | M29: 39 | N29: 7 | O29: 24 | P29: 3 | Q29: 56 | R29: 7 | S29: 53 | T29: 8 | U29: 58 | V29: 10 | W29: 46 | X29: 2 | Y29: 32 | AA29: 55 | AB29: 9 | AC29: 53 | AD29: 4 | AE29: 63 | AF29: 12 | AG29: 52 | AH29: 12 | AI29: 12 | AJ29: 1 | AK29: 8 | AM29: 10 | AO29: 13 | AQ29: 11 | AR29: 4 | AS29: 4 | AT29: 4 | AU29: 4 | AV29: 4 | AW29: 1 | AX29: 3 | AY29: 9 | BA29: 6 | BC29: 5 | BD29: 1 | BE29: 8 | BG29: 3 | BH29: 2 | BI29: 5 | BJ29: 2 | BK29: 8 | BL29: 8 | BM29: 1 | BN29: 2 | BS29: 0 | BU29: 10 | BW29: 10 | BY29: 19 | CA29: 27 | CC29: 18 | CE29: 2 | CF29: 1 | CG29: 2 | CH29: 1 | CI29: 1 | CK29: 2 | CM29: 0 | CO29: 1 | CQ29: 1 | CS29: 0 | CU29: 6 | CV29: 1 | CW29: 11 | CX29: 1 | CY29: 2 | CZ29: 2 | DA29: 10 | DB29: 1 | DC29: 6 | DE29: 0 | DG29: 0 | DI29: 1 | DK29: 291 | DL29: 53 | DM29: 257 | DN29: 38 | DO29: 205 | DP29: 28 | DQ29: 263 | DR29: 25 | DS29: 265 | DT29: 43 | DU29: 284 | DV29: 32 | DW29: 299 | DX29: 40
A30: 224527 | B30: East Texas Baptist University | C30: 38 | E30: 32 | G30: 24 | I30: 36 | K30: 26 | M30: 23 | N30: 1 | O30: 27 | Q30: 26 | S30: 75 | U30: 42 | W30: 56 | Y30: 58 | AA30: 40 | AC30: 47 | AE30: 34 | AG30: 38 | AI30: 15 | AJ30: 3 | AK30: 9 | AM30: 12 | AO30: 11 | AP30: 0 | AQ30: 6 | AR30: 1 | AS30: 4 | AT30: 1 | AU30: 7 | AW30: 7 | AY30: 1 | BA30: 0 | BB30: 1 | BC30: 4 | BE30: 3 | BF30: 1 | BG30: 5 | BH30: 1 | BI30: 2 | BK30: 0 | BM30: 0 | BO30: 17 | BQ30: 22 | BS30: 19 | BU30: 27 | BW30: 12 | BY30: 25 | CA30: 13 | CC30: 12 | CE30: 11 | CF30: 1 | CG30: 11 | CH30: 3 | CI30: 6 | CJ30: 1 | CK30: 5 | CL30: 0 | CM30: 6 | CO30: 3 | CQ30: 2 | CS30: 0 | CT30: 1 | CU30: 5 | CW30: 5 | CY30: 1 | DA30: 0 | DK30: 226 | DL30: 4 | DM30: 207 | DN30: 8 | DO30: 221 | DP30: 1 | DQ30: 258 | DR30: 3 | DS30: 195 | DT30: 3 | DU30: 207 | DV30: 9 | DW30: 175 | DX30: 3
A31: 232043 | B31: Eastern Mennonite University | C31: 76 | D31: 2 | E31: 65 | F31: 2 | G31: 79 | H31: 1 | I31: 59 | J31: 3 | K31: 55 | L31: 5 | M31: 43 | N31: 1 | O31: 40 | P31: 3 | Q31: 31 | R31: 1 | S31: 4 | U31: 2 | W31: 3 | Y31: 2 | AA31: 2 | AC31: 7 | AE31: 7 | AG31: 1 | AI31: 8 | AK31: 5 | AL31: 2 | AM31: 5 | AN31: 1 | AO31: 6 | AP31: 0 | AQ31: 5 | AR31: 0 | AS31: 3 | AT31: 0 | AU31: 2 | AV31: 0 | AW31: 9 | AX31: 3 | AY31: 2 | AZ31: 1 | BA31: 4 | BB31: 1 | BC31: 9 | BD31: 1 | BE31: 4 | BF31: 0 | BG31: 4 | BH31: 1 | BI31: 7 | BJ31: 3 | BK31: 6 | BL31: 1 | BM31: 6 | BN31: 0 | BO31: 33 | BQ31: 42 | BR31: 0 | BS31: 51 | BT31: 1 | BU31: 79 | BV31: 0 | BW31: 88 | BX31: 0 | BY31: 84 | BZ31: 0 | CA31: 119 | CB31: 0 | CC31: 134 | CD31: 0 | CE31: 2 | CF31: 1 | CG31: 0 | CH31: 3 | CI31: 1 | CJ31: 0 | CK31: 0 | CL31: 1 | CM31: 0 | CN31: 0 | CO31: 2 | CP31: 0 | CQ31: 2 | CR31: 0 | CS31: 1 | CT31: 0 | CU31: 4 | CV31: 1 | CW31: 4 | CX31: 0 | DK31: 269 | DL31: 18 | DM31: 264 | DN31: 26 | DO31: 303 | DP31: 26 | DQ31: 279 | DR31: 12 | DS31: 265 | DT31: 25 | DU31: 279 | DV31: 22 | DW31: 294 | DX31: 19
A32: 165644 | B32: Eastern Nazarene College | C32: 118 | E32: 108 | F32: 1 | G32: 102 | H32: 0 | I32: 24 | J32: 0 | K32: 71 | L32: 0 | M32: 81 | N32: 1 | O32: 65 | P32: 1 | Q32: 84 | R32: 3 | S32: 10 | T32: 5 | U32: 10 | V32: 3 | W32: 21 | X32: 0 | Y32: 31 | Z32: 0 | AA32: 23 | AB32: 0 | AC32: 18 | AD32: 3 | AE32: 16 | AF32: 1 | AG32: 49 | AH32: 6 | AI32: 5 | AK32: 6 | AL32: 1 | AM32: 14 | AN32: 0 | AO32: 7 | AP32: 0 | AQ32: 4 | AR32: 0 | AS32: 2 | AT32: 0 | AU32: 2 | AV32: 3 | AW32: 9 | AX32: 0 | AY32: 6 | BA32: 7 | BB32: 1 | BC32: 7 | BD32: 0 | BE32: 5 | BF32: 0 | BG32: 3 | BH32: 0 | BI32: 1 | BJ32: 0 | BK32: 3 | BL32: 0 | BM32: 4 | BN32: 0 | CE32: 2 | CG32: 11 | CI32: 9 | CK32: 5 | CM32: 9 | CO32: 6 | CQ32: 9 | CR32: 1 | CS32: 8 | CT32: 1 | DK32: 200 | DL32: 14 | DM32: 214 | DN32: 18 | DO32: 240 | DP32: 0 | DQ32: 155 | DR32: 0 | DS32: 195 | DT32: 0 | DU32: 179 | DV32: 18 | DW32: 234 | DX32: 26
A33: 212133 | B33: Eastern University | C33: 222 | E33: 277 | G33: 206 | I33: 140 | K33: 164 | M33: 136 | O33: 151 | Q33: 130 | S33: 48 | U33: 51 | W33: 50 | Y33: 63 | AA33: 74 | AC33: 90 | AE33: 131 | AG33: 98 | AI33: 26 | AK33: 23 | AM33: 25 | AO33: 23 | AQ33: 16 | AS33: 17 | AU33: 22 | AW33: 18 | AY33: 13 | BA33: 7 | BC33: 8 | BE33: 13 | BG33: 12 | BI33: 13 | BK33: 8 | BM33: 6 | BO33: 27 | BQ33: 33 | BS33: 55 | BU33: 81 | BW33: 56 | BY33: 62 | CA33: 98 | CC33: 56 | CE33: 1 | CG33: 4 | CI33: 4 | CK33: 4 | CM33: 4 | CO33: 6 | CQ33: 12 | CS33: 5 | CU33: 7 | CW33: 11 | CY33: 6 | DA33: 11 | DC33: 5 | DE33: 4 | DG33: 8 | DI33: 5 | DK33: 477 | DM33: 632 | DO33: 539 | DQ33: 537 | DS33: 517 | DU33: 522 | DW33: 497
A34: 139630 | B34: Emmanuel College | C34: 20 | E34: 20 | G34: 16 | I34: 20 | K34: 16 | M34: 17 | O34: 14 | Q34: 11 | S34: 33 | U34: 35 | W34: 40 | Y34: 22 | AA34: 43 | AC34: 34 | AE34: 18 | AG34: 17 | AI34: 1 | AK34: 2 | AM34: 2 | AO34: 4 | AQ34: 2 | AS34: 4 | AU34: 1 | AW34: 3 | AY34: 2 | BA34: 0 | BC34: 1 | BE34: 5 | BG34: 2 | BI34: 1 | BK34: 3 | BM34: 4 | CE34: 20 | DK34: 132 | DM34: 115 | DO34: 115 | DQ34: 105 | DS34: 117 | DU34: 121 | DW34: 111
A35: 217998 | B35: Erskine College | C35: 24 | D35: 1 | E35: 33 | G35: 24 | I35: 20 | K35: 27 | L35: 1 | M35: 18 | N35: 1 | O35: 15 | P35: 2 | Q35: 20 | R35: 2 | S35: 21 | U35: 20 | W35: 12 | X35: 1 | Y35: 16 | AA35: 17 | AB35: 2 | AC35: 8 | AD35: 1 | AE35: 16 | AF35: 2 | AG35: 9 | AH35: 0 | AI35: 4 | AJ35: 1 | AK35: 1 | AM35: 2 | AO35: 9 | AP35: 2 | AQ35: 4 | AR35: 2 | AS35: 1 | AT35: 2 | AU35: 7 | AV35: 1 | AW35: 3 | AX35: 0 | AY35: 3 | AZ35: 2 | BA35: 1 | BC35: 6 | BD35: 1 | BE35: 5 | BF35: 1 | BG35: 8 | BH35: 1 | BI35: 3 | BJ35: 1 | BK35: 8 | BL35: 3 | BM35: 4 | BN35: 0 | CE35: 5 | CF35: 2 | CG35: 7 | CH35: 4 | CI35: 9 | CJ35: 5 | CK35: 10 | CL35: 2 | CM35: 4 | CN35: 1 | CO35: 2 | CP35: 1 | CQ35: 2 | CR35: 1 | CS35: 5 | CT35: 0 | DK35: 115 | DL35: 15 | DM35: 99 | DN35: 5 | DO35: 104 | DP35: 15 | DQ35: 117 | DR35: 18 | DS35: 130 | DT35: 11 | DU35: 96 | DV35: 16 | DW35: 104 | DX35: 8
A36: 177339 | B36: Evangel University | C36: 99 | E36: 28 | G36: 52 | I36: 57 | K36: 78 | M36: 85 | N36: 10 | O36: 81 | P36: 10 | Q36: 68 | R36: 4 | S36: 71 | U36: 84 | W36: 71 | Y36: 67 | AA36: 47 | AC36: 50 | AD36: 6 | AE36: 58 | AF36: 9 | AG36: 63 | AH36: 13 | AI36: 7 | AK36: 0 | AM36: 7 | AO36: 6 | AQ36: 4 | AS36: 6 | AT36: 2 | AU36: 7 | AV36: 2 | AW36: 5 | AX36: 1 | AY36: 6 | BA36: 9 | BC36: 5 | BE36: 8 | BG36: 4 | BI36: 3 | BJ36: 2 | BK36: 8 | BL36: 0 | BM36: 3 | BN36: 0 | BW36: 16 | BY36: 6 | CA36: 9 | CC36: 9 | CE36: 33 | CG36: 33 | CI36: 28 | CK36: 38 | CM36: 14 | CO36: 17 | CQ36: 21 | CR36: 2 | CS36: 18 | CT36: 1 | DK36: 378 | DM36: 286 | DO36: 352 | DQ36: 324 | DS36: 346 | DU36: 373 | DV36: 35 | DW36: 386 | DX36: 30
A37: 101189 | B37: Faulkner University | C37: 447 | E37: 515 | G37: 452 | I37: 448 | K37: 518 | M37: 362 | O37: 380 | Q37: 341 | S37: 9 | U37: 7 | W37: 14 | Y37: 23 | AA37: 13 | AC37: 16 | AE37: 18 | AG37: 18 | AI37: 4 | AK37: 2 | AM37: 0 | AO37: 5 | AQ37: 4 | AS37: 10 | AU37: 3 | AW37: 7 | BA37: 3 | BC37: 5 | BE37: 2 | BG37: 3 | BI37: 4 | BK37: 4 | BM37: 1 | DK37: 582 | DM37: 659 | DO37: 622 | DQ37: 591 | DS37: 649 | DU37: 570 | DV37: 5 | DW37: 508 | DX37: 2
A38: 114813 | B38: Fresno Pacific University | C38: 112 | D38: 3 | E38: 99 | F38: 11 | G38: 98 | H38: 3 | I38: 155 | J38: 6 | K38: 142 | L38: 7 | M38: 192 | N38: 4 | O38: 224 | Q38: 121 | S38: 100 | T38: 1 | U38: 118 | V38: 0 | W38: 140 | X38: 0 | Y38: 140 | Z38: 3 | AA38: 115 | AB38: 2 | AC38: 184 | AD38: 1 | AE38: 142 | AG38: 16 | AI38: 9 | AK38: 7 | AL38: 1 | AM38: 11 | AN38: 3 | AO38: 5 | AP38: 0 | AQ38: 10 | AR38: 0 | AS38: 4 | AT38: 1 | AU38: 1 | AW38: 0 | AY38: 2 | AZ38: 1 | BA38: 4 | BB38: 0 | BC38: 5 | BD38: 1 | BE38: 3 | BF38: 2 | BG38: 8 | BH38: 2 | BI38: 8 | BJ38: 1 | BK38: 17 | BM38: 6 | BY38: 14 | CA38: 33 | CC38: 31 | CG38: 0 | CH38: 0 | CI38: 3 | CJ38: 2 | CK38: 3 | CL38: 1 | CM38: 1 | CN38: 0 | CO38: 0 | CP38: 0 | CQ38: 1 | CS38: 1 | DK38: 283 | DL38: 11 | DM38: 308 | DN38: 23 | DO38: 363 | DP38: 23 | DQ38: 448 | DR38: 19 | DS38: 491 | DT38: 21 | DU38: 747 | DV38: 24 | DW38: 595
A39: 212656 | B39: Geneva College | C39: 188 | D39: 3 | E39: 139 | F39: 1 | G39: 143 | H39: 1 | I39: 139 | J39: 2 | K39: 129 | L39: 5 | M39: 104 | N39: 4 | O39: 106 | P39: 8 | Q39: 109 | R39: 5 | S39: 52 | U39: 90 | W39: 38 | X39: 9 | Y39: 37 | Z39: 18 | AA39: 32 | AB39: 17 | AC39: 42 | AD39: 23 | AE39: 40 | AF39: 21 | AG39: 44 | AI39: 12 | AJ39: 1 | AK39: 14 | AL39: 3 | AM39: 16 | AN39: 1 | AO39: 17 | AP39: 0 | AQ39: 13 | AR39: 0 | AS39: 15 | AT39: 0 | AU39: 16 | AV39: 2 | AW39: 19 | AX39: 0 | AY39: 3 | BA39: 6 | BC39: 11 | BD39: 2 | BE39: 8 | BF39: 0 | BG39: 11 | BH39: 0 | BI39: 12 | BJ39: 1 | BK39: 9 | BL39: 0 | BM39: 13 | BN39: 1 | CE39: 4 | CF39: 1 | CG39: 5 | CH39: 3 | CI39: 3 | CJ39: 0 | CK39: 1 | CL39: 0 | CM39: 1 | CN39: 1 | CO39: 1 | CP39: 0 | CQ39: 3 | CR39: 0 | CS39: 1 | CT39: 2 | DK39: 454 | DL39: 32 | DM39: 424 | DN39: 8 | DO39: 381 | DP39: 23 | DQ39: 424 | DR39: 28 | DS39: 383 | DT39: 28 | DU39: 439 | DV39: 39 | DW39: 443 | DX39: 16
A40: 165936 | B40: Gordon College | C40: 37 | D40: 10 | E40: 35 | F40: 11 | G40: 30 | H40: 9 | I40: 26 | J40: 13 | K40: 39 | L40: 14 | M40: 39 | N40: 12 | O40: 28 | P40: 8 | Q40: 34 | R40: 16 | S40: 6 | T40: 24 | U40: 13 | V40: 31 | W40: 4 | X40: 38 | Y40: 6 | Z40: 30 | AA40: 5 | AB40: 34 | AC40: 8 | AD40: 29 | AE40: 24 | AF40: 21 | AG40: 20 | AH40: 5 | AI40: 44 | AK40: 48 | AL40: 6 | AM40: 45 | AN40: 0 | AO40: 36 | AP40: 8 | AQ40: 43 | AR40: 1 | AS40: 20 | AT40: 1 | AU40: 25 | AV40: 3 | AW40: 20 | AX40: 5 | AY40: 28 | AZ40: 1 | BA40: 27 | BB40: 2 | BC40: 19 | BD40: 14 | BE40: 18 | BF40: 0 | BG40: 27 | BH40: 3 | BI40: 24 | BJ40: 3 | BK40: 13 | BL40: 7 | BM40: 9 | BN40: 4 | CE40: 24 | CF40: 6 | CG40: 28 | CH40: 9 | CI40: 30 | CJ40: 14 | CK40: 22 | CL40: 10 | CM40: 21 | CN40: 17 | CO40: 19 | CP40: 4 | CQ40: 10 | CR40: 12 | CS40: 15 | CT40: 8 | DA40: 1 | DB40: 0 | DK40: 334 | DL40: 73 | DM40: 388 | DN40: 95 | DO40: 374 | DP40: 113 | DQ40: 325 | DR40: 83 | DS40: 346 | DT40: 105 | DU40: 339 | DV40: 82 | DW40: 305 | DX40: 73
A41: 150668 | B41: Goshen College | C41: 43 | E41: 40 | F41: 1 | G41: 51 | H41: 0 | I41: 38 | J41: 3 | K41: 45 | L41: 1 | M41: 27 | N41: 0 | O41: 49 | P41: 1 | Q41: 36 | R41: 0 | S41: 23 | U41: 19 | V41: 0 | W41: 23 | X41: 0 | Y41: 23 | Z41: 0 | AA41: 19 | AB41: 0 | AC41: 14 | AD41: 0 | AE41: 22 | AF41: 3 | AG41: 22 | AH41: 1 | AI41: 20 | AK41: 7 | AL41: 2 | AM41: 8 | AN41: 1 | AO41: 4 | AP41: 0 | AQ41: 4 | AR41: 3 | AS41: 7 | AT41: 5 | AU41: 10 | AV41: 0 | AW41: 8 | AX41: 0 | AY41: 9 | BA41: 13 | BB41: 1 | BC41: 11 | BD41: 3 | BE41: 6 | BF41: 2 | BG41: 11 | BH41: 2 | BI41: 14 | BJ41: 1 | BK41: 7 | BL41: 2 | BM41: 6 | BN41: 0 | BO41: 11 | BQ41: 15 | BR41: 2 | BS41: 48 | BT41: 0 | BU41: 57 | BV41: 0 | BW41: 53 | BX41: 0 | BY41: 45 | BZ41: 0 | CA41: 53 | CB41: 0 | CC41: 51 | CD41: 0 | CE41: 6 | CG41: 4 | CH41: 3 | CI41: 5 | CJ41: 0 | CK41: 10 | CL41: 4 | CM41: 8 | CN41: 2 | CO41: 6 | CP41: 1 | CQ41: 7 | CR41: 5 | CS41: 0 | CT41: 0 | DK41: 234 | DM41: 223 | DN41: 22 | DO41: 240 | DP41: 15 | DQ41: 237 | DR41: 20 | DS41: 260 | DT41: 26 | DU41: 209 | DV41: 22 | DW41: 212 | DX41: 15
A42: 150677 | B42: Grace College and Theological Seminary | C42: 39 | E42: 49 | G42: 31 | I42: 70 | K42: 103 | M42: 148 | O42: 74 | Q42: 97 | S42: 52 | U42: 38 | W42: 42 | Y42: 29 | AA42: 48 | AC42: 60 | AE42: 57 | AG42: 49 | AI42: 5 | AK42: 4 | AM42: 2 | AO42: 3 | AQ42: 7 | AS42: 2 | AU42: 10 | AW42: 4 | BE42: 3 | BG42: 2 | BI42: 6 | BK42: 4 | BM42: 4 | DK42: 236 | DM42: 217 | DO42: 158 | DQ42: 193 | DS42: 276 | DU42: 353 | DW42: 328
A43: 145372 | B43: Greenville College | C43: 134 | D43: 2 | E43: 162 | F43: 0 | G43: 137 | H43: 2 | I43: 116 | J43: 12 | K43: 126 | L43: 2 | M43: 119 | N43: 7 | O43: 80 | P43: 3 | Q43: 82 | R43: 2 | S43: 55 | T43: 2 | U43: 54 | V43: 6 | W43: 29 | X43: 2 | Y43: 91 | Z43: 6 | AA43: 112 | AB43: 10 | AC43: 83 | AD43: 5 | AE43: 56 | AF43: 1 | AG43: 45 | AH43: 2 | AI43: 5 | AJ43: 1 | AK43: 10 | AL43: 0 | AM43: 7 | AN43: 3 | AO43: 5 | AP43: 1 | AQ43: 5 | AR43: 2 | AS43: 10 | AT43: 1 | AU43: 6 | AV43: 1 | AW43: 7 | AX43: 3 | BC43: 4 | BD43: 4 | BE43: 7 | BF43: 2 | BG43: 3 | BH43: 0 | BI43: 9 | BJ43: 0 | BK43: 4 | BL43: 4 | BM43: 7 | BN43: 0 | CE43: 3 | CF43: 1 | CG43: 5 | CH43: 2 | CI43: 8 | CJ43: 1 | CK43: 8 | CL43: 0 | CM43: 10 | CN43: 1 | CO43: 7 | CP43: 9 | CQ43: 3 | CR43: 0 | CS43: 7 | CT43: 4 | DK43: 295 | DL43: 21 | DM43: 338 | DN43: 26 | DO43: 285 | DP43: 31 | DQ43: 357 | DR43: 40 | DS43: 381 | DT43: 34 | DU43: 369 | DV43: 44 | DW43: 295 | DX43: 29
A44: 225247 | B44: Hardin-Simmons University | C44: 54 | D44: 7 | E44: 42 | F44: 2 | G44: 57 | H44: 14 | I44: 65 | J44: 10 | K44: 63 | L44: 8 | M44: 54 | N44: 7 | O44: 39 | P44: 8 | Q44: 39 | R44: 9 | S44: 61 | U44: 76 | W44: 49 | X44: 0 | Y44: 81 | Z44: 0 | AA44: 54 | AB44: 1 | AC44: 60 | AD44: 0 | AE44: 44 | AF44: 0 | AG44: 55 | AH44: 0 | AI44: 25 | AJ44: 1 | AK44: 18 | AL44: 2 | AM44: 14 | AN44: 0 | AO44: 14 | AP44: 3 | AQ44: 13 | AR44: 2 | AS44: 13 | AT44: 1 | AU44: 12 | AV44: 2 | AW44: 12 | AX44: 1 | AY44: 5 | AZ44: 1 | BA44: 8 | BB44: 0 | BC44: 5 | BD44: 1 | BE44: 6 | BF44: 1 | BG44: 9 | BH44: 1 | BI44: 12 | BJ44: 4 | BK44: 12 | BL44: 0 | BM44: 5 | BN44: 0 | BO44: 17 | BQ44: 19 | BS44: 21 | BU44: 31 | BW44: 19 | BY44: 19 | CA44: 15 | CB44: 0 | CC44: 36 | CD44: 0 | CF44: 3 | CG44: 1 | CH44: 0 | CI44: 0 | CJ44: 0 | CK44: 0 | CL44: 0 | CM44: 1 | CN44: 0 | CO44: 1 | CP44: 0 | CQ44: 3 | CR44: 1 | CS44: 3 | CT44: 0 | CU44: 3 | CW44: 4 | CY44: 2 | CZ44: 0 | DA44: 2 | DB44: 1 | DC44: 5 | DD44: 1 | DE44: 3 | DF44: 1 | DG44: 1 | DH44: 0 | DI44: 0 | DJ44: 0 | DK44: 360 | DL44: 26 | DM44: 343 | DN44: 17 | DO44: 333 | DP44: 24 | DQ44: 380 | DR44: 24 | DS44: 352 | DT44: 22 | DU44: 372 | DV44: 25 | DW44: 350 | DX44: 23
A45: 120537 | B45: Hope International University | C45: 23 | E45: 23 | G45: 29 | I45: 43 | K45: 31 | M45: 30 | O45: 27 | Q45: 36 | S45: 18 | U45: 17 | W45: 15 | Y45: 13 | AA45: 5 | AC45: 7 | AE45: 4 | AG45: 5 | AQ45: 1 | AR45: 0 | AS45: 0 | AT45: 0 | AU45: 4 | AV45: 0 | AW45: 7 | AX45: 0 | DK45: 194 | DM45: 202 | DO45: 195 | DQ45: 177 | DS45: 98 | DT45: 0 | DU45: 135 | DV45: 0 | DW45: 185 | DX45: 0
A46: 191676 | B46: Houghton College | C46: 87 | E46: 99 | F46: 2 | G46: 99 | H46: 7 | I46: 109 | J46: 7 | K46: 86 | L46: 9 | M46: 87 | N46: 6 | O46: 76 | P46: 10 | Q46: 73 | R46: 5 | S46: 57 | T46: 1 | U46: 40 | V46: 9 | W46: 49 | X46: 9 | Y46: 59 | Z46: 11 | AA46: 57 | AB46: 11 | AC46: 47 | AD46: 5 | AE46: 48 | AF46: 4 | AG46: 48 | AH46: 3 | AI46: 29 | AJ46: 8 | AK46: 30 | AL46: 10 | AM46: 32 | AN46: 9 | AO46: 19 | AP46: 6 | AQ46: 18 | AR46: 8 | AS46: 32 | AT46: 14 | AU46: 17 | AV46: 9 | AW46: 14 | AX46: 13 | AY46: 9 | AZ46: 1 | BA46: 8 | BC46: 5 | BD46: 1 | BE46: 9 | BF46: 1 | BG46: 10 | BH46: 0 | BI46: 9 | BJ46: 0 | BK46: 13 | BL46: 1 | BM46: 4 | BN46: 2 | CE46: 23 | CF46: 5 | CG46: 28 | CH46: 9 | CI46: 28 | CJ46: 10 | CK46: 12 | CL46: 4 | CM46: 22 | CN46: 11 | CO46: 0 | CP46: 1 | CQ46: 3 | CR46: 3 | CS46: 3 | CT46: 0 | DE46: 5 | DF46: 0 | DG46: 4 | DH46: 1 | DI46: 5 | DJ46: 2 | DK46: 335 | DL46: 35 | DM46: 350 | DN46: 62 | DO46: 347 | DP46: 76 | DQ46: 355 | DR46: 60 | DS46: 359 | DT46: 81 | DU46: 339 | DV46: 64 | DW46: 309 | DX46: 60
A47: 225399 | B47: Houston Baptist University | C47: 100 | D47: 84 | E47: 113 | F47: 106 | G47: 89 | H47: 78 | I47: 100 | J47: 85 | K47: 80 | L47: 68 | M47: 80 | N47: 25 | O47: 59 | P47: 10 | Q47: 64 | R47: 0 | S47: 53 | T47: 23 | U47: 32 | V47: 19 | W47: 20 | X47: 21 | Y47: 43 | Z47: 14 | AA47: 32 | AB47: 11 | AC47: 40 | AD47: 9 | AE47: 33 | AF47: 0 | AG47: 38 | AH47: 0 | AI47: 9 | AJ47: 8 | AK47: 11 | AL47: 8 | AM47: 11 | AN47: 9 | AO47: 3 | AP47: 5 | AQ47: 11 | AR47: 13 | AS47: 3 | AT47: 3 | AU47: 6 | AV47: 1 | AW47: 3 | AX47: 2 | AY47: 4 | AZ47: 3 | BA47: 4 | BB47: 8 | BC47: 6 | BD47: 5 | BE47: 6 | BF47: 4 | BG47: 9 | BH47: 6 | BI47: 6 | BJ47: 1 | BK47: 6 | BL47: 0 | BM47: 6 | BN47: 1 | BO47: 21 | BQ47: 0 | BS47: 18 | BU47: 23 | BW47: 23 | BY47: 36 | CA47: 59 | CC47: 78 | CE47: 34 | CF47: 10 | CG47: 33 | CH47: 3 | CI47: 27 | CJ47: 4 | CK47: 20 | CL47: 10 | CM47: 8 | CN47: 3 | CO47: 13 | CP47: 5 | CQ47: 20 | CR47: 6 | CS47: 10 | CT47: 0 | DK47: 354 | DL47: 297 | DM47: 334 | DN47: 300 | DO47: 289 | DP47: 247 | DQ47: 333 | DR47: 271 | DS47: 294 | DT47: 213 | DU47: 373 | DV47: 103 | DW47: 357 | DX47: 8
A48: 225548 | B48: Howard Payne University | C48: 23 | D48: 1 | E48: 39 | F48: 4 | G48: 30 | H48: 1 | I48: 35 | J48: 3 | K48: 36 | L48: 3 | M48: 33 | N48: 8 | O48: 29 | P48: 2 | Q48: 24 | R48: 0 | S48: 54 | U48: 45 | V48: 1 | W48: 48 | X48: 1 | Y48: 32 | Z48: 1 | AA48: 37 | AB48: 1 | AC48: 35 | AD48: 0 | AE48: 23 | AF48: 0 | AG48: 26 | AH48: 0 | AI48: 7 | AJ48: 1 | AK48: 8 | AL48: 0 | AM48: 11 | AN48: 1 | AO48: 2 | AP48: 4 | AQ48: 6 | AR48: 4 | AS48: 1 | AT48: 2 | AU48: 6 | AV48: 0 | AW48: 3 | AX48: 0 | AY48: 3 | AZ48: 1 | BA48: 3 | BB48: 0 | BC48: 1 | BD48: 1 | BE48: 0 | BF48: 0 | BG48: 2 | BH48: 0 | BI48: 1 | BJ48: 0 | BK48: 3 | BL48: 0 | BM48: 2 | BN48: 1 | CE48: 2 | CG48: 5 | CI48: 0 | CJ48: 2 | CK48: 0 | CL48: 0 | CM48: 0 | CN48: 1 | CO48: 0 | CP48: 0 | CQ48: 0 | CR48: 0 | CS48: 0 | CT48: 0 | CU48: 15 | CW48: 11 | CY48: 18 | DA48: 16 | DB48: 2 | DC48: 5 | DD48: 0 | DE48: 10 | DF48: 0 | DG48: 6 | DH48: 0 | DI48: 6 | DJ48: 0 | DK48: 216 | DL48: 13 | DM48: 232 | DN48: 18 | DO48: 238 | DP48: 13 | DQ48: 201 | DR48: 18 | DS48: 234 | DT48: 20 | DU48: 217 | DV48: 21 | DW48: 180 | DX48: 6
A49: 150941 | B49: Huntington University | C49: 38 | D49: 4 | E49: 34 | F49: 3 | G49: 40 | H49: 7 | I49: 45 | J49: 3 | K49: 41 | L49: 2 | M49: 60 | N49: 13 | O49: 49 | P49: 7 | Q49: 47 | R49: 26 | S49: 60 | T49: 1 | U49: 56 | V49: 2 | W49: 53 | X49: 0 | Y49: 39 | Z49: 2 | AA49: 25 | AB49: 6 | AC49: 27 | AD49: 3 | AE49: 36 | AF49: 7 | AG49: 33 | AH49: 2 | AI49: 8 | AJ49: 1 | AK49: 12 | AL49: 0 | AM49: 7 | AN49: 2 | AO49: 3 | AP49: 0 | AQ49: 4 | AR49: 2 | AS49: 5 | AT49: 2 | AU49: 3 | AV49: 0 | AW49: 4 | AX49: 0 | AY49: 1 | AZ49: 1 | BA49: 2 | BB49: 1 | BC49: 2 | BD49: 0 | BE49: 4 | BF49: 0 | BG49: 4 | BH49: 1 | BI49: 4 | BJ49: 1 | BK49: 10 | BL49: 1 | BM49: 4 | BN49: 3 | BY49: 17 | CA49: 21 | CC49: 17 | CD49: 0 | CG49: 3 | CH49: 0 | CI49: 3 | CJ49: 4 | CK49: 4 | CL49: 2 | CM49: 4 | CN49: 1 | CO49: 5 | CP49: 4 | CQ49: 1 | CR49: 2 | CS49: 1 | CT49: 1 | DK49: 199 | DL49: 12 | DM49: 177 | DN49: 12 | DO49: 189 | DP49: 18 | DQ49: 189 | DR49: 17 | DS49: 206 | DT49: 26 | DU49: 218 | DV49: 30 | DW49: 241 | DX49: 46
A50: 151801 | B50: Indiana Wesleyan University | C50: 748 | D50: 49 | E50: 878 | G50: 1055 | I50: 1277 | K50: 1461 | M50: 1252 | N50: 25 | O50: 1350 | P50: 32 | Q50: 1283 | R50: 24 | S50: 89 | T50: 2 | U50: 90 | W50: 100 | Y50: 93 | AA50: 93 | AC50: 108 | AD50: 28 | AE50: 96 | AF50: 23 | AG50: 86 | AH50: 28 | AI50: 9 | AJ50: 7 | AK50: 14 | AM50: 20 | AO50: 16 | AQ50: 12 | AS50: 13 | AT50: 11 | AU50: 15 | AV50: 9 | AW50: 9 | AX50: 7 | AY50: 3 | AZ50: 8 | BA50: 2 | BC50: 3 | BE50: 8 | BG50: 9 | BI50: 6 | BJ50: 4 | BK50: 4 | BL50: 3 | BM50: 4 | BN50: 1 | BO50: 176 | BQ50: 228 | BS50: 325 | BU50: 594 | BW50: 696 | BY50: 736 | CA50: 776 | CC50: 926 | CE50: 6 | CF50: 1 | CG50: 4 | CI50: 6 | CK50: 7 | CM50: 4 | CO50: 1 | CQ50: 0 | CS50: 0 | CU50: 19 | CW50: 28 | DK50: 1252 | DL50: 123 | DM50: 1476 | DO50: 1789 | DQ50: 2328 | DS50: 2662 | DU50: 2702 | DV50: 161 | DW50: 2904 | DX50: 130
A51: 107141 | B51: John Brown University | C51: 217 | E51: 231 | F51: 0 | G51: 272 | I51: 289 | K51: 241 | M51: 204 | O51: 234 | Q51: 224 | S51: 24 | U51: 31 | V51: 0 | W51: 29 | Y51: 33 | AA51: 34 | AC51: 43 | AE51: 48 | AG51: 28 | AI51: 5 | AK51: 5 | AL51: 0 | AM51: 8 | AO51: 3 | AQ51: 8 | AS51: 6 | AU51: 9 | AW51: 7 | AY51: 1 | BA51: 4 | BB51: 0 | BC51: 5 | BE51: 10 | BG51: 6 | BI51: 4 | BK51: 7 | BM51: 7 | CQ51: 1 | CS51: 2 | CU51: 2 | CW51: 4 | CX51: 0 | CY51: 5 | DA51: 8 | DC51: 6 | DE51: 8 | DG51: 2 | DI51: 6 | DK51: 384 | DM51: 442 | DN51: 0 | DO51: 523 | DQ51: 487 | DS51: 484 | DU51: 453 | DV51: 0 | DW51: 456 | DX51: 0
A52: 101541 | B52: Judson College | C52: 7 | E52: 8 | F52: 1 | G52: 4 | H52: 0 | I52: 4 | J52: 0 | K52: 5 | L52: 0 | M52: 7 | N52: 0 | O52: 4 | P52: 0 | Q52: 2 | R52: 0 | S52: 8 | U52: 5 | W52: 16 | Y52: 5 | AA52: 2 | AC52: 6 | AE52: 4 | AG52: 3 | AI52: 4 | AK52: 3 | AM52: 3 | AN52: 1 | AO52: 3 | AP52: 0 | AQ52: 3 | AR52: 0 | AS52: 3 | AT52: 2 | AU52: 4 | AV52: 1 | AW52: 4 | AX52: 0 | AY52: 2 | BA52: 4 | BC52: 0 | BD52: 1 | BE52: 5 | BF52: 0 | BG52: 2 | BH52: 0 | BI52: 2 | BJ52: 1 | BK52: 0 | BL52: 0 | BM52: 4 | BN52: 0 | CM52: 4 | CN52: 0 | CO52: 2 | CP52: 1 | CQ52: 1 | CR52: 2 | CS52: 2 | CT52: 1 | DK52: 50 | DL52: 5 | DM52: 49 | DN52: 12 | DO52: 56 | DP52: 9 | DQ52: 50 | DR52: 5 | DS52: 46 | DT52: 5 | DU52: 56 | DV52: 9 | DW52: 45 | DX52: 10
A53: 146339 | B53: Judson University | C53: 149 | D53: 6 | E53: 155 | F53: 4 | G53: 122 | H53: 20 | I53: 97 | J53: 13 | K53: 85 | L53: 8 | M53: 59 | N53: 5 | O53: 93 | P53: 7 | Q53: 71 | R53: 5 | S53: 35 | T53: 1 | U53: 27 | V53: 0 | W53: 45 | X53: 0 | Y53: 46 | Z53: 0 | AA53: 21 | AB53: 0 | AC53: 33 | AD53: 0 | AE53: 22 | AF53: 0 | AG53: 23 | AH53: 2 | AI53: 2 | AK53: 4 | AL53: 0 | AM53: 3 | AN53: 0 | AO53: 3 | AP53: 0 | AQ53: 2 | AR53: 0 | AS53: 3 | AT53: 0 | AU53: 0 | AV53: 0 | AW53: 3 | AX53: 0 | AY53: 2 | BA53: 3 | BB53: 0 | BC53: 3 | BD53: 1 | BE53: 5 | BF53: 0 | BG53: 3 | BH53: 0 | BI53: 2 | BJ53: 0 | BK53: 1 | BL53: 1 | BM53: 5 | BN53: 0 | DI53: 1 | DJ53: 0 | DK53: 329 | DL53: 10 | DM53: 384 | DN53: 9 | DO53: 347 | DP53: 28 | DQ53: 317 | DR53: 19 | DS53: 234 | DT53: 9 | DU53: 215 | DV53: 12 | DW53: 238 | DX53: 12
A54: 157100 | B54: Kentucky Christian University | C54: 9 | E54: 11 | F54: 0 | G54: 8 | H54: 0 | I54: 11 | J54: 0 | K54: 8 | L54: 0 | M54: 16 | N54: 0 | O54: 6 | P54: 0 | Q54: 4 | R54: 0 | S54: 23 | U54: 21 | V54: 0 | W54: 9 | X54: 0 | Y54: 24 | Z54: 0 | AA54: 9 | AB54: 0 | AC54: 19 | AD54: 0 | AE54: 10 | AF54: 0 | AG54: 7 | AH54: 0 | AK54: 0 | AL54: 0 | AM54: 2 | AN54: 0 | AY54: 5 | BA54: 1 | BB54: 0 | BC54: 3 | BD54: 0 | BE54: 3 | BF54: 0 | BG54: 4 | BH54: 0 | BI54: 4 | BJ54: 0 | BK54: 5 | BL54: 0 | BM54: 4 | BN54: 0 | BQ54: 0 | BR54: 0 | BS54: 11 | BT54: 0 | BU54: 14 | BV54: 0 | BW54: 11 | BX54: 0 | BY54: 7 | BZ54: 0 | CA54: 11 | CB54: 0 | CC54: 23 | CD54: 0 | DK54: 82 | DM54: 91 | DN54: 84 | DO54: 97 | DP54: 95 | DQ54: 107 | DR54: 104 | DS54: 76 | DT54: 75 | DU54: 103 | DV54: 101 | DW54: 80 | DX54: 61
A55: 220516 | B55: King University | C55: 18 | D55: 1 | E55: 41 | F55: 2 | G55: 32 | H55: 0 | I55: 122 | J55: 5 | K55: 136 | L55: 3 | M55: 199 | N55: 7 | O55: 238 | P55: 4 | Q55: 229 | R55: 1 | U55: 21 | W55: 0 | Y55: 9 | AA55: 11 | AC55: 13 | AD55: 0 | AE55: 10 | AF55: 0 | AG55: 18 | AH55: 0 | AI55: 6 | AK55: 8 | AL55: 0 | AM55: 12 | AN55: 0 | AO55: 8 | AP55: 0 | AQ55: 5 | AR55: 0 | AS55: 10 | AT55: 2 | AU55: 7 | AV55: 0 | AW55: 6 | AX55: 1 | AY55: 8 | BA55: 12 | BC55: 5 | BD55: 0 | BE55: 0 | BF55: 4 | BG55: 6 | BH55: 2 | BI55: 6 | BJ55: 2 | BK55: 5 | BL55: 5 | BM55: 5 | BN55: 2 | BO55: 13 | BQ55: 25 | BS55: 64 | BU55: 157 | BW55: 190 | BY55: 272 | CA55: 279 | CC55: 317 | CE55: 7 | CF55: 1 | CG55: 1 | CH55: 2 | CI55: 0 | CJ55: 0 | DK55: 115 | DL55: 8 | DM55: 152 | DN55: 10 | DO55: 167 | DP55: 10 | DQ55: 368 | DR55: 19 | DS55: 455 | DT55: 15 | DU55: 601 | DV55: 22 | DW55: 739 | DX55: 18
A56: 220613 | B56: Lee University | C56: 73 | D56: 10 | E56: 98 | F56: 7 | G56: 84 | H56: 11 | I56: 73 | J56: 8 | K56: 89 | L56: 6 | M56: 97 | N56: 7 | O56: 68 | P56: 7 | Q56: 70 | R56: 11 | S56: 148 | T56: 8 | U56: 126 | V56: 5 | W56: 133 | X56: 2 | Y56: 104 | Z56: 0 | AA56: 119 | AB56: 7 | AC56: 136 | AD56: 4 | AE56: 151 | AF56: 3 | AG56: 134 | AH56: 0 | AI56: 9 | AK56: 9 | AM56: 16 | AO56: 20 | AP56: 1 | AQ56: 18 | AR56: 1 | AS56: 25 | AT56: 2 | AU56: 26 | AV56: 3 | AW56: 20 | AX56: 4 | AY56: 27 | AZ56: 5 | BA56: 20 | BB56: 3 | BC56: 10 | BD56: 1 | BE56: 19 | BF56: 4 | BG56: 31 | BH56: 2 | BI56: 19 | BJ56: 1 | BK56: 27 | BL56: 4 | BM56: 20 | BN56: 4 | CM56: 1 | CO56: 8 | CQ56: 9 | CS56: 8 | CW56: 45 | CX56: 1 | CY56: 9 | CZ56: 0 | DA56: 0 | DB56: 0 | DC56: 2 | DD56: 0 | DE56: 2 | DF56: 0 | DG56: 1 | DH56: 0 | DI56: 0 | DJ56: 0 | DK56: 612 | DL56: 36 | DM56: 642 | DN56: 35 | DO56: 616 | DP56: 28 | DQ56: 577 | DR56: 23 | DS56: 635 | DT56: 35 | DU56: 717 | DV56: 36 | DW56: 738 | DX56: 31
A57: 226231 | B57: LeTourneau University | C57: 560 | D57: 4 | E57: 524 | F57: 4 | G57: 354 | H57: 2 | I57: 386 | J57: 2 | K57: 343 | L57: 6 | M57: 255 | N57: 3 | O57: 204 | P57: 2 | Q57: 188 | R57: 0 | S57: 13 | U57: 20 | W57: 21 | X57: 0 | Y57: 71 | Z57: 1 | AA57: 224 | AB57: 0 | AC57: 131 | AD57: 0 | AE57: 93 | AF57: 0 | AG57: 93 | AH57: 0 | AI57: 3 | AK57: 2 | AL57: 1 | AM57: 8 | AN57: 1 | AO57: 6 | AP57: 0 | AQ57: 2 | AR57: 0 | AS57: 2 | AT57: 0 | AU57: 3 | AV57: 0 | AW57: 3 | AX57: 0 | BA57: 0 | BB57: 1 | BC57: 4 | BD57: 3 | BE57: 5 | BF57: 2 | BG57: 4 | BH57: 2 | BI57: 5 | BJ57: 2 | BK57: 1 | BL57: 0 | BM57: 2 | BN57: 0 | DK57: 719 | DL57: 12 | DM57: 697 | DN57: 21 | DO57: 528 | DP57: 10 | DQ57: 637 | DR57: 11 | DS57: 798 | DT57: 16 | DU57: 624 | DV57: 11 | DW57: 570 | DX57: 2
A58: 219976 | B58: Lipscomb University | C58: 111 | E58: 122 | F58: 40 | G58: 123 | H58: 39 | I58: 101 | J58: 36 | K58: 92 | L58: 3 | M58: 122 | N58: 3 | O58: 114 | P58: 0 | Q58: 111 | R58: 2 | S58: 45 | U58: 50 | W58: 56 | Y58: 51 | AA58: 44 | AB58: 0 | AC58: 48 | AD58: 0 | AE58: 61 | AG58: 52 | AI58: 17 | AK58: 16 | AM58: 26 | AN58: 0 | AO58: 17 | AP58: 2 | AQ58: 22 | AR58: 0 | AS58: 22 | AT58: 0 | AU58: 17 | AV58: 0 | AW58: 20 | AX58: 0 | AY58: 7 | BA58: 8 | BB58: 1 | BC58: 11 | BD58: 2 | BE58: 5 | BF58: 0 | BG58: 11 | BH58: 0 | BI58: 7 | BJ58: 0 | BK58: 9 | BL58: 0 | BM58: 12 | BN58: 0 | BU58: 31 | BW58: 27 | BY58: 53 | CA58: 35 | CC58: 63 | CG58: 1 | CH58: 1 | CI58: 2 | CJ58: 0 | CK58: 1 | CL58: 0 | CM58: 2 | CN58: 0 | CO58: 0 | CP58: 0 | CQ58: 1 | CR58: 0 | CS58: 2 | CT58: 1 | DK58: 389 | DM58: 412 | DN58: 56 | DO58: 482 | DP58: 51 | DQ58: 443 | DR58: 47 | DS58: 462 | DT58: 25 | DU58: 564 | DV58: 6 | DW58: 615 | DX58: 16
A59: 159568 | B59: Louisiana College | C59: 21 | E59: 30 | F59: 0 | G59: 11 | H59: 1 | I59: 13 | J59: 0 | K59: 24 | L59: 1 | M59: 26 | N59: 0 | O59: 17 | P59: 1 | Q59: 17 | R59: 4 | S59: 12 | T59: 1 | U59: 27 | V59: 2 | W59: 15 | X59: 2 | Y59: 15 | Z59: 0 | AA59: 12 | AB59: 0 | AC59: 8 | AD59: 0 | AE59: 18 | AF59: 0 | AG59: 12 | AH59: 0 | AI59: 11 | AJ59: 2 | AK59: 11 | AL59: 1 | AM59: 6 | AN59: 2 | AO59: 4 | AP59: 0 | AQ59: 2 | AR59: 0 | AS59: 6 | AT59: 0 | AU59: 2 | AV59: 0 | AW59: 5 | AX59: 0 | AY59: 4 | AZ59: 1 | BA59: 9 | BB59: 3 | BC59: 9 | BD59: 2 | BE59: 3 | BF59: 1 | BG59: 2 | BH59: 0 | BI59: 2 | BJ59: 1 | BK59: 7 | BL59: 0 | BM59: 6 | BN59: 0 | BO59: 13 | BQ59: 13 | BS59: 11 | BU59: 28 | BW59: 22 | BY59: 27 | CA59: 30 | CC59: 30 | CE59: 1 | CG59: 0 | CI59: 1 | CK59: 2 | CM59: 3 | CO59: 8 | CP59: 1 | CQ59: 4 | CR59: 1 | CS59: 4 | CT59: 1 | CU59: 9 | CW59: 3 | CY59: 4 | DA59: 1 | DB59: 0 | DC59: 0 | DD59: 2 | DE59: 0 | DF59: 0 | DG59: 0 | DH59: 0 | DI59: 0 | DJ59: 0 | DK59: 183 | DL59: 16 | DM59: 198 | DN59: 10 | DO59: 153 | DP59: 17 | DQ59: 128 | DR59: 6 | DS59: 160 | DT59: 13 | DU59: 166 | DV59: 14 | DW59: 173 | DX59: 10
A60: 203775 | B60: Malone University | C60: 241 | D60: 11 | E60: 251 | F60: 8 | G60: 193 | H60: 6 | I60: 208 | J60: 10 | K60: 180 | L60: 10 | M60: 142 | N60: 8 | O60: 144 | P60: 17 | Q60: 118 | R60: 19 | S60: 81 | T60: 6 | U60: 91 | V60: 14 | W60: 67 | X60: 9 | Y60: 72 | Z60: 14 | AA60: 53 | AB60: 22 | AC60: 53 | AD60: 12 | AE60: 73 | AF60: 18 | AG60: 57 | AH60: 11 | AI60: 9 | AK60: 2 | AM60: 6 | AO60: 8 | AQ60: 7 | AR60: 0 | AS60: 7 | AT60: 0 | AU60: 8 | AV60: 0 | AW60: 9 | AX60: 0 | AY60: 3 | BA60: 3 | BC60: 4 | BD60: 1 | BE60: 7 | BF60: 0 | BG60: 4 | BH60: 1 | BI60: 4 | BJ60: 1 | BK60: 10 | BL60: 3 | BM60: 6 | BN60: 3 | BO60: 62 | BQ60: 41 | BS60: 80 | BU60: 91 | BW60: 72 | BY60: 70 | CA60: 87 | CC60: 68 | CM60: 2 | CO60: 1 | CP60: 2 | CQ60: 2 | CR60: 2 | CS60: 0 | CT60: 2 | DK60: 511 | DL60: 20 | DM60: 532 | DN60: 27 | DO60: 477 | DP60: 21 | DQ60: 541 | DR60: 33 | DS60: 470 | DT60: 39 | DU60: 436 | DV60: 29 | DW60: 427 | DX60: 51
A61: 213996 | B61: Messiah College | C61: 72 | E61: 79 | F61: 0 | G61: 83 | H61: 1 | I61: 63 | J61: 1 | K61: 84 | L61: 2 | M61: 89 | N61: 1 | O61: 80 | P61: 0 | Q61: 81 | R61: 1 | S61: 104 | T61: 3 | U61: 123 | V61: 0 | W61: 92 | X61: 1 | Y61: 96 | Z61: 1 | AA61: 85 | AB61: 0 | AC61: 93 | AD61: 0 | AE61: 117 | AF61: 0 | AG61: 102 | AH61: 0 | AI61: 17 | AK61: 26 | AL61: 2 | AM61: 30 | AN61: 2 | AO61: 30 | AP61: 2 | AQ61: 21 | AR61: 0 | AS61: 26 | AT61: 2 | AU61: 17 | AV61: 1 | AW61: 18 | AX61: 1 | AY61: 16 | AZ61: 1 | BA61: 13 | BB61: 1 | BC61: 14 | BD61: 0 | BE61: 15 | BF61: 0 | BG61: 12 | BH61: 0 | BI61: 14 | BJ61: 1 | BK61: 8 | BL61: 1 | BM61: 11 | BN61: 0 | BO61: 27 | BQ61: 34 | BR61: 0 | BS61: 38 | BT61: 0 | BU61: 32 | BV61: 0 | BW61: 52 | BX61: 0 | BY61: 54 | BZ61: 0 | CA61: 48 | CB61: 0 | CC61: 49 | CD61: 0 | CE61: 8 | CG61: 6 | CH61: 1 | CI61: 10 | CJ61: 2 | CK61: 7 | CL61: 0 | CM61: 3 | CN61: 1 | CO61: 6 | CP61: 1 | CQ61: 3 | CR61: 2 | CS61: 3 | CT61: 0 | DK61: 606 | DL61: 18 | DM61: 680 | DN61: 18 | DO61: 682 | DP61: 18 | DQ61: 617 | DR61: 10 | DS61: 636 | DT61: 13 | DU61: 635 | DV61: 18 | DW61: 652 | DX61: 23
A62: 155520 | B62: MidAmerica Nazarene University | C62: 187 | E62: 208 | F62: 0 | G62: 138 | H62: 8 | I62: 195 | J62: 0 | K62: 207 | M62: 139 | O62: 172 | Q62: 170 | S62: 45 | U62: 36 | V62: 0 | W62: 25 | Y62: 29 | Z62: 0 | AA62: 37 | AC62: 27 | AE62: 34 | AG62: 26 | AI62: 4 | AK62: 4 | AL62: 0 | AM62: 4 | AO62: 2 | AQ62: 4 | AS62: 2 | AU62: 6 | AW62: 2 | AY62: 4 | BA62: 5 | BB62: 0 | BC62: 4 | BE62: 3 | BF62: 0 | BG62: 6 | BI62: 4 | BK62: 6 | BM62: 3 | BO62: 19 | BQ62: 14 | BR62: 0 | BS62: 33 | BU62: 35 | BW62: 88 | BY62: 145 | CA62: 150 | CC62: 198 | CE62: 16 | CG62: 13 | CH62: 0 | CI62: 3 | CJ62: 1 | CK62: 14 | CL62: 0 | CM62: 11 | CO62: 0 | CQ62: 0 | CS62: 11 | DK62: 394 | DM62: 373 | DN62: 2 | DO62: 285 | DP62: 15 | DQ62: 346 | DR62: 0 | DS62: 420 | DU62: 402 | DW62: 501
A63: 221014 | B63: Milligan College | C63: 76 | D63: 4 | E63: 55 | F63: 7 | G63: 54 | H63: 5 | I63: 34 | J63: 2 | K63: 39 | L63: 4 | M63: 47 | N63: 6 | O63: 47 | P63: 1 | Q63: 38 | R63: 4 | S63: 18 | U63: 15 | V63: 0 | W63: 13 | Y63: 14 | AA63: 1 | AC63: 1 | AE63: 0 | AG63: 2 | AI63: 7 | AK63: 6 | AL63: 4 | AM63: 6 | AN63: 1 | AO63: 6 | AP63: 2 | AQ63: 8 | AS63: 14 | AU63: 4 | AW63: 4 | AY63: 7 | AZ63: 4 | BA63: 6 | BB63: 0 | BC63: 4 | BD63: 1 | BE63: 4 | BG63: 5 | BH63: 1 | BI63: 6 | BK63: 3 | BL63: 2 | BM63: 6 | BN63: 3 | BO63: 10 | BQ63: 9 | BS63: 9 | BU63: 28 | BW63: 24 | BY63: 25 | CA63: 57 | CC63: 54 | DK63: 213 | DL63: 21 | DM63: 179 | DN63: 14 | DO63: 168 | DP63: 14 | DQ63: 170 | DR63: 13 | DS63: 179 | DT63: 13 | DU63: 216 | DV63: 16 | DW63: 218 | DX63: 11
A64: 176053 | B64: Mississippi College | C64: 123 | E64: 95 | G64: 118 | I64: 130 | K64: 165 | L64: 0 | M64: 127 | O64: 125 | Q64: 120 | S64: 84 | U64: 99 | W64: 69 | Y64: 71 | AA64: 68 | AC64: 88 | AE64: 62 | AG64: 83 | AI64: 15 | AK64: 14 | AM64: 9 | AO64: 6 | AQ64: 27 | AR64: 0 | AS64: 17 | AU64: 11 | AW64: 11 | AY64: 22 | BA64: 20 | BC64: 11 | BE64: 18 | BG64: 16 | BH64: 0 | BI64: 19 | BK64: 11 | BM64: 10 | BO64: 51 | BQ64: 37 | BS64: 55 | BU64: 68 | BW64: 58 | BY64: 68 | CA64: 67 | CC64: 60 | CE64: 27 | CG64: 22 | CI64: 20 | CK64: 14 | CM64: 16 | CN64: 1 | CO64: 13 | CQ64: 15 | CS64: 19 | DK64: 577 | DM64: 498 | DO64: 509 | DQ64: 537 | DS64: 619 | DT64: 2 | DU64: 650 | DW64: 614
A65: 178244 | B65: Missouri Baptist University | C65: 44 | D65: 10 | E65: 43 | F65: 19 | G65: 75 | H65: 29 | I65: 58 | J65: 17 | K65: 72 | L65: 11 | M65: 79 | N65: 2 | O65: 78 | P65: 6 | Q65: 83 | R65: 3 | S65: 60 | T65: 6 | U65: 62 | V65: 2 | W65: 91 | X65: 10 | Y65: 94 | Z65: 18 | AA65: 121 | AB65: 5 | AC65: 137 | AD65: 22 | AE65: 123 | AF65: 24 | AG65: 98 | AH65: 28 | AI65: 7 | AK65: 3 | AM65: 7 | AO65: 7 | AQ65: 6 | AS65: 9 | AT65: 0 | AU65: 8 | AV65: 0 | AW65: 7 | AX65: 0 | AY65: 2 | AZ65: 1 | BA65: 2 | BC65: 2 | BE65: 2 | BF65: 1 | BG65: 6 | BI65: 3 | BK65: 1 | BM65: 3 | BO65: 6 | BQ65: 3 | BS65: 2 | BU65: 2 | CE65: 18 | CG65: 8 | CI65: 4 | CK65: 2 | CM65: 4 | CN65: 1 | CO65: 5 | CP65: 0 | CQ65: 2 | CR65: 0 | CS65: 6 | CT65: 0 | CY65: 10 | DA65: 14 | DC65: 4 | DK65: 220 | DL65: 23 | DM65: 201 | DN65: 29 | DO65: 287 | DP65: 45 | DQ65: 294 | DR65: 42 | DS65: 345 | DT65: 20 | DU65: 374 | DV65: 29 | DW65: 384 | DX65: 36
A66: 199032 | B66: Montreat College | C66: 156 | E66: 153 | G66: 107 | I66: 93 | K66: 119 | M66: 100 | O66: 82 | Q66: 74 | S66: 5 | U66: 9 | W66: 6 | Y66: 13 | AA66: 8 | AC66: 3 | AE66: 5 | AG66: 2 | AI66: 6 | AK66: 5 | AM66: 8 | AO66: 5 | AQ66: 5 | AS66: 2 | AT66: 1 | AU66: 4 | AW66: 6 | AY66: 3 | BA66: 2 | BC66: 3 | BE66: 2 | BG66: 3 | BI66: 2 | BK66: 3 | BM66: 3 | BN66: 1 | CE66: 6 | CG66: 14 | CI66: 16 | CK66: 16 | CM66: 5 | CO66: 6 | CQ66: 9 | CS66: 0 | CT66: 2 | DK66: 208 | DM66: 211 | DO66: 173 | DQ66: 157 | DS66: 187 | DU66: 162 | DV66: 5 | DW66: 162 | DX66: 6
A67: 204194 | B67: Mount Vernon Nazarene University | C67: 268 | D67: 11 | E67: 272 | F67: 11 | G67: 300 | H67: 7 | I67: 321 | J67: 4 | K67: 248 | L67: 5 | M67: 400 | N67: 8 | O67: 142 | P67: 12 | Q67: 196 | R67: 6 | S67: 65 | U67: 65 | W67: 49 | X67: 0 | Y67: 47 | Z67: 5 | AA67: 55 | AB67: 4 | AC67: 45 | AD67: 7 | AE67: 52 | AF67: 10 | AG67: 58 | AH67: 8 | AI67: 5 | AK67: 4 | AM67: 6 | AN67: 0 | AO67: 8 | AP67: 2 | AQ67: 6 | AR67: 2 | AS67: 6 | AT67: 0 | AU67: 2 | AV67: 1 | AW67: 8 | AX67: 0 | AY67: 5 | BA67: 4 | BB67: 2 | BC67: 5 | BD67: 0 | BE67: 6 | BF67: 2 | BG67: 4 | BH67: 2 | BI67: 2 | BJ67: 2 | BK67: 4 | BL67: 1 | BM67: 5 | BN67: 0 | BW67: 23 | BY67: 26 | CA67: 28 | CC67: 21 | CE67: 14 | CG67: 17 | CI67: 23 | CK67: 10 | CL67: 2 | CM67: 15 | CO67: 7 | CP67: 1 | CQ67: 9 | CR67: 0 | CS67: 13 | CT67: 1 | DK67: 466 | DL67: 26 | DM67: 465 | DN67: 24 | DO67: 512 | DP67: 21 | DQ67: 545 | DR67: 30 | DS67: 509 | DT67: 40 | DU67: 673 | DV67: 42 | DW67: 496 | DX67: 32
A68: 218441 | B68: North Greenville University | C68: 33 | E68: 34 | G68: 49 | H68: 1 | I68: 72 | K68: 67 | M68: 62 | O68: 76 | Q68: 62 | S68: 32 | U68: 40 | W68: 65 | Y68: 43 | AA68: 62 | AC68: 51 | AE68: 65 | AG68: 57 | AI68: 9 | AK68: 8 | AM68: 5 | AO68: 13 | AP68: 1 | AQ68: 14 | AS68: 15 | AU68: 7 | AW68: 13 | BC68: 9 | BE68: 9 | BG68: 11 | BI68: 12 | BK68: 5 | BL68: 1 | BM68: 7 | BN68: 0 | CE68: 43 | CG68: 70 | CI68: 29 | DK68: 185 | DM68: 234 | DO68: 276 | DP68: 1 | DQ68: 319 | DR68: 1 | DS68: 345 | DT68: 2 | DU68: 389 | DW68: 404 | DX68: 0
A69: 147679 | B69: North Park University | C69: 105 | D69: 4 | E69: 120 | F69: 2 | G69: 103 | H69: 0 | I69: 70 | J69: 2 | K69: 112 | L69: 5 | M69: 94 | N69: 0 | O69: 105 | P69: 0 | Q69: 109 | R69: 0 | S69: 20 | U69: 19 | V69: 0 | W69: 40 | X69: 1 | Y69: 35 | Z69: 0 | AA69: 47 | AB69: 0 | AC69: 41 | AD69: 0 | AE69: 40 | AF69: 0 | AG69: 28 | AH69: 0 | AI69: 20 | AJ69: 5 | AK69: 11 | AL69: 3 | AM69: 12 | AN69: 5 | AO69: 12 | AP69: 0 | AQ69: 14 | AR69: 0 | AS69: 15 | AT69: 4 | AU69: 10 | AV69: 5 | AW69: 14 | AX69: 2 | AY69: 12 | AZ69: 1 | BA69: 13 | BB69: 0 | BC69: 9 | BD69: 1 | BE69: 12 | BF69: 3 | BG69: 7 | BH69: 1 | BI69: 12 | BJ69: 4 | BK69: 17 | BL69: 1 | BM69: 10 | BN69: 0 | BO69: 29 | BQ69: 27 | BR69: 0 | BS69: 51 | BT69: 0 | BU69: 51 | BV69: 1 | BW69: 73 | BX69: 0 | BY69: 85 | BZ69: 0 | CA69: 91 | CB69: 0 | CC69: 107 | CD69: 0 | CE69: 3 | CG69: 2 | CH69: 1 | CI69: 2 | CJ69: 2 | CK69: 5 | CL69: 1 | CM69: 1 | CN69: 2 | CO69: 4 | CP69: 0 | CQ69: 2 | CR69: 0 | CS69: 5 | CT69: 0 | DK69: 327 | DL69: 23 | DM69: 371 | DN69: 29 | DO69: 373 | DP69: 31 | DQ69: 371 | DR69: 29 | DS69: 451 | DT69: 38 | DU69: 451 | DV69: 28 | DW69: 495 | DX69: 18
A70: 209409 | B70: Northwest Christian University | C70: 43 | E70: 54 | G70: 42 | I70: 46 | K70: 62 | M70: 46 | O70: 45 | Q70: 31 | S70: 36 | U70: 27 | W70: 24 | Y70: 21 | AA70: 21 | AC70: 26 | AE70: 23 | AG70: 23 | AI70: 1 | AK70: 2 | AM70: 0 | AO70: 2 | AQ70: 0 | AS70: 3 | AU70: 1 | AW70: 2 | BG70: 2 | BI70: 2 | BK70: 4 | BM70: 0 | CK70: 2 | DA70: 0 | DC70: 0 | DE70: 0 | DG70: 0 | DI70: 0 | DK70: 108 | DM70: 106 | DO70: 94 | DQ70: 118 | DS70: 139 | DU70: 126 | DW70: 106
A71: 142461 | B71: Northwest Nazarene University | C71: 62 | D71: 1 | E71: 61 | F71: 1 | G71: 48 | H71: 0 | I71: 52 | J71: 0 | K71: 78 | L71: 5 | M71: 55 | N71: 11 | O71: 56 | P71: 11 | Q71: 47 | R71: 6 | S71: 38 | T71: 3 | U71: 38 | V71: 2 | W71: 39 | X71: 1 | Y71: 32 | Z71: 0 | AA71: 45 | AB71: 0 | AC71: 40 | AD71: 0 | AE71: 42 | AF71: 1 | AG71: 40 | AH71: 0 | AI71: 12 | AJ71: 2 | AK71: 15 | AL71: 0 | AM71: 10 | AN71: 0 | AO71: 11 | AP71: 1 | AQ71: 5 | AR71: 0 | AS71: 5 | AT71: 1 | AU71: 4 | AV71: 0 | AW71: 5 | AX71: 1 | AY71: 7 | AZ71: 1 | BA71: 1 | BB71: 0 | BC71: 2 | BD71: 0 | BE71: 1 | BF71: 1 | BG71: 4 | BH71: 2 | BI71: 3 | BJ71: 0 | BK71: 5 | BL71: 0 | BM71: 5 | BN71: 0 | BO71: 21 | BP71: 2 | BQ71: 14 | BR71: 0 | BS71: 11 | BT71: 0 | BU71: 33 | BV71: 0 | BW71: 30 | BX71: 0 | BY71: 34 | BZ71: 0 | CA71: 42 | CB71: 0 | CC71: 31 | CD71: 0 | CE71: 9 | CF71: 1 | CG71: 11 | CH71: 1 | CI71: 11 | CJ71: 1 | CK71: 13 | CL71: 0 | CM71: 14 | CN71: 0 | CO71: 11 | CP71: 2 | CQ71: 9 | CR71: 0 | CS71: 14 | CT71: 3 | DK71: 270 | DL71: 16 | DM71: 258 | DN71: 4 | DO71: 231 | DP71: 12 | DQ71: 251 | DR71: 7 | DS71: 309 | DT71: 22 | DU71: 276 | DV71: 23 | DW71: 256 | DX71: 12
A72: 236133 | B72: Northwest University | C72: 81 | E72: 80 | G72: 61 | I72: 65 | K72: 44 | M72: 37 | O72: 58 | Q72: 53 | R72: 1 | S72: 33 | U72: 49 | W72: 21 | Y72: 20 | AA72: 16 | AC72: 11 | AE72: 18 | AG72: 24 | AI72: 7 | AK72: 12 | AM72: 11 | AO72: 9 | AQ72: 11 | AS72: 10 | AU72: 7 | AW72: 5 | AY72: 4 | BA72: 0 | BC72: 6 | BE72: 5 | BG72: 5 | BI72: 2 | BK72: 4 | BM72: 3 | BO72: 12 | BQ72: 28 | BS72: 33 | BU72: 28 | BW72: 20 | BY72: 27 | CA72: 38 | CC72: 41 | CE72: 5 | CG72: 5 | CI72: 3 | CK72: 3 | CM72: 1 | CO72: 2 | CQ72: 2 | CS72: 4 | DK72: 227 | DL72: 1 | DM72: 253 | DN72: 4 | DO72: 237 | DP72: 5 | DQ72: 250 | DR72: 10 | DS72: 206 | DT72: 13 | DU72: 222 | DV72: 20 | DW72: 270 | DX72: 12
A73: 154101 | B73: Northwestern College | C73: 54 | D73: 20 | E73: 66 | F73: 36 | G73: 41 | H73: 5 | I73: 54 | J73: 23 | K73: 60 | L73: 15 | M73: 34 | N73: 11 | O73: 35 | P73: 17 | Q73: 36 | R73: 16 | S73: 65 | U73: 61 | V73: 2 | W73: 44 | X73: 3 | Y73: 59 | Z73: 5 | AA73: 50 | AB73: 2 | AC73: 33 | AD73: 3 | AE73: 50 | AF73: 3 | AG73: 49 | AH73: 1 | AI73: 10 | AJ73: 4 | AK73: 11 | AL73: 4 | AM73: 8 | AN73: 4 | AO73: 13 | AP73: 6 | AQ73: 6 | AR73: 2 | AS73: 4 | AU73: 5 | AV73: 3 | AW73: 7 | AX73: 1 | AY73: 9 | BA73: 10 | BB73: 2 | BC73: 11 | BD73: 0 | BE73: 15 | BF73: 1 | BG73: 6 | BH73: 0 | BI73: 5 | BK73: 7 | BM73: 4 | BN73: 0 | BW73: 13 | BY73: 19 | CA73: 21 | CC73: 25 | CD73: 0 | CE73: 10 | CG73: 4 | CH73: 1 | CI73: 12 | CJ73: 0 | CK73: 11 | CL73: 1 | CM73: 10 | CN73: 2 | CO73: 3 | CP73: 2 | CQ73: 4 | CR73: 2 | CS73: 7 | CT73: 1 | DK73: 252 | DL73: 36 | DM73: 258 | DN73: 54 | DO73: 232 | DP73: 20 | DQ73: 271 | DR73: 47 | DS73: 265 | DT73: 39 | DU73: 222 | DV73: 30 | DW73: 268 | DX73: 37
A74: 194161 | B74: Nyack College | C74: 164 | E74: 242 | G74: 202 | I74: 279 | K74: 264 | M74: 200 | O74: 144 | Q74: 167 | S74: 42 | U74: 32 | W74: 42 | Y74: 28 | AA74: 25 | AC74: 26 | AE74: 38 | AG74: 24 | AI74: 9 | AK74: 6 | AM74: 9 | AO74: 6 | AQ74: 8 | AS74: 6 | AU74: 8 | AV74: 1 | AW74: 12 | AY74: 5 | AZ74: 1 | BA74: 5 | BB74: 0 | BC74: 4 | BD74: 0 | BE74: 3 | BF74: 0 | BG74: 3 | BI74: 4 | BJ74: 1 | BK74: 2 | BM74: 1 | BW74: 0 | BY74: 0 | CA74: 14 | CC74: 23 | CE74: 13 | CG74: 14 | CH74: 1 | CI74: 25 | CJ74: 0 | CK74: 21 | CL74: 0 | CM74: 7 | CO74: 6 | CQ74: 6 | CS74: 0 | CU74: 7 | CW74: 8 | CY74: 24 | DA74: 12 | DK74: 371 | DL74: 1 | DM74: 480 | DN74: 1 | DO74: 473 | DP74: 0 | DQ74: 516 | DR74: 0 | DS74: 485 | DU74: 429 | DV74: 1 | DW74: 418 | DX74: 3
A75: 207403 | B75: Oklahoma Baptist University | C75: 41 | E75: 35 | G75: 30 | I75: 27 | K75: 29 | M75: 20 | O75: 25 | Q75: 30 | S75: 51 | U75: 53 | W75: 58 | Y75: 37 | AA75: 28 | AC75: 39 | AE75: 55 | AG75: 51 | AI75: 8 | AK75: 14 | AM75: 10 | AO75: 9 | AQ75: 14 | AS75: 5 | AU75: 8 | AW75: 7 | AY75: 6 | BA75: 3 | BC75: 3 | BE75: 5 | BG75: 3 | BI75: 5 | BK75: 3 | BM75: 0 | BO75: 16 | BQ75: 23 | BS75: 35 | BU75: 30 | BW75: 48 | BY75: 42 | CA75: 35 | CC75: 41 | CE75: 8 | CG75: 7 | CI75: 8 | CK75: 7 | CM75: 8 | CO75: 9 | CQ75: 2 | CS75: 13 | CU75: 7 | CW75: 0 | CY75: 0 | DA75: 0 | DC75: 0 | DG75: 0 | DI75: 0 | DK75: 312 | DM75: 335 | DO75: 328 | DQ75: 257 | DS75: 304 | DU75: 286 | DW75: 329
A76: 207324 | B76: Oklahoma Christian University | C76: 32 | E76: 35 | G76: 30 | I76: 36 | K76: 39 | M76: 62 | O76: 54 | Q76: 69 | S76: 52 | U76: 55 | W76: 55 | Y76: 57 | AA76: 53 | AC76: 31 | AE76: 41 | AG76: 36 | AI76: 4 | AK76: 5 | AM76: 7 | AO76: 4 | AQ76: 7 | AS76: 7 | AU76: 6 | AW76: 9 | AY76: 4 | BA76: 1 | BC76: 0 | BE76: 3 | BG76: 4 | BI76: 1 | BK76: 4 | BM76: 3 | BU76: 17 | BW76: 23 | BY76: 20 | CA76: 27 | CC76: 27 | DK76: 243 | DM76: 268 | DO76: 230 | DQ76: 267 | DS76: 322 | DU76: 299 | DW76: 373
A77: 206835 | B77: Oklahoma Wesleyan University | C77: 90 | E77: 88 | F77: 46 | G77: 97 | H77: 39 | I77: 58 | K77: 89 | M77: 85 | O77: 76 | Q77: 97 | S77: 9 | U77: 16 | W77: 15 | X77: 0 | Y77: 8 | AA77: 18 | AC77: 21 | AE77: 21 | AG77: 16 | AI77: 1 | AK77: 2 | AM77: 0 | AN77: 0 | AQ77: 0 | AS77: 1 | AU77: 3 | AW77: 1 | AY77: 2 | BA77: 1 | BC77: 1 | BD77: 0 | BG77: 4 | BI77: 2 | BK77: 3 | BM77: 0 | BO77: 55 | BQ77: 61 | BS77: 48 | BT77: 0 | BU77: 106 | BW77: 120 | BY77: 108 | CA77: 102 | CC77: 116 | CE77: 8 | CG77: 10 | CI77: 10 | CJ77: 0 | CK77: 0 | CM77: 18 | CO77: 6 | CQ77: 6 | CS77: 6 | CY77: 0 | CZ77: 0 | DA77: 2 | DC77: 0 | DG77: 0 | DI77: 0 | DK77: 188 | DM77: 198 | DN77: 49 | DO77: 203 | DP77: 40 | DQ77: 218 | DS77: 296 | DU77: 269 | DW77: 308
A78: 147828 | B78: Olivet Nazarene University | C78: 81 | D78: 5 | E78: 78 | F78: 6 | G78: 113 | H78: 20 | I78: 124 | J78: 19 | K78: 104 | L78: 20 | M78: 114 | N78: 17 | O78: 88 | P78: 16 | Q78: 127 | R78: 16 | S78: 55 | T78: 1 | U78: 60 | V78: 0 | W78: 72 | X78: 1 | Y78: 71 | Z78: 0 | AA78: 66 | AB78: 1 | AC78: 70 | AD78: 1 | AE78: 117 | AF78: 0 | AG78: 76 | AH78: 3 | AI78: 19 | AK78: 25 | AL78: 1 | AM78: 8 | AN78: 0 | AO78: 12 | AP78: 0 | AQ78: 11 | AR78: 0 | AS78: 11 | AT78: 0 | AU78: 7 | AV78: 0 | AW78: 13 | AX78: 1 | AY78: 10 | AZ78: 1 | BA78: 9 | BB78: 1 | BC78: 3 | BD78: 4 | BE78: 9 | BF78: 5 | BG78: 9 | BH78: 1 | BI78: 10 | BJ78: 1 | BK78: 7 | BL78: 4 | BM78: 5 | BN78: 2 | BO78: 51 | BQ78: 34 | BR78: 0 | BS78: 67 | BT78: 0 | BU78: 98 | BV78: 0 | BW78: 191 | BX78: 0 | BY78: 196 | BZ78: 0 | CA78: 173 | CB78: 0 | CC78: 191 | CD78: 0 | CE78: 20 | CG78: 9 | CH78: 2 | CI78: 13 | CJ78: 0 | CK78: 13 | CL78: 3 | CM78: 23 | CN78: 2 | CO78: 5 | CP78: 1 | CQ78: 13 | CR78: 4 | CS78: 5 | CT78: 3 | DK78: 408 | DL78: 18 | DM78: 406 | DN78: 19 | DO78: 541 | DP78: 57 | DQ78: 628 | DR78: 63 | DS78: 735 | DT78: 69 | DU78: 660 | DV78: 48 | DW78: 755 | DX78: 62
A79: 207582 | B79: Oral Roberts University | C79: 124 | D79: 3 | E79: 132 | F79: 2 | G79: 97 | H79: 6 | I79: 122 | J79: 1 | K79: 117 | L79: 2 | M79: 101 | N79: 1 | O79: 124 | P79: 1 | Q79: 94 | R79: 1 | S79: 41 | U79: 48 | W79: 56 | X79: 1 | Y79: 31 | Z79: 0 | AA79: 35 | AC79: 31 | AD79: 0 | AE79: 40 | AG79: 36 | AI79: 16 | AJ79: 2 | AK79: 12 | AM79: 10 | AN79: 4 | AO79: 7 | AQ79: 15 | AR79: 1 | AS79: 4 | AU79: 13 | AW79: 11 | AX79: 1 | AY79: 2 | AZ79: 1 | BA79: 3 | BC79: 9 | BE79: 12 | BF79: 2 | BG79: 8 | BH79: 0 | BI79: 4 | BJ79: 1 | BK79: 7 | BM79: 6 | BO79: 24 | BQ79: 27 | BS79: 27 | BU79: 38 | BV79: 0 | BW79: 36 | BY79: 37 | CA79: 48 | CC79: 55 | CQ79: 0 | CS79: 0 | CU79: 9 | CW79: 7 | CX79: 1 | CY79: 5 | DA79: 4 | DB79: 0 | DC79: 11 | DD79: 1 | DE79: 5 | DF79: 1 | DG79: 2 | DI79: 5 | DJ79: 1 | DK79: 575 | DL79: 12 | DM79: 620 | DN79: 12 | DO79: 532 | DP79: 35 | DQ79: 552 | DR79: 22 | DS79: 512 | DT79: 14 | DU79: 460 | DV79: 10 | DW79: 513 | DX79: 13
A80: 136330 | B80: Palm Beach Atlantic University | C80: 245 | D80: 4 | E80: 255 | F80: 0 | G80: 228 | H80: 0 | I80: 238 | K80: 181 | L80: 1 | M80: 183 | N80: 2 | O80: 127 | P80: 5 | Q80: 149 | R80: 4 | S80: 48 | U80: 35 | W80: 43 | Y80: 29 | AA80: 24 | AC80: 28 | AE80: 25 | AG80: 26 | AI80: 4 | AK80: 3 | AM80: 11 | AO80: 9 | AQ80: 8 | AS80: 10 | AU80: 2 | AW80: 10 | AX80: 1 | AY80: 5 | AZ80: 3 | BA80: 5 | BB80: 0 | BC80: 6 | BD80: 0 | BE80: 7 | BG80: 8 | BI80: 3 | BJ80: 1 | BK80: 3 | BL80: 1 | BM80: 7 | BN80: 0 | BU80: 22 | BW80: 20 | BY80: 51 | CA80: 42 | CC80: 49 | CE80: 5 | CF80: 1 | CG80: 21 | CH80: 0 | CI80: 19 | CJ80: 0 | CK80: 8 | CL80: 1 | CM80: 2 | CN80: 0 | CO80: 3 | CP80: 3 | CQ80: 3 | CR80: 1 | CS80: 2 | CT80: 1 | CY80: 18 | CZ80: 0 | DA80: 12 | DC80: 19 | DE80: 24 | DF80: 0 | DG80: 24 | DH80: 0 | DI80: 30 | DJ80: 0 | DK80: 493 | DL80: 17 | DM80: 530 | DN80: 0 | DO80: 523 | DP80: 18 | DQ80: 496 | DR80: 2 | DS80: 462 | DT80: 6 | DU80: 503 | DV80: 10 | DW80: 482 | DX80: 10
A81: 121309 | B81: Point Loma Nazarene University | C81: 101 | E81: 86 | G81: 95 | I81: 119 | J81: 7 | K81: 142 | L81: 7 | M81: 133 | N81: 11 | O81: 111 | P81: 10 | Q81: 121 | R81: 12 | W81: 1 | Y81: 4 | Z81: 0 | AA81: 5 | AB81: 1 | AC81: 8 | AD81: 1 | AE81: 4 | AF81: 0 | AG81: 10 | AH81: 0 | AI81: 19 | AK81: 13 | AM81: 19 | AO81: 13 | AP81: 0 | AQ81: 21 | AR81: 1 | AS81: 19 | AT81: 0 | AU81: 9 | AV81: 0 | AW81: 12 | AX81: 1 | AY81: 11 | BA81: 6 | BC81: 8 | BE81: 4 | BF81: 1 | BG81: 6 | BH81: 0 | BI81: 3 | BJ81: 0 | BK81: 6 | BL81: 0 | BM81: 11 | BN81: 0 | BO81: 42 | BQ81: 45 | BS81: 41 | BU81: 53 | BW81: 46 | BX81: 0 | BY81: 55 | BZ81: 0 | CA81: 66 | CB81: 0 | CC81: 65 | CD81: 0 | CE81: 25 | CG81: 21 | CI81: 24 | CK81: 19 | CL81: 5 | CM81: 10 | CN81: 1 | CO81: 8 | CP81: 5 | CQ81: 6 | CR81: 0 | CS81: 10 | CT81: 4 | DK81: 548 | DM81: 501 | DO81: 520 | DQ81: 552 | DR81: 26 | DS81: 617 | DT81: 22 | DU81: 544 | DV81: 28 | DW81: 588 | DX81: 28
A82: 231651 | B82: Regent University | C82: 28 | E82: 43 | G82: 45 | I82: 57 | J82: 0 | K82: 58 | L82: 1 | M82: 81 | O82: 83 | Q82: 82 | W82: 18 | Y82: 17 | AA82: 13 | AC82: 13 | AE82: 10 | AG82: 16 | AQ82: 13 | AS82: 39 | AU82: 32 | AW82: 47 | BI82: 1 | BK82: 3 | BM82: 13 | CM82: 0 | CO82: 30 | CQ82: 26 | CS82: 11 | CY82: 0 | DK82: 28 | DM82: 43 | DO82: 98 | DQ82: 205 | DR82: 0 | DS82: 271 | DT82: 1 | DU82: 355 | DW82: 445
A83: 194958 | B83: Roberts Wesleyan College | C83: 111 | E83: 114 | F83: 1 | G83: 104 | H83: 0 | I83: 126 | J83: 1 | K83: 119 | L83: 0 | M83: 78 | N83: 1 | O83: 86 | P83: 0 | Q83: 93 | R83: 3 | S83: 68 | U83: 76 | V83: 1 | W83: 87 | X83: 1 | Y83: 68 | Z83: 0 | AA83: 60 | AB83: 0 | AC83: 70 | AD83: 0 | AE83: 66 | AF83: 0 | AG83: 53 | AH83: 0 | AI83: 5 | AK83: 3 | AL83: 2 | AM83: 7 | AN83: 2 | AO83: 6 | AP83: 2 | AQ83: 3 | AR83: 0 | AS83: 6 | AT83: 1 | AU83: 6 | AV83: 1 | AW83: 3 | AX83: 1 | AY83: 7 | BA83: 4 | BB83: 1 | BC83: 10 | BD83: 0 | BE83: 1 | BF83: 0 | BG83: 8 | BH83: 0 | BI83: 6 | BJ83: 1 | BK83: 5 | BL83: 0 | BM83: 7 | BN83: 2 | BO83: 47 | BQ83: 40 | BS83: 71 | BU83: 78 | BW83: 94 | BY83: 82 | CA83: 93 | CC83: 127 | CE83: 10 | CG83: 15 | CH83: 2 | CI83: 10 | CJ83: 0 | CK83: 7 | CL83: 0 | CM83: 10 | CN83: 0 | CO83: 7 | CP83: 1 | CQ83: 8 | CR83: 1 | CS83: 3 | CT83: 1 | DK83: 340 | DM83: 325 | DN83: 16 | DO83: 390 | DP83: 9 | DQ83: 390 | DR83: 11 | DS83: 386 | DT83: 5 | DU83: 364 | DV83: 12 | DW83: 410 | DX83: 13
A84: 112084 | B84: San Diego Christian College | C84: 9 | E84: 18 | G84: 8 | I84: 14 | K84: 14 | M84: 13 | O84: 19 | Q84: 18 | S84: 6 | U84: 8 | W84: 15 | AI84: 1 | AK84: 2 | AM84: 3 | AO84: 2 | AQ84: 2 | AS84: 2 | AU84: 2 | AW84: 5 | AY84: 4 | BA84: 1 | BC84: 7 | BE84: 5 | BG84: 6 | BI84: 6 | BK84: 1 | BM84: 1 | DK84: 115 | DM84: 116 | DO84: 114 | DQ84: 128 | DS84: 82 | DU84: 105 | DW84: 124
A85: 236577 | B85: Seattle Pacific University | C85: 120 | E85: 121 | G85: 95 | H85: 8 | I85: 115 | K85: 78 | M85: 103 | O85: 93 | Q85: 84 | S85: 30 | U85: 22 | W85: 29 | Y85: 9 | AA85: 19 | AC85: 36 | AE85: 31 | AG85: 39 | AI85: 47 | AK85: 32 | AM85: 35 | AN85: 3 | AO85: 42 | AQ85: 42 | AS85: 43 | AU85: 28 | AW85: 38 | AY85: 22 | BA85: 21 | BC85: 18 | BD85: 2 | BE85: 22 | BG85: 18 | BI85: 23 | BK85: 12 | BM85: 13 | BO85: 61 | BQ85: 76 | BS85: 61 | BU85: 64 | BW85: 65 | BY85: 63 | CA85: 69 | CC85: 66 | CE85: 8 | CG85: 9 | CI85: 6 | CJ85: 5 | CK85: 7 | CM85: 9 | CO85: 9 | CQ85: 12 | CS85: 6 | CU85: 17 | CW85: 10 | CY85: 11 | CZ85: 2 | DA85: 19 | DC85: 17 | DE85: 12 | DG85: 11 | DI85: 24 | DK85: 641 | DM85: 657 | DO85: 689 | DP85: 48 | DQ85: 771 | DS85: 734 | DU85: 814 | DW85: 842
A86: 123457 | B86: Simpson University | C86: 73 | D86: 1 | E86: 46 | F86: 5 | G86: 88 | I86: 55 | K86: 84 | M86: 103 | O86: 92 | P86: 1 | Q86: 97 | R86: 3 | S86: 23 | T86: 1 | U86: 23 | V86: 1 | W86: 7 | Y86: 12 | AA86: 6 | AC86: 4 | AE86: 7 | AG86: 4 | AH86: 1 | AI86: 7 | AK86: 4 | AM86: 11 | AO86: 8 | AQ86: 8 | AS86: 9 | AU86: 5 | AW86: 5 | AY86: 3 | AZ86: 3 | BA86: 2 | BB86: 1 | BC86: 4 | BE86: 3 | BG86: 2 | BI86: 5 | BK86: 6 | BM86: 3 | BU86: 17 | BW86: 20 | BY86: 21 | CA86: 38 | CC86: 44 | CI86: 5 | CK86: 1 | CM86: 8 | CO86: 0 | CQ86: 2 | CS86: 3 | DK86: 296 | DL86: 22 | DM86: 319 | DN86: 10 | DO86: 314 | DQ86: 227 | DS86: 300 | DU86: 334 | DW86: 320 | DX86: 5
A87: 137564 | B87: Southeastern University | C87: 23 | E87: 48 | F87: 1 | G87: 60 | H87: 5 | I87: 103 | J87: 8 | K87: 110 | L87: 17 | M87: 94 | N87: 17 | O87: 70 | P87: 13 | Q87: 76 | R87: 12 | S87: 71 | U87: 45 | V87: 1 | W87: 68 | X87: 1 | Y87: 50 | Z87: 1 | AA87: 44 | AB87: 0 | AC87: 68 | AD87: 1 | AE87: 50 | AF87: 1 | AG87: 51 | AH87: 0 | AI87: 12 | AK87: 14 | AL87: 1 | AM87: 5 | AN87: 0 | AO87: 16 | AP87: 2 | AQ87: 12 | AR87: 1 | AS87: 23 | AT87: 2 | AU87: 16 | AV87: 0 | AW87: 14 | AX87: 1 | BA87: 2 | BC87: 3 | BE87: 7 | BG87: 4 | BH87: 1 | BI87: 10 | BJ87: 0 | BK87: 4 | BL87: 0 | BM87: 5 | BN87: 0 | DK87: 245 | DM87: 271 | DN87: 4 | DO87: 351 | DP87: 18 | DQ87: 492 | DR87: 22 | DS87: 488 | DT87: 36 | DU87: 459 | DV87: 34 | DW87: 414 | DX87: 21
A88: 206862 | B88: Southern Nazarene University | C88: 255 | E88: 295 | F88: 3 | G88: 265 | H88: 5 | I88: 291 | K88: 220 | M88: 235 | O88: 220 | Q88: 218 | S88: 39 | U88: 48 | V88: 0 | W88: 40 | X88: 2 | Y88: 30 | AA88: 33 | AC88: 29 | AE88: 28 | AG88: 32 | AI88: 1 | AK88: 6 | AL88: 0 | AM88: 7 | AN88: 3 | AO88: 5 | AQ88: 3 | AS88: 6 | AU88: 3 | AW88: 6 | AY88: 3 | BC88: 4 | BD88: 0 | BE88: 6 | BG88: 2 | BK88: 1 | BM88: 0 | BO88: 87 | BQ88: 72 | BR88: 0 | BS88: 73 | BT88: 0 | BU88: 36 | BW88: 39 | BY88: 30 | CA88: 31 | CC88: 54 | CE88: 5 | CG88: 2 | CH88: 1 | CI88: 3 | CJ88: 0 | CM88: 0 | CO88: 1 | CQ88: 0 | CS88: 0 | CU88: 21 | CW88: 19 | CX88: 0 | CY88: 21 | CZ88: 1 | DA88: 19 | DC88: 9 | DE88: 18 | DG88: 9 | DI88: 6 | DK88: 575 | DM88: 632 | DN88: 11 | DO88: 578 | DP88: 17 | DQ88: 538 | DS88: 497 | DU88: 499 | DW88: 514
A89: 179326 | B89: Southwest Baptist University | C89: 53 | E89: 70 | G89: 62 | H89: 6 | I89: 54 | J89: 8 | K89: 48 | L89: 12 | M89: 50 | N89: 8 | O89: 37 | P89: 9 | Q89: 40 | R89: 7 | S89: 62 | T89: 2 | U89: 80 | V89: 0 | W89: 84 | X89: 1 | Y89: 83 | Z89: 0 | AA89: 83 | AB89: 0 | AC89: 80 | AD89: 0 | AE89: 82 | AF89: 0 | AG89: 74 | AH89: 0 | AI89: 11 | AJ89: 2 | AK89: 12 | AL89: 3 | AM89: 5 | AN89: 3 | AO89: 6 | AP89: 2 | AQ89: 6 | AR89: 0 | AS89: 11 | AT89: 0 | AU89: 10 | AV89: 3 | AW89: 7 | AX89: 0 | AY89: 3 | BA89: 5 | BC89: 12 | BD89: 3 | BE89: 3 | BF89: 0 | BG89: 6 | BH89: 3 | BI89: 5 | BJ89: 0 | BK89: 2 | BL89: 0 | BM89: 3 | BN89: 0 | BO89: 29 | BQ89: 28 | BS89: 22 | BU89: 56 | BW89: 52 | BY89: 64 | CA89: 48 | CC89: 64 | CE89: 4 | CG89: 14 | CI89: 5 | CJ89: 1 | CK89: 2 | CL89: 0 | CM89: 2 | CN89: 1 | CO89: 2 | CP89: 0 | CQ89: 3 | CR89: 2 | CS89: 2 | CT89: 0 | CU89: 1 | CW89: 0 | CY89: 0 | DA89: 0 | DC89: 0 | DE89: 0 | DG89: 0 | DI89: 0 | DK89: 347 | DL89: 45 | DM89: 390 | DN89: 40 | DO89: 385 | DP89: 52 | DQ89: 367 | DR89: 47 | DS89: 386 | DT89: 42 | DU89: 370 | DV89: 33 | DW89: 371 | DX89: 33
A90: 172334 | B90: Spring Arbor University | C90: 268 | E90: 290 | F90: 2 | G90: 236 | H90: 0 | I90: 206 | J90: 2 | K90: 209 | L90: 0 | M90: 176 | N90: 0 | O90: 216 | P90: 1 | Q90: 210 | R90: 1 | S90: 63 | T90: 1 | U90: 66 | V90: 0 | W90: 106 | X90: 0 | Y90: 97 | Z90: 4 | AA90: 76 | AB90: 1 | AC90: 89 | AD90: 0 | AE90: 64 | AF90: 2 | AG90: 45 | AH90: 3 | AI90: 40 | AJ90: 2 | AK90: 34 | AL90: 2 | AM90: 19 | AN90: 1 | AO90: 9 | AP90: 0 | AQ90: 18 | AR90: 1 | AS90: 7 | AT90: 1 | AU90: 7 | AV90: 0 | AW90: 10 | AX90: 0 | AY90: 11 | AZ90: 1 | BA90: 11 | BB90: 1 | BC90: 8 | BD90: 0 | BE90: 4 | BF90: 1 | BG90: 7 | BH90: 4 | BI90: 7 | BJ90: 0 | BK90: 3 | BL90: 0 | BM90: 12 | BN90: 2 | BQ90: 32 | BS90: 38 | BU90: 51 | BW90: 70 | BY90: 97 | CA90: 128 | CC90: 155 | CE90: 9 | CF90: 1 | CG90: 21 | CH90: 0 | CI90: 21 | CJ90: 0 | CK90: 27 | CL90: 2 | CM90: 8 | CN90: 1 | CO90: 7 | CP90: 0 | CQ90: 2 | CR90: 1 | CS90: 15 | CT90: 1 | DE90: 1 | DG90: 0 | DI90: 0 | DK90: 635 | DL90: 12 | DM90: 781 | DN90: 13 | DO90: 714 | DP90: 10 | DQ90: 666 | DR90: 20 | DS90: 705 | DT90: 22 | DU90: 734 | DV90: 14 | DW90: 825 | DX90: 23
A91: 155937 | B91: Sterling College | C91: 15 | D91: 2 | E91: 8 | G91: 16 | H91: 1 | I91: 10 | J91: 0 | K91: 17 | L91: 2 | M91: 16 | N91: 7 | O91: 23 | P91: 7 | Q91: 22 | R91: 0 | S91: 21 | T91: 1 | U91: 16 | W91: 9 | Y91: 8 | AA91: 20 | AB91: 1 | AC91: 36 | AD91: 0 | AE91: 31 | AF91: 0 | AG91: 28 | AH91: 0 | AI91: 5 | AK91: 3 | AM91: 6 | AN91: 0 | AO91: 4 | AP91: 0 | AQ91: 2 | AR91: 0 | AS91: 2 | AT91: 0 | AU91: 3 | AV91: 0 | AW91: 6 | AX91: 0 | BA91: 7 | BB91: 1 | BC91: 3 | BD91: 0 | BE91: 1 | BF91: 0 | BG91: 3 | BH91: 0 | BI91: 5 | BJ91: 0 | BK91: 2 | BL91: 0 | BM91: 0 | BN91: 0 | CE91: 3 | CF91: 1 | CG91: 5 | CH91: 1 | CI91: 3 | CJ91: 2 | CK91: 2 | CL91: 0 | CM91: 13 | CN91: 0 | CO91: 14 | CP91: 0 | CQ91: 12 | CR91: 0 | CS91: 6 | CT91: 0 | DK91: 90 | DL91: 6 | DM91: 79 | DN91: 7 | DO91: 77 | DP91: 6 | DQ91: 57 | DR91: 4 | DS91: 118 | DT91: 5 | DU91: 129 | DV91: 7 | DW91: 137 | DX91: 3
A92: 155973 | B92: Tabor College | C92: 30 | D92: 2 | E92: 33 | F92: 0 | G92: 32 | H92: 0 | I92: 36 | J92: 0 | K92: 29 | L92: 2 | M92: 11 | N92: 0 | O92: 18 | P92: 0 | Q92: 27 | R92: 2 | S92: 19 | U92: 29 | V92: 1 | W92: 22 | X92: 0 | Y92: 17 | Z92: 0 | AA92: 12 | AB92: 7 | AC92: 18 | AD92: 6 | AE92: 11 | AF92: 2 | AG92: 18 | AH92: 2 | AI92: 2 | AK92: 0 | AL92: 0 | AM92: 2 | AN92: 0 | AO92: 1 | AP92: 0 | AQ92: 3 | AR92: 1 | AS92: 1 | AT92: 0 | AU92: 2 | AV92: 1 | AW92: 0 | AX92: 2 | AY92: 2 | BA92: 0 | BB92: 0 | BC92: 1 | BD92: 1 | BE92: 2 | BF92: 0 | BG92: 4 | BH92: 0 | BI92: 5 | BJ92: 0 | BK92: 4 | BL92: 1 | BM92: 2 | BN92: 0 | BO92: 10 | BQ92: 8 | BS92: 22 | BU92: 23 | BW92: 24 | BY92: 23 | CA92: 29 | CC92: 33 | CE92: 3 | CF92: 6 | CG92: 3 | CH92: 7 | CI92: 1 | CJ92: 12 | CK92: 2 | CL92: 12 | CM92: 2 | CN92: 3 | CO92: 5 | CP92: 7 | CQ92: 7 | CR92: 2 | CS92: 7 | CT92: 0 | DK92: 128 | DL92: 12 | DM92: 137 | DN92: 11 | DO92: 132 | DP92: 15 | DQ92: 134 | DR92: 15 | DS92: 136 | DT92: 28 | DU92: 118 | DV92: 17 | DW92: 166 | DX92: 22
A93: 152530 | B93: Taylor University | C93: 85 | D93: 1 | E93: 78 | F93: 3 | G93: 56 | H93: 2 | I93: 64 | J93: 2 | K93: 74 | L93: 4 | M93: 40 | N93: 10 | O93: 52 | P93: 11 | Q93: 66 | R93: 13 | S93: 86 | U93: 88 | W93: 78 | Y93: 70 | AA93: 62 | AB93: 0 | AC93: 84 | AE93: 80 | AG93: 67 | AI93: 14 | AJ93: 1 | AK93: 11 | AL93: 1 | AM93: 9 | AN93: 1 | AO93: 8 | AP93: 0 | AQ93: 32 | AR93: 1 | AS93: 17 | AT93: 1 | AU93: 29 | AV93: 1 | AW93: 24 | AX93: 1 | AY93: 3 | BA93: 10 | BB93: 1 | BC93: 8 | BD93: 4 | BE93: 9 | BF93: 1 | BG93: 9 | BH93: 3 | BI93: 9 | BJ93: 5 | BK93: 4 | BL93: 0 | BM93: 7 | BN93: 0 | CE93: 9 | CF93: 5 | CG93: 5 | CH93: 1 | CI93: 8 | CJ93: 1 | CK93: 5 | CL93: 0 | CM93: 6 | CN93: 5 | CO93: 6 | CP93: 1 | CQ93: 2 | CR93: 0 | CS93: 6 | CT93: 5 | DK93: 463 | DL93: 33 | DM93: 406 | DN93: 23 | DO93: 399 | DP93: 21 | DQ93: 400 | DR93: 17 | DS93: 489 | DT93: 26 | DU93: 410 | DV93: 40 | DW93: 414 | DX93: 32
A94: 117751 | B94: The Master's College and Seminary | C94: 61 | D94: 10 | E94: 47 | F94: 9 | G94: 43 | H94: 8 | I94: 46 | J94: 2 | K94: 45 | M94: 30 | O94: 34 | P94: 1 | Q94: 46 | R94: 11 | S94: 5 | U94: 7 | V94: 1 | W94: 1 | Y94: 6 | AA94: 5 | AC94: 16 | AE94: 15 | AG94: 18 | AI94: 4 | AK94: 9 | AM94: 6 | AO94: 10 | AQ94: 8 | AS94: 10 | AU94: 11 | AW94: 8 | AX94: 1 | AY94: 6 | BA94: 12 | BC94: 13 | BD94: 1 | BE94: 9 | BG94: 7 | BI94: 13 | BK94: 9 | BL94: 1 | BM94: 10 | CU94: 5 | CW94: 9 | CY94: 7 | DA94: 10 | DC94: 6 | DE94: 3 | DG94: 6 | DI94: 6 | DK94: 261 | DL94: 19 | DM94: 237 | DN94: 21 | DO94: 262 | DP94: 13 | DQ94: 286 | DR94: 6 | DS94: 204 | DT94: 1 | DU94: 222 | DV94: 2 | DW94: 250 | DX94: 19
A95: 141185 | B95: Toccoa Falls College | C95: 5 | E95: 8 | G95: 15 | I95: 8 | K95: 7 | M95: 4 | O95: 10 | Q95: 14 | S95: 31 | U95: 31 | W95: 27 | Y95: 27 | AA95: 33 | AC95: 20 | AE95: 19 | AG95: 22 | AI95: 1 | AK95: 3 | AM95: 1 | AO95: 6 | AQ95: 2 | AS95: 3 | AU95: 1 | AW95: 3 | BG95: 1 | BI95: 1 | BK95: 5 | BM95: 0 | CG95: 4 | CI95: 3 | CK95: 2 | CM95: 0 | CO95: 0 | CQ95: 0 | CS95: 3 | DK95: 162 | DM95: 160 | DO95: 161 | DQ95: 130 | DS95: 160 | DU95: 141 | DW95: 162
A96: 221892 | B96: Trevecca Nazarene University | C96: 223 | E96: 203 | G96: 218 | I96: 187 | K96: 183 | M96: 164 | O96: 174 | Q96: 143 | S96: 24 | U96: 24 | W96: 23 | Y96: 26 | AA96: 32 | AC96: 26 | AE96: 37 | AG96: 24 | AI96: 3 | AK96: 3 | AM96: 4 | AO96: 3 | AQ96: 1 | AS96: 4 | AU96: 2 | AW96: 4 | AY96: 2 | BA96: 2 | BC96: 7 | BE96: 2 | BG96: 3 | BI96: 3 | BK96: 6 | BM96: 3 | BW96: 1 | BY96: 6 | CA96: 12 | CC96: 9 | CE96: 21 | CG96: 29 | CI96: 20 | CK96: 22 | CM96: 2 | CO96: 0 | CQ96: 4 | CS96: 0 | DK96: 340 | DM96: 354 | DO96: 351 | DQ96: 334 | DS96: 345 | DU96: 339 | DW96: 353
A97: 149505 | B97: Trinity Christian College | C97: 56 | E97: 57 | F97: 0 | G97: 42 | H97: 1 | I97: 49 | J97: 0 | K97: 60 | L97: 1 | M97: 58 | N97: 1 | O97: 59 | P97: 2 | Q97: 57 | R97: 0 | S97: 63 | T97: 4 | U97: 109 | V97: 3 | W97: 83 | X97: 3 | Y97: 121 | Z97: 10 | AA97: 118 | AB97: 11 | AC97: 103 | AD97: 12 | AE97: 106 | AF97: 30 | AG97: 77 | AH97: 17 | AI97: 5 | AK97: 1 | AL97: 1 | AM97: 4 | AN97: 0 | AO97: 4 | AP97: 2 | AQ97: 4 | AR97: 0 | AS97: 5 | AT97: 1 | AU97: 2 | AV97: 1 | AW97: 2 | AX97: 1 | AY97: 3 | AZ97: 1 | BA97: 6 | BB97: 2 | BC97: 3 | BD97: 1 | BE97: 1 | BF97: 3 | BG97: 6 | BH97: 0 | BI97: 2 | BJ97: 1 | BK97: 2 | BL97: 0 | BM97: 4 | BN97: 0 | BO97: 14 | BQ97: 20 | BR97: 0 | BS97: 22 | BT97: 0 | BU97: 45 | BV97: 0 | BW97: 39 | BX97: 0 | BY97: 40 | BZ97: 0 | CA97: 42 | CB97: 0 | CC97: 40 | CD97: 0 | CE97: 1 | CF97: 1 | CG97: 0 | CH97: 3 | CI97: 3 | CJ97: 3 | CK97: 2 | CL97: 0 | CM97: 0 | CN97: 1 | CO97: 1 | CP97: 1 | CQ97: 0 | CR97: 1 | CS97: 2 | CT97: 2 | CU97: 0 | CV97: 3 | CW97: 1 | CX97: 5 | CY97: 1 | CZ97: 11 | DA97: 5 | DB97: 7 | DC97: 5 | DD97: 3 | DE97: 9 | DF97: 7 | DG97: 3 | DH97: 3 | DI97: 3 | DJ97: 5 | DK97: 186 | DL97: 21 | DM97: 269 | DN97: 26 | DO97: 241 | DP97: 30 | DQ97: 307 | DR97: 34 | DS97: 295 | DT97: 28 | DU97: 301 | DV97: 27 | DW97: 268 | DX97: 36
A98: 149514 | B98: Trinity International University-Illinois | C98: 51 | E98: 29 | F98: 0 | G98: 30 | H98: 0 | I98: 44 | J98: 4 | K98: 38 | L98: 1 | M98: 31 | N98: 1 | O98: 31 | P98: 2 | Q98: 34 | R98: 3 | S98: 57 | U98: 62 | V98: 1 | W98: 47 | X98: 0 | Y98: 55 | Z98: 1 | AA98: 43 | AB98: 0 | AC98: 18 | AD98: 3 | AE98: 33 | AF98: 0 | AG98: 17 | AH98: 0 | AI98: 2 | AK98: 2 | AL98: 1 | AM98: 6 | AN98: 1 | AO98: 3 | AP98: 0 | AQ98: 1 | AR98: 1 | AS98: 3 | AT98: 1 | AU98: 2 | AV98: 1 | AW98: 1 | AX98: 0 | AY98: 5 | BA98: 5 | BB98: 0 | BC98: 0 | BD98: 0 | BE98: 3 | BF98: 0 | BG98: 4 | BH98: 0 | BI98: 1 | BJ98: 0 | BK98: 8 | BL98: 1 | BM98: 3 | BN98: 0 | CE98: 5 | CF98: 1 | CG98: 4 | CH98: 0 | CI98: 6 | CJ98: 0 | CK98: 2 | CL98: 1 | CM98: 2 | CN98: 0 | CO98: 3 | CP98: 1 | CQ98: 1 | CR98: 0 | CS98: 2 | CT98: 0 | DK98: 243 | DL98: 7 | DM98: 221 | DN98: 10 | DO98: 191 | DP98: 4 | DQ98: 205 | DR98: 13 | DS98: 207 | DT98: 11 | DU98: 138 | DV98: 11 | DW98: 185 | DX98: 9
A99: 221971 | B99: Union University | C99: 101 | E99: 119 | G99: 44 | H99: 0 | I99: 41 | J99: 0 | K99: 39 | L99: 0 | M99: 27 | N99: 1 | O99: 35 | P99: 0 | Q99: 44 | R99: 0 | S99: 40 | U99: 54 | W99: 62 | X99: 0 | Y99: 42 | Z99: 2 | AA99: 47 | AB99: 10 | AC99: 60 | AD99: 33 | AE99: 49 | AF99: 0 | AG99: 43 | AH99: 0 | AI99: 12 | AK99: 13 | AM99: 10 | AO99: 23 | AP99: 2 | AQ99: 11 | AR99: 0 | AS99: 16 | AT99: 1 | AU99: 17 | AV99: 0 | AW99: 16 | AX99: 0 | AY99: 5 | BA99: 9 | BB99: 1 | BC99: 9 | BD99: 0 | BE99: 8 | BF99: 3 | BG99: 5 | BH99: 1 | BI99: 11 | BJ99: 3 | BK99: 9 | BL99: 0 | BM99: 11 | BN99: 0 | BO99: 50 | BQ99: 64 | BR99: 0 | BS99: 87 | BT99: 44 | BU99: 101 | BV99: 42 | BW99: 127 | BX99: 0 | BY99: 128 | BZ99: 0 | CA99: 148 | CB99: 0 | CC99: 164 | CD99: 0 | CE99: 9 | CG99: 29 | CH99: 2 | CI99: 22 | CJ99: 0 | CK99: 17 | CL99: 1 | CM99: 22 | CN99: 2 | CO99: 21 | CP99: 0 | CQ99: 12 | CR99: 0 | CS99: 18 | CT99: 0 | CU99: 2 | CW99: 1 | CY99: 0 | DA99: 3 | DC99: 1 | DE99: 0 | DF99: 0 | DG99: 2 | DH99: 0 | DI99: 1 | DJ99: 0 | DK99: 396 | DM99: 433 | DN99: 7 | DO99: 399 | DP99: 44 | DQ99: 459 | DR99: 59 | DS99: 562 | DT99: 24 | DU99: 644 | DV99: 51 | DW99: 640 | DX99: 0
A100: 226471 | B100: University of Mary Hardin-Baylor | C100: 79 | D100: 5 | E100: 76 | F100: 4 | G100: 71 | H100: 6 | I100: 76 | J100: 2 | K100: 65 | L100: 9 | M100: 55 | N100: 10 | O100: 45 | P100: 10 | Q100: 61 | R100: 7 | S100: 69 | U100: 79 | W100: 70 | X100: 1 | Y100: 76 | Z100: 1 | AA100: 81 | AC100: 76 | AE100: 80 | AG100: 90 | AI100: 9 | AJ100: 2 | AK100: 20 | AL100: 2 | AM100: 13 | AN100: 1 | AO100: 13 | AP100: 0 | AQ100: 10 | AS100: 12 | AT100: 2 | AU100: 8 | AV100: 1 | AW100: 6 | AX100: 1 | AY100: 9 | BA100: 7 | BB100: 3 | BC100: 10 | BD100: 2 | BE100: 9 | BF100: 2 | BG100: 17 | BH100: 1 | BI100: 19 | BJ100: 2 | BK100: 11 | BL100: 4 | BM100: 7 | BN100: 2 | BO100: 48 | BQ100: 57 | BS100: 64 | BU100: 79 | BW100: 82 | BY100: 98 | CA100: 143 | CC100: 167 | CE100: 19 | CF100: 2 | CG100: 18 | CH100: 1 | CI100: 12 | CK100: 9 | CM100: 6 | CO100: 5 | CQ100: 3 | CS100: 7 | CY100: 0 | DA100: 3 | DC100: 2 | DE100: 5 | DI100: 3 | DK100: 494 | DL100: 44 | DM100: 496 | DN100: 34 | DO100: 478 | DP100: 38 | DQ100: 500 | DR100: 28 | DS100: 474 | DT100: 26 | DU100: 478 | DV100: 25 | DW100: 592 | DX100: 24
...

Sheet simplified
A1: UnitID | B1: Institution Name | C1: TOTAL (2004) | D1: Business (2004) | E1: Education (2004) | F1: Nursing (2004) | G1: English (2004) | H1: History (2004) | I1: Philosophy (2004) | J1: HUMANITIES (2004) | K1: TOTAL (2006) | L1: Business (2006) | M1: Education (2006) | N1: Nursing (2006) | O1: English (2006) | P1: History (2006) | Q1: Philosophy (2006) | R1: HUMANITIES (2006) | S1: TOTAL (2008) | T1: Business (2008) | U1: Education (2008) | V1: Nursing (2008) | W1: English (2008) | X1: History (2008) | Y1: Philosophy (2008) | Z1: HUMANITIES (2008) | AA1: TOTAL (2010) | AB1: Business (2010) | AC1: Education (2010) | AD1: Nursing (2010) | AE1: English (2010) | AF1: History (2010) | AG1: Philosophy (2010) | AH1: HUMANITIES (2010) | AI1: TOTAL (2012) | AJ1: Business (2012) | AK1: Education (2012) | AL1: Nursing (2012) | AM1: English (2012) | AN1: History (2012) | AO1: Philosophy (2012) | AP1: HUMANITIES (2012) | AQ1: TOTAL (2014) | AR1: Business (2014) | AS1: Education (2014) | AT1: Nursing (2014) | AU1: English (2014) | AV1: History (2014) | AW1: Philosophy (2014) | AX1: HUMANITIES (2014)
A2: a 1 | B2: a 2
A3: 222178 | B3: Abilene Christian University | C3: 871 | D3: 215 | E3: 105 | F3: 14 | G3: 47 | H3: 10 | I3: 0 | J3: =G3+H3+I3 -> 57 | K3: 825 | L3: 190 | M3: 99 | N3: 24 | O3: 49 | P3: 16 | Q3: 0 | R3: =O3+P3+Q3 -> 65 | S3: 892 | T3: 231 | U3: 92 | V3: 25 | W3: 29 | X3: 6 | Y3: 0 | Z3: =W3+X3+Y3 -> 35 | AA3: 836 | AB3: 181 | AC3: 86 | AD3: 26 | AE3: 29 | AF3: 8 | AG3: 0 | AH3: =AE3+AF3+AG3 -> 37 | AI3: 832 | AJ3: 194 | AK3: 68 | AL3: 27 | AM3: 24 | AN3: 11 | AO3: 0 | AP3: =AM3+AN3+AO3 -> 35 | AQ3: 822 | AR3: 210 | AS3: 62 | AT3: 30 | AU3: 20 | AV3: 7 | AW3: 0 | AX3: =AU3+AV3+AW3 -> 27
A4: 150066 | B4: Anderson University, IN | C4: 428 | D4: 80 | E4: 74 | F4: 33 | G4: 9 | H4: 13 | I4: 16 | J4: =G4+H4+I4 -> 38 | K4: 485 | L4: 97 | M4: 84 | N4: 27 | O4: 7 | P4: 19 | Q4: 18 | R4: =O4+P4+Q4 -> 44 | S4: 535 | T4: 116 | U4: 74 | V4: 35 | W4: 12 | X4: 16 | Y4: 14 | Z4: =W4+X4+Y4 -> 42 | AA4: 449 | AB4: 95 | AC4: 63 | AD4: 33 | AE4: 11 | AF4: 25 | AG4: 15 | AH4: =AE4+AF4+AG4 -> 51 | AI4: 476 | AJ4: 100 | AK4: 59 | AL4: 31 | AM4: 6 | AN4: 22 | AO4: 8 | AP4: =AM4+AN4+AO4 -> 36 | AQ4: 418 | AR4: 83 | AS4: 49 | AT4: 25 | AU4: 8 | AV4: 13 | AW4: 4 | AX4: =AU4+AV4+AW4 -> 25
A5: 156213 | B5: Asbury University | C5: 267 | D5: 18 | E5: 20 | F5: 0 | G5: 34 | H5: 17 | I5: 6 | J5: =G5+H5+I5 -> 57 | K5: 287 | L5: 23 | M5: 29 | N5: 0 | O5: 27 | P5: 10 | Q5: 8 | R5: =O5+P5+Q5 -> 45 | S5: 242 | T5: 26 | U5: 23 | V5: 0 | W5: 21 | X5: 14 | Y5: 4 | Z5: =W5+X5+Y5 -> 39 | AA5: 316 | AB5: 31 | AC5: 53 | AD5: 0 | AE5: 9 | AF5: 16 | AG5: 3 | AH5: =AE5+AF5+AG5 -> 28 | AI5: 263 | AJ5: 17 | AK5: 35 | AL5: 0 | AM5: 20 | AN5: 10 | AO5: 3 | AP5: =AM5+AN5+AO5 -> 33 | AQ5: 302 | AR5: 35 | AS5: 52 | AT5: 0 | AU5: 15 | AV5: 4 | AW5: 0 | AX5: =AU5+AV5+AW5 -> 19
A6: 109785 | B6: Azusa Pacific University | C6: 1107 | D6: 244 | E6: 18 | F6: 60 | G6: 28 | H6: 10 | I6: 3 | J6: =G6+H6+I6 -> 41 | K6: 1181 | L6: 258 | M6: 24 | N6: 91 | O6: 30 | P6: 0 | Q6: 7 | R6: =O6+P6+Q6 -> 37 | S6: 1306 | T6: 281 | U6: 25 | V6: 125 | W6: 33 | X6: 20 | Y6: 14 | Z6: =W6+X6+Y6 -> 67 | AA6: 1186 | AB6: 254 | AC6: 24 | AD6: 130 | AE6: 47 | AF6: 19 | AG6: 2 | AH6: =AE6+AF6+AG6 -> 68 | AI6: 1437 | AJ6: 302 | AK6: 34 | AL6: 275 | AM6: 49 | AN6: 22 | AO6: 11 | AP6: =AM6+AN6+AO6 -> 82 | AQ6: 1764 | AR6: 372 | AS6: 69 | AT6: 360 | AU6: 61 | AV6: 27 | AW6: 15 | AX6: =AU6+AV6+AW6 -> 103
A7: 175421 | B7: Belhaven University | C7: 391 | D7: 223 | E7: 24 | F7: 0 | G7: 12 | H7: 12 | I7: 0 | J7: =G7+H7+I7 -> 24 | K7: 378 | L7: 224 | M7: 19 | N7: 0 | O7: 13 | P7: 12 | Q7: 3 | R7: =O7+P7+Q7 -> 28 | S7: 412 | T7: 192 | U7: 18 | V7: 0 | W7: 5 | X7: 11 | Y7: 2 | Z7: =W7+X7+Y7 -> 18 | AA7: 472 | AB7: 216 | AC7: 10 | AD7: 0 | AE7: 13 | AF7: 6 | AG7: 2 | AH7: =AE7+AF7+AG7 -> 21 | AI7: 462 | AJ7: 171 | AK7: 30 | AL7: 0 | AM7: 5 | AN7: 12 | AO7: 1 | AP7: =AM7+AN7+AO7 -> 18 | AQ7: 498 | AR7: 159 | AS7: 9 | AT7: 0 | AU7: 15 | AV7: 4 | AW7: 1 | AX7: =AU7+AV7+AW7 -> 20
A8: 150145 | B8: Bethel College, IN | C8: 305 | D8: 100 | E8: 37 | F8: 28 | G8: 4 | H8: 3 | I8: 8 | J8: =G8+H8+I8 -> 15 | K8: 329 | L8: 95 | M8: 50 | N8: 18 | O8: 5 | P8: 8 | Q8: 14 | R8: =O8+P8+Q8 -> 27 | S8: 348 | T8: 131 | U8: 37 | V8: 45 | W8: 4 | X8: 1 | Y8: 10 | Z8: =W8+X8+Y8 -> 15 | AA8: 419 | AB8: 155 | AC8: 50 | AD8: 62 | AE8: 4 | AF8: 3 | AG8: 10 | AH8: =AE8+AF8+AG8 -> 17 | AI8: 465 | AJ8: 184 | AK8: 54 | AL8: 54 | AM8: 5 | AN8: 1 | AO8: 12 | AP8: =AM8+AN8+AO8 -> 18 | AQ8: 450 | AR8: 133 | AS8: 35 | AT8: 69 | AU8: 6 | AV8: 3 | AW8: 4 | AX8: =AU8+AV8+AW8 -> 13
A9: 173160 | B9: Bethel University, MN | C9: 730 | D9: 176 | E9: 98 | F9: 85 | G9: 21 | H9: 21 | I9: 16 | J9: =G9+H9+I9 -> 58 | K9: 803 | L9: 191 | M9: 113 | N9: 107 | O9: 19 | P9: 18 | Q9: 11 | R9: =O9+P9+Q9 -> 48 | S9: 830 | T9: 211 | U9: 105 | V9: 121 | W9: 26 | X9: 25 | Y9: 13 | Z9: =W9+X9+Y9 -> 64 | AA9: 918 | AB9: 199 | AC9: 92 | AD9: 163 | AE9: 16 | AF9: 16 | AG9: 18 | AH9: =AE9+AF9+AG9 -> 50 | AI9: 933 | AJ9: 208 | AK9: 85 | AL9: 182 | AM9: 17 | AN9: 15 | AO9: 12 | AP9: =AM9+AN9+AO9 -> 44 | AQ9: 910 | AR9: 195 | AS9: 89 | AT9: 184 | AU9: 13 | AV9: 11 | AW9: 3 | AX9: =AU9+AV9+AW9 -> 27
A10: 110097 | B10: Biola University | C10: 690 | D10: 136 | E10: 61 | F10: 32 | G10: 29 | H10: 11 | I10: 12 | J10: =G10+H10+I10 -> 52 | K10: 778 | L10: 204 | M10: 67 | N10: 26 | O10: 22 | P10: 12 | Q10: 9 | R10: =O10+P10+Q10 -> 43 | S10: 896 | T10: 237 | U10: 48 | V10: 32 | W10: 42 | X10: 10 | Y10: 10 | Z10: =W10+X10+Y10 -> 62 | AA10: 913 | AB10: 236 | AC10: 44 | AD10: 32 | AE10: 39 | AF10: 18 | AG10: 15 | AH10: =AE10+AF10+AG10 -> 72 | AI10: 897 | AJ10: 163 | AK10: 71 | AL10: 37 | AM10: 31 | AN10: 19 | AO10: 8 | AP10: =AM10+AN10+AO10 -> 58 | AQ10: 932 | AR10: 108 | AS10: 51 | AT10: 39 | AU10: 41 | AV10: 13 | AW10: 14 | AX10: =AU10+AV10+AW10 -> 68
A11: 201371 | B11: Bluffton University | C11: 250 | D11: 88 | E11: 56 | F11: 0 | G11: 5 | H11: 4 | I11: 2 | J11: =G11+H11+I11 -> 11 | K11: 263 | L11: 71 | M11: 65 | N11: 0 | O11: 7 | P11: 3 | Q11: 2 | R11: =O11+P11+Q11 -> 12 | S11: 274 | T11: 83 | U11: 59 | V11: 0 | W11: 8 | X11: 7 | Y11: 2 | Z11: =W11+X11+Y11 -> 17 | AA11: 240 | AB11: 95 | AC11: 41 | AD11: 0 | AE11: 8 | AF11: 14 | AG11: 3 | AH11: =AE11+AF11+AG11 -> 25 | AI11: 272 | AJ11: 100 | AK11: 47 | AL11: 0 | AM11: 14 | AN11: 9 | AO11: 4 | AP11: =AM11+AN11+AO11 -> 27 | AQ11: 209 | AR11: 82 | AS11: 33 | AT11: 0 | AU11: 6 | AV11: 5 | AW11: 0 | AX11: =AU11+AV11+AW11 -> 11
A12: 219790 | B12: Bryan College-Dayton | C12: 128 | D12: 33 | E12: 22 | F12: 0 | G12: 6 | H12: 8 | I12: 0 | J12: =G12+H12+I12 -> 14 | K12: 176 | L12: 72 | M12: 19 | N12: 0 | O12: 6 | P12: 8 | Q12: 0 | R12: =O12+P12+Q12 -> 14 | S12: 248 | T12: 153 | U12: 15 | V12: 0 | W12: 7 | X12: 2 | Y12: 2 | Z12: =W12+X12+Y12 -> 11 | AA12: 305 | AB12: 185 | AC12: 20 | AD12: 0 | AE12: 9 | AF12: 5 | AG12: 2 | AH12: =AE12+AF12+AG12 -> 16 | AI12: 309 | AJ12: 167 | AK12: 25 | AL12: 0 | AM12: 4 | AN12: 6 | AO12: 2 | AP12: =AM12+AN12+AO12 -> 12 | AQ12: 304 | AR12: 146 | AS12: 34 | AT12: 0 | AU12: 17 | AV12: 5 | AW12: 2 | AX12: =AU12+AV12+AW12 -> 24
A13: 110361 | B13: California Baptist University | C13: 430 | D13: 60 | E13: 0 | F13: 0 | G13: 23 | H13: 15 | I13: 4 | J13: =G13+H13+I13 -> 42 | K13: 595 | L13: 77 | M13: 0 | N13: 0 | O13: 27 | P13: 23 | Q13: 17 | R13: =O13+P13+Q13 -> 67 | S13: 648 | T13: 113 | U13: 0 | V13: 3 | W13: 33 | X13: 22 | Y13: 29 | Z13: =W13+X13+Y13 -> 84 | AA13: 739 | AB13: 122 | AC13: 20 | AD13: 45 | AE13: 36 | AF13: 25 | AG13: 31 | AH13: =AE13+AF13+AG13 -> 92 | AI13: 850 | AJ13: 113 | AK13: 30 | AL13: 65 | AM13: 27 | AN13: 16 | AO13: 33 | AP13: =AM13+AN13+AO13 -> 76 | AQ13: 1057 | AR13: 129 | AS13: 48 | AT13: 104 | AU13: 30 | AV13: 17 | AW13: 35 | AX13: =AU13+AV13+AW13 -> 82
A14: 169080 | B14: Calvin College | C14: 952 | D14: 126 | E14: 81 | F14: 51 | G14: 64 | H14: 28 | I14: 38 | J14: =G14+H14+I14 -> 130 | K14: 1030 | L14: 118 | M14: 86 | N14: 57 | O14: 43 | P14: 53 | Q14: 39 | R14: =O14+P14+Q14 -> 135 | S14: 927 | T14: 131 | U14: 67 | V14: 61 | W14: 39 | X14: 28 | Y14: 39 | Z14: =W14+X14+Y14 -> 106 | AA14: 1038 | AB14: 144 | AC14: 107 | AD14: 61 | AE14: 44 | AF14: 23 | AG14: 36 | AH14: =AE14+AF14+AG14 -> 103 | AI14: 905 | AJ14: 118 | AK14: 109 | AL14: 60 | AM14: 31 | AN14: 16 | AO14: 36 | AP14: =AM14+AN14+AO14 -> 83 | AQ14: 1000 | AR14: 124 | AS14: 130 | AT14: 65 | AU14: 35 | AV14: 14 | AW14: 39 | AX14: =AU14+AV14+AW14 -> 88
... A113: 101189 | B113: Faulkner University (2014) | C113: 659 | D113: 515 | E113: 7 | F113: 0 | G113: 2 | H113: 3 | I113: 0 | J113: =G113+H113+I113 -> 5 | K113: 622 | L113: 452 | M113: 14 | N113: 0 | O113: 0 | P113: 5 | Q113: 0 | R113: =O113+P113+Q113 -> 5 | S113: 591 | T113: 448 | U113: 23 | V113: 0 | W113: 5 | X113: 2 | Y113: 0 | Z113: =W113+X113+Y113 -> 7 | AA113: 649 | AB113: 518 | AC113: 13 | AD113: 0 | AE113: 4 | AF113: 3 | AG113: 0 | AH113: =AE113+AF113+AG113 -> 7 | AI113: 575 | AJ113: 362 | AK113: 16 | AL113: 0 | AM113: 10 | AN113: 4 | AO113: 0 | AP113: =AM113+AN113+AO113 -> 14 | AQ113: 510 | AR113: 341 | AS113: 18 | AT113: 0 | AU113: 7 | AV113: 1 | AW113: 0 | AX113: =AU113+AV113+AW113 -> 8
B114: TOTALS | C114: =SUM(C3:C100) -> 39473 | D114: =SUM(D3:D100) -> 11643 | E114: =SUM(E3:E100) -> 4718 | F114: =SUM(F3:F100) -> 1599 | G114: =SUM(G3:G100) -> 1264 | H114: =SUM(H3:H100) -> 746 | I114: =SUM(I3:I100) -> 935 | J114: =SUM(J3:J100) -> 2945 | K114: =SUM(K3:K101) -> 40085 | L114: =SUM(L3:L101) -> 11079 | M114: =SUM(M3:M101) -> 4599 | N114: =SUM(N3:N101) -> 2200 | O114: =SUM(O3:O101) -> 1264 | P114: =SUM(P3:P101) -> 837 | Q114: =SUM(Q3:Q101) -> 898 | R114: =SUM(R3:R101) -> 2999 | S114: =SUM(S3:S105) -> 43601 | T114: =SUM(T3:T105) -> 12116 | U114: =SUM(U3:U105) -> 4723 | V114: =SUM(V3:V105) -> 3233 | W114: =SUM(W3:W105) -> 1280 | X114: =SUM(X3:X105) -> 826 | Y114: =SUM(Y3:Y105) -> 795 | Z114: =SUM(Z3:Z105) -> 2901 | ... AH114: =SUM(AH3:AH105) -> 2949 | AI114: =SUM(AI3:AI111) -> 47015 | AJ114: =SUM(AJ3:AJ111) -> 11538 | AK114: =SUM(AK3:AK111) -> 5106 | AL114: =SUM(AL3:AL111) -> 4373 | AM114: =SUM(AM3:AM111) -> 1260 | AN114: =SUM(AN3:AN111) -> 884 | AO114: =SUM(AO3:AO111) -> 705 | AP114: =SUM(AP3:AP111) -> 2849 | AQ114: =SUM(AQ3:AQ113) -> 49986 | AR114: =SUM(AR3:AR113) -> 11398 | AS114: =SUM(AS3:AS113) -> 4711 | AT114: =SUM(AT3:AT113) -> 5542 | AU114: =SUM(AU3:AU113) -> 1318 | AV114: =SUM(AV3:AV113) -> 747 | AW114: =SUM(AW3:AW113) -> 677 | AX114: =SUM(AX3:AX113) -> 2742
B115: As % | D115: =D114/39473 -> 0.29496111 | E115: =E114/39473 -> 0.11952474 | F115: =F114/39473 -> 0.040508702 | G115: =G114/39473 -> 0.032021888 | H115: =H114/39473 -> 0.018898994 | I115: =I114/39473 -> 0.023687077 | J115: =J114/39473 -> 0.07460796 | L115: =L114/40085 -> 0.27638768 | M115: =M114/40085 -> 0.1147312 | N115: =N114/40085 -> 0.054883373 | O115: =O114/40085 -> 0.031532992 | P115: =P114/40085 -> 0.020880629 | Q115: =Q114/40085 -> 0.022402395 | R115: =R114/40085 -> 0.074816016 | T115: =T114/43601 -> 0.27788353 | U115: =U114/43601 -> 0.1083232 | V115: =V114/43601 -> 0.074149675 | W115: =W114/43601 -> 0.029357125 | X115: =X114/43601 -> 0.01894452 | Y115: =Y114/43601 -> 0.018233527 | Z115: =Z114/43601 -> 0.066535171 | AB115: =AB114/45095 -> 0.27113871 | AC115: =AC114/45095 -> 0.1060428 | AD115: =AD114/45095 -> 0.081738552 | AE115: =AE114/45095 -> 0.028717153 | AF115: =AF114/45095 -> 0.019869165 | AG115: =AG114/45095 -> 0.016808959 | AH115: =AH114/45095 -> 0.065395277 | AJ115: =AJ114/47015 -> 0.24541104 | AK115: =AK114/47015 -> 0.10860364 | AL115: =AL114/47015 -> 0.093012868 | AM115: =AM114/47015 -> 0.026799957 | AN115: =AN114/47015 -> 0.01880251 | AO115: =AO114/47015 -> 0.014995214 | AP115: =AP114/47015 -> 0.060597682 | AR115: =AR114/49986 -> 0.22802385 | AS115: =AS114/49986 -> 0.094246389 | AT115: =AT114/49986 -> 0.11087104 | AU115: =AU114/49986 -> 0.026367383 | AV115: =AV114/49986 -> 0.014944184 | AW115: =AW114/49986 -> 0.013543792 | AX115: =AX114/49986 -> 0.05485536
B116: TOTALS (counting all schools) | C116: 42551 | D116: 12755 | E116: 5069 | F116: 1683 | G116: 1323 | H116: 771 | I116: 1008 | J116: 3102 | K116: 42968 | L116: 12015 | M116: 4912 | N116: 2293 | O116: 1317 | P116: 896 | Q116: 958 | R116: 3171 | S116: 45758 | T116: 12894 | U116: 4977 | V116: 3281 | W116: 1317 | X116: 854 | Y116: 843 | Z116: 3014 | AA116: 47279 | AB116: 13051 | AC116: 5025 | AD116: 3776 | AE116: 1344 | AF116: 918 | AG116: 797 | AH116: 3059 | AI116: 47786 | AJ116: 11935 | AK116: 5137 | AL116: 4373 | AM116: 1288 | AN116: 893 | AO116: 705 | AP116: 2886 | AQ116: 49986 | AR116: 11398 | AS116: 4711 | AT116: 5542 | AU116: 1318 | AV116: 747 | AW116: 677 | AX116: 2742
B117: As % | D117: 0.29975794 | E117: 0.11912764 | F117: 0.039552537 | G117: 0.031092101 | H117: 0.018119433 | I117: 0.02368922 | J117: 0.072900754 | L117: 0.2796267 | M117: 0.11431763 | N117: 0.053365295 | O117: 0.030650717 | P117: 0.020852728 | Q117: 0.022295662 | R117: 0.073799106 | T117: 0.28178679 | U117: 0.10876787 | V117: 0.071703309 | W117: 0.028781852 | X117: 0.018663403 | Y117: 0.018423008 | Z117: 0.065868263 | AB117: 0.27604222 | AC117: 0.10628397 | AD117: 0.079866325 | AE117: 0.028426997 | AF117: 0.019416654 | AG117: 0.016857379 | AH117: 0.06470103 | AJ117: 0.24975934 | AK117: 0.1075001 | AL117: 0.091512158 | AM117: 0.026953501 | AN117: 0.018687482 | AO117: 0.014753275 | AP117: 0.060394258 | AR117: 0.22802385 | AS117: 0.094246389 | AT117: 0.11087104 | AU117: 0.026367383 | AV117: 0.014944184 | AW117: 0.013543792 | AX117: 0.05485536

Sheet percentages
A1: UnitID | B1: Institution Name | C1: TOTAL (2004) | D1: Business (2004) | E1: Education (2004) | F1: Nursing (2004) | G1: English (2004) | H1: History (2004) | I1: Philosophy (2004) | J1: HUMANITIES (2004) | K1: TOTAL (2006) | L1: Business (2006) | M1: Education (2006) | N1: Nursing (2006) | O1: English (2006) | P1: History (2006) | Q1: Philosophy (2006) | R1: HUMANITIES (2006) | S1: TOTAL (2008) | T1: Business (2008) | U1: Education (2008) | V1: Nursing (2008) | W1: English (2008) | X1: History (2008) | Y1: Philosophy (2008) | Z1: HUMANITIES (2008) | AA1: TOTAL (2010) | AB1: Business (2010) | AC1: Education (2010) | AD1: Nursing (2010) | AE1: English (2010) | AF1: History (2010) | AG1: Philosophy (2010) | AH1: HUMANITIES (2010) | AI1: TOTAL (2012) | AJ1: Business (2012) | AK1: Education (2012) | AL1: Nursing (2012) | AM1: English (2012) | AN1: History (2012) | AO1: Philosophy (2012) | AP1: HUMANITIES (2012) | AQ1: TOTAL (2014) | AR1: Business (2014) | AS1: Education (2014) | AT1: Nursing (2014) | AU1: English (2014) | AV1: History (2014) | AW1: Philosophy (2014) | AX1: HUMANITIES (2014) | AY1: HUMANITIES CHANGE
A2: a 1 | B2: a 2
A3: 218441 | B3: North Greenville University | C3: 234 | D3: =simplified!D62/percentages!C62 -> 0.12363636 | E3: =simplified!E62/C3 -> 0.17094017 | F3: =simplified!F62/C3 -> 0 | G3: =simplified!G62/C3 -> 0.034188034 | H3: =simplified!H62/C3 -> 0 | I3: =simplified!I62/C3 -> 0.2991453 | J3: =simplified!J62/C3 -> 0.33333333 | K3: 277 | L3: =simplified!L62/K3 -> 0.18050542 | M3: =simplified!M62/K3 -> 0.23465704 | N3: =simplified!N62/K3 -> 0 | O3: =simplified!O62/K3 -> 0.018050542 | P3: =simplified!P62/K3 -> 0.032490975 | Q3: =simplified!Q62/K3 -> 0.10469314 | R3: =simplified!R62/K3 -> 0.15523466 | S3: 320 | T3: =simplified!T62/S3 -> 0.225 | U3: =simplified!U62/S3 -> 0.134375 | V3: =simplified!V62/S3 -> 0 | W3: =simplified!W62/S3 -> 0.04375 | X3: =simplified!X62/S3 -> 0.028125 | Y3: =simplified!Y62/S3 -> 0 | Z3: =simplified!Z62/S3 -> 0.071875 | AA3: 347 | AB3: =simplified!AB62/AA3 -> 0.19308357 | AC3: =simplified!AC62/AA3 -> 0.17867435 | AD3: =simplified!AD62/AA3 -> 0 | AE3: =simplified!AE62/AA3 -> 0.040345821 | AF3: =simplified!AF62/AA3 -> 0.031700288 | AG3: =simplified!AG62/AA3 -> 0 | AH3: =simplified!AH62/AA3 -> 0.07204611 | AI3: 389 | AJ3: =simplified!AJ62/AI3 -> 0.15938303 | AK3: =simplified!AK62/AI3 -> 0.1311054 | AL3: =simplified!AL62/AI3 -> 0 | AM3: =simplified!AM62/AI3 -> 0.038560411 | AN3: =simplified!AN62/AI3 -> 0.030848329 | AO3: =simplified!AO62/AI3 -> 0 | AP3: =simplified!AP62/AI3 -> 0.06940874 | AQ3: 404 | AR3: =simplified!AR62/AQ3 -> 0.15346535 | AS3: =simplified!AS62/AQ3 -> 0.14108911 | AT3: =simplified!AT62/AQ3 -> 0 | AU3: =simplified!AU62/AQ3 -> 0.032178218 | AV3: =simplified!AV62/AQ3 -> 0.017326733 | AW3: =simplified!AW62/AQ3 -> 0 | AX3: =simplified!AX62/AQ3 -> 0.04950495 | AY3: =AX3-J3 -> -0.28382838
A4: 165936 | B4: Gordon College | C4: 483 | D4: =simplified!D35/percentages!C35 -> 0.1299435 | E4: =simplified!E35/C4 -> 0.091097308 | F4: =simplified!F35/C4 -> 0 | G4: =simplified!G35/C4 -> 0.11180124 | H4: =simplified!H35/C4 -> 0.060041408 | I4: =simplified!I35/C4 -> 0.076604555 | J4: =simplified!J35/C4 -> 0.2484472 | K4: 487 | L4: =simplified!L35/K4 -> 0.080082136 | M4: =simplified!M35/K4 -> 0.0862423 | N4: =simplified!N35/K4 -> 0 | O4: =simplified!O35/K4 -> 0.092402464 | P4: =simplified!P35/K4 -> 0.067761807 | Q4: =simplified!Q35/K4 -> 0.090349076 | R4: =simplified!R35/K4 -> 0.25051335 | S4: 408 | T4: =simplified!T35/S4 -> 0.095588235 | U4: =simplified!U35/S4 -> 0.088235294 | V4: =simplified!V35/S4 -> 0 | W4: =simplified!W35/S4 -> 0.10784314 | X4: =simplified!X35/S4 -> 0.044117647 | Y4: =simplified!Y35/S4 -> 0.078431373 | Z4: =simplified!Z35/S4 -> 0.23039216 | AA4: 451 | AB4: =simplified!AB35/AA4 -> 0.11751663 | AC4: =simplified!AC35/AA4 -> 0.086474501 | AD4: =simplified!AD35/AA4 -> 0 | AE4: =simplified!AE35/AA4 -> 0.097560976 | AF4: =simplified!AF35/AA4 -> 0.066518847 | AG4: =simplified!AG35/AA4 -> 0.084257206 | AH4: =simplified!AH35/AA4 -> 0.24833703 | AI4: 421 | AJ4: =simplified!AJ35/AI4 -> 0.12114014 | AK4: =simplified!AK35/AI4 -> 0.087885986 | AL4: =simplified!AL35/AI4 -> 0 | AM4: =simplified!AM35/AI4 -> 0.049881235 | AN4: =simplified!AN35/AI4 -> 0.064133017 | AO4: =simplified!AO35/AI4 -> 0.054631829 | AP4: =simplified!AP35/AI4 -> 0.16864608 | AQ4: 378 | AR4: =simplified!AR35/AQ4 -> 0.13227513 | AS4: =simplified!AS35/AQ4 -> 0.066137566 | AT4: =simplified!AT35/AQ4 -> 0 | AU4: =simplified!AU35/AQ4 -> 0.066137566 | AV4: =simplified!AV35/AQ4 -> 0.034391534 | AW4: =simplified!AW35/AQ4 -> 0.060846561 | AX4: =simplified!AX35/AQ4 -> 0.16137566 | AY4: =AX4-J4 -> -0.087071544
A5: 125727 | B5: Westmont College | C5: 350 | D5: =simplified!D97/percentages!C97 -> 0 | E5: =simplified!E97/C5 -> 0 | F5: =simplified!F97/C5 -> 0 | G5: =simplified!G97/C5 -> 0.10571429 | H5: =simplified!H97/C5 -> 0.04 | I5: =simplified!I97/C5 -> 0.077142857 | J5: =simplified!J97/C5 -> 0.22285714 | K5: 377 | L5: =simplified!L97/K5 -> 0 | M5: =simplified!M97/K5 -> 0 | N5: =simplified!N97/K5 -> 0 | O5: =simplified!O97/K5 -> 0.095490716 | P5: =simplified!P97/K5 -> 0.037135279 | Q5: =simplified!Q97/K5 -> 0.055702918 | R5: =simplified!R97/K5 -> 0.18832891 | S5: 328 | T5: =simplified!T97/S5 -> 0.10670732 | U5: =simplified!U97/S5 -> 0 | V5: =simplified!V97/S5 -> 0 | W5: =simplified!W97/S5 -> 0.10060976 | X5: =simplified!X97/S5 -> 0.036585366 | Y5: =simplified!Y97/S5 -> 0.045731707 | Z5: =simplified!Z97/S5 -> 0.18292683 | AA5: 344 | AB5: =simplified!AB97/AA5 -> 0.14825581 | AC5: =simplified!AC97/AA5 -> 0 | AD5: =simplified!AD97/AA5 -> 0 | AE5: =simplified!AE97/AA5 -> 0.11627907 | AF5: =simplified!AF97/AA5 -> 0.023255814 | AG5: =simplified!AG97/AA5 -> 0.081395349 | AH5: =simplified!AH97/AA5 -> 0.22093023 | AI5: 357 | AJ5: =simplified!AJ97/AI5 -> 0.1232493 | AK5: =simplified!AK97/AI5 -> 0 | AL5: =simplified!AL97/AI5 -> 0 | AM5: =simplified!AM97/AI5 -> 0.072829132 | AN5: =simplified!AN97/AI5 -> 0.036414566 | AO5: =simplified!AO97/AI5 -> 0.067226891 | AP5: =simplified!AP97/AI5 -> 0.17647059 | AQ5: 388 | AR5: =simplified!AR97/AQ5 -> 0.12371134 | AS5: =simplified!AS97/AQ5 -> 0 | AT5: =simplified!AT97/AQ5 -> 0 | AU5: =simplified!AU97/AQ5 -> 0.087628866 | AV5: =simplified!AV97/AQ5 -> 0.030927835 | AW5: =simplified!AW97/AQ5 -> 0.043814433 | AX5: =simplified!AX97/AQ5 -> 0.16237113 | AY5: =AX5-J5 -> -0.060486009
A6: 156213 | B6: Asbury University | C6: 267 | D6: =simplified!D5/percentages!C5 -> 0.051428571 | E6: =simplified!E5/C6 -> 0.074906367 | F6: =simplified!F5/C6 -> 0 | G6: =simplified!G5/C6 -> 0.12734082 | H6: =simplified!H5/C6 -> 0.063670412 | I6: =simplified!I5/C6 -> 0.02247191 | J6: =simplified!J5/C6 -> 0.21348315 | K6: 287 | L6: =simplified!L5/K6 -> 0.080139373 | M6: =simplified!M5/K6 -> 0.1010453 | N6: =simplified!N5/K6 -> 0 | O6: =simplified!O5/K6 -> 0.094076655 | P6: =simplified!P5/K6 -> 0.034843206 | Q6: =simplified!Q5/K6 -> 0.027874564 | R6: =simplified!R5/K6 -> 0.15679443 | S6: 242 | T6: =simplified!T5/S6 -> 0.10743802 | U6: =simplified!U5/S6 -> 0.095041322 | V6: =simplified!V5/S6 -> 0 | W6: =simplified!W5/S6 -> 0.08677686 | X6: =simplified!X5/S6 -> 0.05785124 | Y6: =simplified!Y5/S6 -> 0.016528926 | Z6: =simplified!Z5/S6 -> 0.16115702 | AA6: 316 | AB6: =simplified!AB5/AA6 -> 0.098101266 | AC6: =simplified!AC5/AA6 -> 0.16772152 | AD6: =simplified!AD5/AA6 -> 0 | AE6: =simplified!AE5/AA6 -> 0.028481013 | AF6: =simplified!AF5/AA6 -> 0.050632911 | AG6: =simplified!AG5/AA6 -> 0.0094936709 | AH6: =simplified!AH5/AA6 -> 0.088607595 | AI6: 263 | AJ6: =simplified!AJ5/AI6 -> 0.064638783 | AK6: =simplified!AK5/AI6 -> 0.13307985 | AL6: =simplified!AL5/AI6 -> 0 | AM6: =simplified!AM5/AI6 -> 0.076045627 | AN6: =simplified!AN5/AI6 -> 0.038022814 | AO6: =simplified!AO5/AI6 -> 0.011406844 | AP6: =simplified!AP5/AI6 -> 0.12547529 | AQ6: 302 | AR6: =simplified!AR5/AQ6 -> 0.11589404 | AS6: =simplified!AS5/AQ6 -> 0.17218543 | AT6: =simplified!AT5/AQ6 -> 0 | AU6: =simplified!AU5/AQ6 -> 0.049668874 | AV6: =simplified!AV5/AQ6 -> 0.013245033 | AW6: =simplified!AW5/AQ6 -> 0 | AX6: =simplified!AX5/AQ6 -> 0.062913907 | AY6: =AX6-J6 -> -0.15056924
A7: 191676 | B7: Houghton College | C7: 412 | D7: =simplified!D41/percentages!C41 -> 0.52331606 | E7: =simplified!E41/C7 -> 0.11893204 | F7: =simplified!F41/C7 -> 0 | G7: =simplified!G41/C7 -> 0.097087379 | H7: =simplified!H41/C7 -> 0.019417476 | I7: =simplified!I41/C7 -> 0.089805825 | J7: =simplified!J41/C7 -> 0.20631068 | K7: 423 | L7: =simplified!L41/K7 -> 0.25059102 | M7: =simplified!M41/K7 -> 0.13711584 | N7: =simplified!N41/K7 -> 0 | O7: =simplified!O41/K7 -> 0.096926714 | P7: =simplified!P41/K7 -> 0.014184397 | Q7: =simplified!Q41/K7 -> 0.089834515 | R7: =simplified!R41/K7 -> 0.20094563 | S7: 415 | T7: =simplified!T41/S7 -> 0.27951807 | U7: =simplified!U41/S7 -> 0.1686747 | V7: =simplified!V41/S7 -> 0 | W7: =simplified!W41/S7 -> 0.060240964 | X7: =simplified!X41/S7 -> 0.024096386 | Y7: =simplified!Y41/S7 -> 0.038554217 | Z7: =simplified!Z41/S7 -> 0.12289157 | AA7: 440 | AB7: =simplified!AB41/AA7 -> 0.21590909 | AC7: =simplified!AC41/AA7 -> 0.15454545 | AD7: =simplified!AD41/AA7 -> 0 | AE7: =simplified!AE41/AA7 -> 0.059090909 | AF7: =simplified!AF41/AA7 -> 0.022727273 | AG7: =simplified!AG41/AA7 -> 0.075 | AH7: =simplified!AH41/AA7 -> 0.15681818 | AI7: 403 | AJ7: =simplified!AJ41/AI7 -> 0.23076923 | AK7: =simplified!AK41/AI7 -> 0.12903226 | AL7: =simplified!AL41/AI7 -> 0 | AM7: =simplified!AM41/AI7 -> 0.11414392 | AN7: =simplified!AN41/AI7 -> 0.022332506 | AO7: =simplified!AO41/AI7 -> 0.0024813896 | AP7: =simplified!AP41/AI7 -> 0.13895782 | AQ7: 369 | AR7: =simplified!AR41/AQ7 -> 0.21138211 | AS7: =simplified!AS41/AQ7 -> 0.13821138 | AT7: =simplified!AT41/AQ7 -> 0 | AU7: =simplified!AU41/AQ7 -> 0.073170732 | AV7: =simplified!AV41/AQ7 -> 0.016260163 | AW7: =simplified!AW41/AQ7 -> 0.0081300813 | AX7: =simplified!AX41/AQ7 -> 0.097560976 | AY7: =AX7-J7 -> -0.1087497
A8: 155937 | B8: Sterling College | C8: 86 | D8: =simplified!D83/percentages!C83 -> 0.026845638 | E8: =simplified!E83/C8 -> 0.18604651 | F8: =simplified!F83/C8 -> 0 | G8: =simplified!G83/C8 -> 0.034883721 | H8: =simplified!H83/C8 -> 0.093023256 | I8: =simplified!I83/C8 -> 0.069767442 | J8: =simplified!J83/C8 -> 0.19767442 | K8: 83 | L8: =simplified!L83/K8 -> 0.20481928 | M8: =simplified!M83/K8 -> 0.10843373 | N8: =simplified!N83/K8 -> 0 | O8: =simplified!O83/K8 -> 0.072289157 | P8: =simplified!P83/K8 -> 0.036144578 | Q8: =simplified!Q83/K8 -> 0.060240964 | R8: =simplified!R83/K8 -> 0.1686747 | S8: 61 | T8: =simplified!T83/S8 -> 0.16393443 | U8: =simplified!U83/S8 -> 0.13114754 | V8: =simplified!V83/S8 -> 0 | W8: =simplified!W83/S8 -> 0.06557377 | X8: =simplified!X83/S8 -> 0.016393443 | Y8: =simplified!Y83/S8 -> 0.032786885 | Z8: =simplified!Z83/S8 -> 0.1147541 | AA8: 123 | AB8: =simplified!AB83/AA8 -> 0.15447154 | AC8: =simplified!AC83/AA8 -> 0.17073171 | AD8: =simplified!AD83/AA8 -> 0 | AE8: =simplified!AE83/AA8 -> 0.016260163 | AF8: =simplified!AF83/AA8 -> 0.024390244 | AG8: =simplified!AG83/AA8 -> 0.10569106 | AH8: =simplified!AH83/AA8 -> 0.14634146 | AI8: 136 | AJ8: =simplified!AJ83/AI8 -> 0.16911765 | AK8: =simplified!AK83/AI8 -> 0.26470588 | AL8: =simplified!AL83/AI8 -> 0 | AM8: =simplified!AM83/AI8 -> 0.014705882 | AN8: =simplified!AN83/AI8 -> 0.036764706 | AO8: =simplified!AO83/AI8 -> 0.10294118 | AP8: =simplified!AP83/AI8 -> 0.15441176 | AQ8: 140 | AR8: =simplified!AR83/AQ8 -> 0.15714286 | AS8: =simplified!AS83/AQ8 -> 0.2 | AT8: =simplified!AT83/AQ8 -> 0 | AU8: =simplified!AU83/AQ8 -> 0.042857143 | AV8: =simplified!AV83/AQ8 -> 0 | AW8: =simplified!AW83/AQ8 -> 0.042857143 | AX8: =simplified!AX83/AQ8 -> 0.085714286 | AY8: =AX8-J8 -> -0.11196013
A9: 149781 | B9: Wheaton College | C9: 684 | D9: =simplified!D98/percentages!C98 -> 0.14027149 | E9: =simplified!E98/C9 -> 0.05994152 | F9: =simplified!F98/C9 -> 0 | G9: =simplified!G98/C9 -> 0.080409357 | H9: =simplified!H98/C9 -> 0.032163743 | I9: =simplified!I98/C9 -> 0.065789474 | J9: =simplified!J98/C9 -> 0.17836257 | K9: 683 | L9: =simplified!L98/K9 -> 0.081991215 | M9: =simplified!M98/K9 -> 0.06295754 | N9: =simplified!N98/K9 -> 0.0029282577 | O9: =simplified!O98/K9 -> 0.083455344 | P9: =simplified!P98/K9 -> 0.033674963 | Q9: =simplified!Q98/K9 -> 0.035139092 | R9: =simplified!R98/K9 -> 0.1522694 | S9: 737 | T9: =simplified!T98/S9 -> 0.085481682 | U9: =simplified!U98/S9 -> 0.073270014 | V9: =simplified!V98/S9 -> 0.0027137042 | W9: =simplified!W98/S9 -> 0.092265943 | X9: =simplified!X98/S9 -> 0.039348711 | Y9: =simplified!Y98/S9 -> 0.047489824 | Z9: =simplified!Z98/S9 -> 0.17910448 | AA9: 677 | AB9: =simplified!AB98/AA9 -> 0.097488922 | AC9: =simplified!AC98/AA9 -> 0.066469719 | AD9: =simplified!AD98/AA9 -> 0.0014771049 | AE9: =simplified!AE98/AA9 -> 0.081240768 | AF9: =simplified!AF98/AA9 -> 0.039881832 | AG9: =simplified!AG98/AA9 -> 0.045790251 | AH9: =simplified!AH98/AA9 -> 0.16691285 | AI9: 672 | AJ9: =simplified!AJ98/AI9 -> 0.06547619 | AK9: =simplified!AK98/AI9 -> 0.084821429 | AL9: =simplified!AL98/AI9 -> 0.0044642857 | AM9: =simplified!AM98/AI9 -> 0.071428571 | AN9: =simplified!AN98/AI9 -> 0.040178571 | AO9: =simplified!AO98/AI9 -> 0.035714286 | AP9: =simplified!AP98/AI9 -> 0.14732143 | AQ9: 685 | AR9: =simplified!AR98/AQ9 -> 0.11094891 | AS9: =simplified!AS98/AQ9 -> 0.072992701 | AT9: =simplified!AT98/AQ9 -> 0 | AU9: =simplified!AU98/AQ9 -> 0.075912409 | AV9: =simplified!AV98/AQ9 -> 0.026277372 | AW9: =simplified!AW98/AQ9 -> 0.045255474 | AX9: =simplified!AX98/AQ9 -> 0.14744526 | AY9: =AX9-J9 -> -0.030917318
A10: 139393 | B10: Covenant College | C10: 422 | D10: =simplified!D23/percentages!C23 -> 0.92248062 | E10: =simplified!E23/C10 -> 0.052132701 | F10: =simplified!F23/C10 -> 0 | G10: =simplified!G23/C10 -> 0.045023697 | H10: =simplified!H23/C10 -> 0.068720379 | I10: =simplified!I23/C10 -> 0.045023697 | J10: =simplified!J23/C10 -> 0.15876777 | K10: 350 | L10: =simplified!L23/K10 -> 0.46 | M10: =simplified!M23/K10 -> 0.11142857 | N10: =simplified!N23/K10 -> 0 | O10: =simplified!O23/K10 -> 0.068571429 | P10: =simplified!P23/K10 -> 0.04 | Q10: =simplified!Q23/K10 -> 0.037142857 | R10: =simplified!R23/K10 -> 0.14571429 | S10: 351 | T10: =simplified!T23/S10 -> 0.47863248 | U10: =simplified!U23/S10 -> 0.12820513 | V10: =simplified!V23/S10 -> 0 | W10: =simplified!W23/S10 -> 0.045584046 | X10: =simplified!X23/S10 -> 0.048433048 | Y10: =simplified!Y23/S10 -> 0.017094017 | Z10: =simplified!Z23/S10 -> 0.11111111 | AA10: 384 | AB10: =simplified!AB23/AA10 -> 0.3671875 | AC10: =simplified!AC23/AA10 -> 0.15364583 | AD10: =simplified!AD23/AA10 -> 0 | AE10: =simplified!AE23/AA10 -> 0.0625 | AF10: =simplified!AF23/AA10 -> 0.0625 | AG10: =simplified!AG23/AA10 -> 0.033854167 | AH10: =simplified!AH23/AA10 -> 0.15885417 | AI10: 238 | AJ10: =simplified!AJ23/AI10 -> 0.13865546 | AK10: =simplified!AK23/AI10 -> 0.17226891 | AL10: =simplified!AL23/AI10 -> 0 | AM10: =simplified!AM23/AI10 -> 0.054621849 | AN10: =simplified!AN23/AI10 -> 0.042016807 | AO10: =simplified!AO23/AI10 -> 0.037815126 | AP10: =simplified!AP23/AI10 -> 0.13445378 | AQ10: 253 | AR10: =simplified!AR23/AQ10 -> 0.071146245 | AS10: =simplified!AS23/AQ10 -> 0.098814229 | AT10: =simplified!AT23/AQ10 -> 0 | AU10: =simplified!AU23/AQ10 -> 0.13043478 | AV10: =simplified!AV23/AQ10 -> 0.059288538 | AW10: =simplified!AW23/AQ10 -> 0.035573123 | AX10: =simplified!AX23/AQ10 -> 0.22529644 | AY10: =AX10-J10 -> 0.06652867
A11: 177339 | B11: Evangel University | C11: 286 | D11: =simplified!D32/percentages!C32 -> 0.13270142 | E11: =simplified!E32/C11 -> 0.29370629 | F11: =simplified!F32/C11 -> 0 | G11: =simplified!G32/C11 -> 0 | H11: =simplified!H32/C11 -> 0.031468531 | I11: =simplified!I32/C11 -> 0.11538462 | J11: =simplified!J32/C11 -> 0.14685315 | K11: 352 | L11: =simplified!L32/K11 -> 0.14772727 | M11: =simplified!M32/K11 -> 0.20170455 | N11: =simplified!N32/K11 -> 0 | O11: =simplified!O32/K11 -> 0.019886364 | P11: =simplified!P32/K11 -> 0.014204545 | Q11: =simplified!Q32/K11 -> 0.079545455 | R11: =simplified!R32/K11 -> 0.11363636 | S11: 324 | T11: =simplified!T32/S11 -> 0.17592593 | U11: =simplified!U32/S11 -> 0.20679012 | V11: =simplified!V32/S11 -> 0 | W11: =simplified!W32/S11 -> 0.018518519 | X11: =simplified!X32/S11 -> 0.024691358 | Y11: =simplified!Y32/S11 -> 0.11728395 | Z11: =simplified!Z32/S11 -> 0.16049383 | AA11: 346 | AB11: =simplified!AB32/AA11 -> 0.22543353 | AC11: =simplified!AC32/AA11 -> 0.13583815 | AD11: =simplified!AD32/AA11 -> 0.046242775 | AE11: =simplified!AE32/AA11 -> 0.011560694 | AF11: =simplified!AF32/AA11 -> 0.011560694 | AG11: =simplified!AG32/AA11 -> 0.040462428 | AH11: =simplified!AH32/AA11 -> 0.063583815 | AI11: 408 | AJ11: =simplified!AJ32/AI11 -> 0.23284314 | AK11: =simplified!AK32/AI11 -> 0.1372549 | AL11: =simplified!AL32/AI11 -> 0.014705882 | AM11: =simplified!AM32/AI11 -> 0.019607843 | AN11: =simplified!AN32/AI11 -> 0.012254902 | AO11: =simplified!AO32/AI11 -> 0.041666667 | AP11: =simplified!AP32/AI11 -> 0.073529412 | AQ11: 416 | AR11: =simplified!AR32/AQ11 -> 0.17307692 | AS11: =simplified!AS32/AQ11 -> 0.18269231 | AT11: =simplified!AT32/AQ11 -> 0.021634615 | AU11: =simplified!AU32/AQ11 -> 0.014423077 | AV11: =simplified!AV32/AQ11 -> 0.0072115385 | AW11: =simplified!AW32/AQ11 -> 0.045673077 | AX11: =simplified!AX32/AQ11 -> 0.067307692 | AY11: =AX11-J11 -> -0.079545455
A12: 220516 | B12: King University | C12: 162 | D12: =simplified!D50/percentages!C50 -> 0.10696517 | E12: =simplified!E50/C12 -> 0.12962963 | F12: =simplified!F50/C12 -> 0.15432099 | G12: =simplified!G50/C12 -> 0.049382716 | H12: =simplified!H50/C12 -> 0.074074074 | I12: =simplified!I50/C12 -> 0.018518519 | J12: =simplified!J50/C12 -> 0.14197531 | K12: 177 | L12: =simplified!L50/K12 -> 0.18079096 | M12: =simplified!M50/K12 -> 0 | N12: =simplified!N50/K12 -> 0.36158192 | O12: =simplified!O50/K12 -> 0.06779661 | P12: =simplified!P50/K12 -> 0.028248588 | Q12: =simplified!Q50/K12 -> 0 | R12: =simplified!R50/K12 -> 0.096045198 | S12: 387 | T12: =simplified!T50/S12 -> 0.32816537 | U12: =simplified!U50/S12 -> 0.023255814 | V12: =simplified!V50/S12 -> 0.40568475 | W12: =simplified!W50/S12 -> 0.020671835 | X12: =simplified!X50/S12 -> 0.010335917 | Y12: =simplified!Y50/S12 -> 0 | Z12: =simplified!Z50/S12 -> 0.031007752 | AA12: 470 | AB12: =simplified!AB50/AA12 -> 0.29574468 | AC12: =simplified!AC50/AA12 -> 0.023404255 | AD12: =simplified!AD50/AA12 -> 0.40425532 | AE12: =simplified!AE50/AA12 -> 0.010638298 | AF12: =simplified!AF50/AA12 -> 0.017021277 | AG12: =simplified!AG50/AA12 -> 0 | AH12: =simplified!AH50/AA12 -> 0.027659574 | AI12: 623 | AJ12: =simplified!AJ50/AI12 -> 0.33065811 | AK12: =simplified!AK50/AI12 -> 0.020866774 | AL12: =simplified!AL50/AI12 -> 0.43659711 | AM12: =simplified!AM50/AI12 -> 0.019261637 | AN12: =simplified!AN50/AI12 -> 0.012841091 | AO12: =simplified!AO50/AI12 -> 0 | AP12: =simplified!AP50/AI12 -> 0.032102729 | AQ12: 757 | AR12: =simplified!AR50/AQ12 -> 0.30383091 | AS12: =simplified!AS50/AQ12 -> 0.023778071 | AT12: =simplified!AT50/AQ12 -> 0.41875826 | AU12: =simplified!AU50/AQ12 -> 0.0092470277 | AV12: =simplified!AV50/AQ12 -> 0.0092470277 | AW12: =simplified!AW50/AQ12 -> 0 | AX12: =simplified!AX50/AQ12 -> 0.018494055 | AY12: =AX12-J12 -> -0.12348125
A13: 219806 | B13: Carson-Newman University | C13: 428 | D13: =simplified!D16/percentages!C16 -> 0.10909091 | E13: =simplified!E16/C13 -> 0.19392523 | F13: =simplified!F16/C13 -> 0.03271028 | G13: =simplified!G16/C13 -> 0.023364486 | H13: =simplified!H16/C13 -> 0.037383178 | I13: =simplified!I16/C13 -> 0.077102804 | J13: =simplified!J16/C13 -> 0.13785047 | K13: 403 | L13: =simplified!L16/K13 -> 0.17121588 | M13: =simplified!M16/K13 -> 0.20347395 | N13: =simplified!N16/K13 -> 0.081885856 | O13: =simplified!O16/K13 -> 0.012406948 | P13: =simplified!P16/K13 -> 0.029776675 | Q13: =simplified!Q16/K13 -> 0.05707196 | R13: =simplified!R16/K13 -> 0.099255583 | S13: 380 | T13: =simplified!T16/S13 -> 0.11842105 | U13: =simplified!U16/S13 -> 0.13947368 | V13: =simplified!V16/S13 -> 0.16842105 | W13: =simplified!W16/S13 -> 0.018421053 | X13: =simplified!X16/S13 -> 0.028947368 | Y13: =simplified!Y16/S13 -> 0.044736842 | Z13: =simplified!Z16/S13 -> 0.092105263 | AA13: 328 | AB13: =simplified!AB16/AA13 -> 0.17073171 | AC13: =simplified!AC16/AA13 -> 0.1554878 | AD13: =simplified!AD16/AA13 -> 0.0030487805 | AE13: =simplified!AE16/AA13 -> 0.021341463 | AF13: =simplified!AF16/AA13 -> 0.027439024 | AG13: =simplified!AG16/AA13 -> 0.045731707 | AH13: =simplified!AH16/AA13 -> 0.094512195 | AI13: 337 | AJ13: =simplified!AJ16/AI13 -> 0.18397626 | AK13: =simplified!AK16/AI13 -> 0.14540059 | AL13: =simplified!AL16/AI13 -> 0.11869436 | AM13: =simplified!AM16/AI13 -> 0.011869436 | AN13: =simplified!AN16/AI13 -> 0.0089020772 | AO13: =simplified!AO16/AI13 -> 0.047477745 | AP13: =simplified!AP16/AI13 -> 0.068249258 | AQ13: 382 | AR13: =simplified!AR16/AQ13 -> 0.18848168 | AS13: =simplified!AS16/AQ13 -> 0.13350785 | AT13: =simplified!AT16/AQ13 -> 0.09947644 | AU13: =simplified!AU16/AQ13 -> 0.018324607 | AV13: =simplified!AV16/AQ13 -> 0.0052356021 | AW13: =simplified!AW16/AQ13 -> 0.060209424 | AX13: =simplified!AX16/AQ13 -> 0.083769634 | AY13: =AX13-J13 -> -0.054080834
A14: 169080 | B14: Calvin College | C14: 952 | D14: =simplified!D14/percentages!C14 -> 0.13235294 | E14: =simplified!E14/C14 -> 0.085084034 | F14: =simplified!F14/C14 -> 0.053571429 | G14: =simplified!G14/C14 -> 0.067226891 | H14: =simplified!H14/C14 -> 0.029411765 | I14: =simplified!I14/C14 -> 0.039915966 | J14: =simplified!J14/C14 -> 0.13655462 | K14: 1030 | L14: =simplified!L14/K14 -> 0.11456311 | M14: =simplified!M14/K14 -> 0.083495146 | N14: =simplified!N14/K14 -> 0.055339806 | O14: =simplified!O14/K14 -> 0.041747573 | P14: =simplified!P14/K14 -> 0.051456311 | Q14: =simplified!Q14/K14 -> 0.037864078 | R14: =simplified!R14/K14 -> 0.13106796 | S14: 927 | T14: =simplified!T14/S14 -> 0.14131607 | U14: =simplified!U14/S14 -> 0.07227616 | V14: =simplified!V14/S14 -> 0.065803668 | W14: =simplified!W14/S14 -> 0.042071197 | X14: =simplified!X14/S14 -> 0.030204962 | Y14: =simplified!Y14/S14 -> 0.042071197 | Z14: =simplified!Z14/S14 -> 0.11434736 | AA14: 1038 | AB14: =simplified!AB14/AA14 -> 0.13872832 | AC14: =simplified!AC14/AA14 -> 0.10308285 | AD14: =simplified!AD14/AA14 -> 0.058766859 | AE14: =simplified!AE14/AA14 -> 0.04238921 | AF14: =simplified!AF14/AA14 -> 0.022157996 | AG14: =simplified!AG14/AA14 -> 0.034682081 | AH14: =simplified!AH14/AA14 -> 0.099229287 | AI14: 905 | AJ14: =simplified!AJ14/AI14 -> 0.13038674 | AK14: =simplified!AK14/AI14 -> 0.12044199 | AL14: =simplified!AL14/AI14 -> 0.066298343 | AM14: =simplified!AM14/AI14 -> 0.034254144 | AN14: =simplified!AN14/AI14 -> 0.017679558 | AO14: =simplified!AO14/AI14 -> 0.039779006 | AP14: =simplified!AP14/AI14 -> 0.091712707 | AQ14: 1000 | AR14: =simplified!AR14/AQ14 -> 0.124 | AS14: =simplified!AS14/AQ14 -> 0.13 | AT14: =simplified!AT14/AQ14 -> 0.065 | AU14: =simplified!AU14/AQ14 -> 0.035 | AV14: =simplified!AV14/AQ14 -> 0.014 | AW14: =simplified!AW14/AQ14 -> 0.039 | AX14: =simplified!AX14/AQ14 -> 0.088 | AY14: =AX14-J14 -> -0.048554622
A15: 217998 | B15: Erskine College | C15: 104 | D15: =simplified!D31/percentages!C31 -> 0.14285714 | E15: =simplified!E31/C15 -> 0.19230769 | F15: =simplified!F31/C15 -> 0 | G15: =simplified!G31/C15 -> 0.0096153846 | H15: =simplified!H31/C15 -> 0.0096153846 | I15: =simplified!I31/C15 -> 0.10576923 | J15: =simplified!J31/C15 -> 0.125 | K15: 119 | L15: =simplified!L31/K15 -> 0.20168067 | M15: =simplified!M31/K15 -> 0.1092437 | N15: =simplified!N31/K15 -> 0 | O15: =simplified!O31/K15 -> 0.016806723 | P15: =simplified!P31/K15 -> 0.058823529 | Q15: =simplified!Q31/K15 -> 0.11764706 | R15: =simplified!R31/K15 -> 0.19327731 | S15: 135 | T15: =simplified!T31/S15 -> 0.14814815 | U15: =simplified!U31/S15 -> 0.11851852 | V15: =simplified!V31/S15 -> 0 | W15: =simplified!W31/S15 -> 0.081481481 | X15: =simplified!X31/S15 -> 0.044444444 | Y15: =simplified!Y31/S15 -> 0.088888889 | Z15: =simplified!Z31/S15 -> 0.21481481 | AA15: 141 | AB15: =simplified!AB31/AA15 -> 0.19858156 | AC15: =simplified!AC31/AA15 -> 0.13475177 | AD15: =simplified!AD31/AA15 -> 0 | AE15: =simplified!AE31/AA15 -> 0.042553191 | AF15: =simplified!AF31/AA15 -> 0.063829787 | AG15: =simplified!AG31/AA15 -> 0.035460993 | AH15: =simplified!AH31/AA15 -> 0.14184397 | AI15: 112 | AJ15: =simplified!AJ31/AI15 -> 0.16964286 | AK15: =simplified!AK31/AI15 -> 0.080357143 | AL15: =simplified!AL31/AI15 -> 0 | AM15: =simplified!AM31/AI15 -> 0.026785714 | AN15: =simplified!AN31/AI15 -> 0.035714286 | AO15: =simplified!AO31/AI15 -> 0.026785714 | AP15: =simplified!AP31/AI15 -> 0.089285714 | AQ15: 112 | AR15: =simplified!AR31/AQ15 -> 0.19642857 | AS15: =simplified!AS31/AQ15 -> 0.080357143 | AT15: =simplified!AT31/AQ15 -> 0 | AU15: =simplified!AU31/AQ15 -> 0.026785714 | AV15: =simplified!AV31/AQ15 -> 0.035714286 | AW15: =simplified!AW31/AQ15 -> 0.044642857 | AX15: =simplified!AX31/AQ15 -> 0.10714286 | AY15: =AX15-J15 -> -0.017857143
A16: 221971 | B16: Union University | C16: 440 | D16: =simplified!D90/percentages!C90 -> 0.52888889 | E16: =simplified!E90/C16 -> 0.12272727 | F16: =simplified!F90/C16 -> 0.14545455 | G16: =simplified!G90/C16 -> 0.029545455 | H16: =simplified!H90/C16 -> 0.022727273 | I16: =simplified!I90/C16 -> 0.070454545 | J16: =simplified!J90/C16 -> 0.12272727 | K16: 443 | L16: =simplified!L90/K16 -> 0.099322799 | M16: =simplified!M90/K16 -> 0.13995485 | N16: =simplified!N90/K16 -> 0.29571106 | O16: =simplified!O90/K16 -> 0.022573363 | P16: =simplified!P90/K16 -> 0.020316027 | Q16: =simplified!Q90/K16 -> 0.0496614 | R16: =simplified!R90/K16 -> 0.09255079 | S16: 518 | T16: =simplified!T90/S16 -> 0.079150579 | U16: =simplified!U90/S16 -> 0.084942085 | V16: =simplified!V90/S16 -> 0.27606178 | W16: =simplified!W90/S16 -> 0.048262548 | X16: =simplified!X90/S16 -> 0.021235521 | Y16: =simplified!Y90/S16 -> 0.034749035 | Z16: =simplified!Z90/S16 -> 0.1042471 | AA16: 586 | AB16: =simplified!AB90/AA16 -> 0.066552901 | AC16: =simplified!AC90/AA16 -> 0.097269625 | AD16: =simplified!AD90/AA16 -> 0.21672355 | AE16: =simplified!AE90/AA16 -> 0.018771331 | AF16: =simplified!AF90/AA16 -> 0.010238908 | AG16: =simplified!AG90/AA16 -> 0.040955631 | AH16: =simplified!AH90/AA16 -> 0.06996587 | AI16: 695 | AJ16: =simplified!AJ90/AI16 -> 0.04028777 | AK16: =simplified!AK90/AI16 -> 0.13381295 | AL16: =simplified!AL90/AI16 -> 0.18417266 | AM16: =simplified!AM90/AI16 -> 0.024460432 | AN16: =simplified!AN90/AI16 -> 0.020143885 | AO16: =simplified!AO90/AI16 -> 0.030215827 | AP16: =simplified!AP90/AI16 -> 0.074820144 | AQ16: 640 | AR16: =simplified!AR90/AQ16 -> 0.06875 | AS16: =simplified!AS90/AQ16 -> 0.0671875 | AT16: =simplified!AT90/AQ16 -> 0.25625 | AU16: =simplified!AU90/AQ16 -> 0.025 | AV16: =simplified!AV90/AQ16 -> 0.0171875 | AW16: =simplified!AW90/AQ16 -> 0.028125 | AX16: =simplified!AX90/AQ16 -> 0.0703125 | AY16: =AX16-J16 -> -0.052414773
A17: 150668 | B17: Goshen College | C17: 245 | D17: =simplified!D36/percentages!C36 -> 0.21693122 | E17: =simplified!E36/C17 -> 0.07755102 | F17: =simplified!F36/C17 -> 0.069387755 | G17: =simplified!G36/C17 -> 0.036734694 | H17: =simplified!H36/C17 -> 0.057142857 | I17: =simplified!I36/C17 -> 0.028571429 | J17: =simplified!J36/C17 -> 0.12244898 | K17: 255 | L17: =simplified!L36/K17 -> 0.2 | M17: =simplified!M36/K17 -> 0.090196078 | N17: =simplified!N36/K17 -> 0.18823529 | O17: =simplified!O36/K17 -> 0.035294118 | P17: =simplified!P36/K17 -> 0.054901961 | Q17: =simplified!Q36/K17 -> 0.019607843 | R17: =simplified!R36/K17 -> 0.10980392 | S17: 257 | T17: =simplified!T36/S17 -> 0.15953307 | U17: =simplified!U36/S17 -> 0.089494163 | V17: =simplified!V36/S17 -> 0.22178988 | W17: =simplified!W36/S17 -> 0.015564202 | X17: =simplified!X36/S17 -> 0.031128405 | Y17: =simplified!Y36/S17 -> 0.054474708 | Z17: =simplified!Z36/S17 -> 0.10116732 | AA17: 286 | AB17: =simplified!AB36/AA17 -> 0.16083916 | AC17: =simplified!AC36/AA17 -> 0.066433566 | AD17: =simplified!AD36/AA17 -> 0.18531469 | AE17: =simplified!AE36/AA17 -> 0.024475524 | AF17: =simplified!AF36/AA17 -> 0.045454545 | AG17: =simplified!AG36/AA17 -> 0.034965035 | AH17: =simplified!AH36/AA17 -> 0.1048951 | AI17: 231 | AJ17: =simplified!AJ36/AI17 -> 0.11688312 | AK17: =simplified!AK36/AI17 -> 0.060606061 | AL17: =simplified!AL36/AI17 -> 0.19480519 | AM17: =simplified!AM36/AI17 -> 0.051948052 | AN17: =simplified!AN36/AI17 -> 0.064935065 | AO17: =simplified!AO36/AI17 -> 0.03030303 | AP17: =simplified!AP36/AI17 -> 0.14718615 | AQ17: 227 | AR17: =simplified!AR36/AQ17 -> 0.15859031 | AS17: =simplified!AS36/AQ17 -> 0.10132159 | AT17: =simplified!AT36/AQ17 -> 0.2246696 | AU17: =simplified!AU36/AQ17 -> 0.035242291 | AV17: =simplified!AV36/AQ17 -> 0.026431718 | AW17: =simplified!AW36/AQ17 -> 0 | AX17: =simplified!AX36/AQ17 -> 0.061674009 | AY17: =AX17-J17 -> -0.060774971
A18: 237066 | B18: Whitworth University | C18: 546 | D18: =simplified!D99/percentages!C99 -> 0.88679245 | E18: =simplified!E99/C18 -> 0.15201465 | F18: =simplified!F99/C18 -> 0.031135531 | G18: =simplified!G99/C18 -> 0.04029304 | H18: =simplified!H99/C18 -> 0.036630037 | I18: =simplified!I99/C18 -> 0.042124542 | J18: =simplified!J99/C18 -> 0.11904762 | K18: 523 | L18: =simplified!L99/K18 -> 0.17590822 | M18: =simplified!M99/K18 -> 0.078393881 | N18: =simplified!N99/K18 -> 0.043977055 | O18: =simplified!O99/K18 -> 0.045889101 | P18: =simplified!P99/K18 -> 0.03250478 | Q18: =simplified!Q99/K18 -> 0.045889101 | R18: =simplified!R99/K18 -> 0.12428298 | S18: 634 | T18: =simplified!T99/S18 -> 0.21608833 | U18: =simplified!U99/S18 -> 0.10410095 | V18: =simplified!V99/S18 -> 0.025236593 | W18: =simplified!W99/S18 -> 0.061514196 | X18: =simplified!X99/S18 -> 0.036277603 | Y18: =simplified!Y99/S18 -> 0.015772871 | Z18: =simplified!Z99/S18 -> 0.11356467 | AA18: 615 | AB18: =simplified!AB99/AA18 -> 0.15772358 | AC18: =simplified!AC99/AA18 -> 0.082926829 | AD18: =simplified!AD99/AA18 -> 0.030894309 | AE18: =simplified!AE99/AA18 -> 0.076422764 | AF18: =simplified!AF99/AA18 -> 0.027642276 | AG18: =simplified!AG99/AA18 -> 0.047154472 | AH18: =simplified!AH99/AA18 -> 0.15121951 | AI18: 558 | AJ18: =simplified!AJ99/AI18 -> 0.15412186 | AK18: =simplified!AK99/AI18 -> 0.064516129 | AL18: =simplified!AL99/AI18 -> 0.032258065 | AM18: =simplified!AM99/AI18 -> 0.050179211 | AN18: =simplified!AN99/AI18 -> 0.025089606 | AO18: =simplified!AO99/AI18 -> 0.051971326 | AP18: =simplified!AP99/AI18 -> 0.12724014 | AQ18: 632 | AR18: =simplified!AR99/AQ18 -> 0.11234177 | AS18: =simplified!AS99/AQ18 -> 0.077531646 | AT18: =simplified!AT99/AQ18 -> 0.028481013 | AU18: =simplified!AU99/AQ18 -> 0.058544304 | AV18: =simplified!AV99/AQ18 -> 0.03164557 | AW18: =simplified!AW99/AQ18 -> 0.053797468 | AX18: =simplified!AX99/AQ18 -> 0.14398734 | AY18: =AX18-J18 -> 0.024939723
A19: 219383 | B19: University of Sioux Falls | C19: 228 | D19: =simplified!D92/percentages!C92 -> 0.87931034 | E19: =simplified!E92/C19 -> 0.10526316 | F19: =simplified!F92/C19 -> 0 | G19: =simplified!G92/C19 -> 0.048245614 | H19: =simplified!H92/C19 -> 0.039473684 | I19: =simplified!I92/C19 -> 0.030701754 | J19: =simplified!J92/C19 -> 0.11842105 | K19: 268 | L19: =simplified!L92/K19 -> 0.42910448 | M19: =simplified!M92/K19 -> 0.1119403 | N19: =simplified!N92/K19 -> 0 | O19: =simplified!O92/K19 -> 0.026119403 | P19: =simplified!P92/K19 -> 0.026119403 | Q19: =simplified!Q92/K19 -> 0.044776119 | R19: =simplified!R92/K19 -> 0.097014925 | S19: 297 | T19: =simplified!T92/S19 -> 0.29292929 | U19: =simplified!U92/S19 -> 0.11111111 | V19: =simplified!V92/S19 -> 0 | W19: =simplified!W92/S19 -> 0.037037037 | X19: =simplified!X92/S19 -> 0.033670034 | Y19: =simplified!Y92/S19 -> 0.053872054 | Z19: =simplified!Z92/S19 -> 0.12457912 | AA19: 283 | AB19: =simplified!AB92/AA19 -> 0.35335689 | AC19: =simplified!AC92/AA19 -> 0.1024735 | AD19: =simplified!AD92/AA19 -> 0 | AE19: =simplified!AE92/AA19 -> 0.035335689 | AF19: =simplified!AF92/AA19 -> 0.021201413 | AG19: =simplified!AG92/AA19 -> 0.03180212 | AH19: =simplified!AH92/AA19 -> 0.088339223 | AI19: 305 | AJ19: =simplified!AJ92/AI19 -> 0.31147541 | AK19: =simplified!AK92/AI19 -> 0.12786885 | AL19: =simplified!AL92/AI19 -> 0.11147541 | AM19: =simplified!AM92/AI19 -> 0.019672131 | AN19: =simplified!AN92/AI19 -> 0.019672131 | AO19: =simplified!AO92/AI19 -> 0.016393443 | AP19: =simplified!AP92/AI19 -> 0.055737705 | AQ19: 330 | AR19: =simplified!AR92/AQ19 -> 0.25151515 | AS19: =simplified!AS92/AQ19 -> 0.12424242 | AT19: =simplified!AT92/AQ19 -> 0.20606061 | AU19: =simplified!AU92/AQ19 -> 0.033333333 | AV19: =simplified!AV92/AQ19 -> 0.015151515 | AW19: =simplified!AW92/AQ19 -> 0.018181818 | AX19: =simplified!AX92/AQ19 -> 0.066666667 | AY19: =AX19-J19 -> -0.051754386
A20: 159568 | B20: Louisiana College | C20: 208 | D20: =simplified!D54/percentages!C54 -> 0.042979943 | E20: =simplified!E54/C20 -> 0.13942308 | F20: =simplified!F54/C20 -> 0.0625 | G20: =simplified!G54/C20 -> 0.057692308 | H20: =simplified!H54/C20 -> 0.057692308 | I20: =simplified!I54/C20 -> 0 | J20: =simplified!J54/C20 -> 0.11538462 | K20: 170 | L20: =simplified!L54/K20 -> 0.070588235 | M20: =simplified!M54/K20 -> 0.1 | N20: =simplified!N54/K20 -> 0.064705882 | O20: =simplified!O54/K20 -> 0.047058824 | P20: =simplified!P54/K20 -> 0.064705882 | Q20: =simplified!Q54/K20 -> 0.0058823529 | R20: =simplified!R54/K20 -> 0.11764706 | S20: 134 | T20: =simplified!T54/S20 -> 0.097014925 | U20: =simplified!U54/S20 -> 0.1119403 | V20: =simplified!V54/S20 -> 0.20895522 | W20: =simplified!W54/S20 -> 0.029850746 | X20: =simplified!X54/S20 -> 0.029850746 | Y20: =simplified!Y54/S20 -> 0.014925373 | Z20: =simplified!Z54/S20 -> 0.074626866 | AA20: 173 | AB20: =simplified!AB54/AA20 -> 0.14450867 | AC20: =simplified!AC54/AA20 -> 0.069364162 | AD20: =simplified!AD54/AA20 -> 0.12716763 | AE20: =simplified!AE54/AA20 -> 0.011560694 | AF20: =simplified!AF54/AA20 -> 0.011560694 | AG20: =simplified!AG54/AA20 -> 0.01734104 | AH20: =simplified!AH54/AA20 -> 0.040462428 | AI20: 180 | AJ20: =simplified!AJ54/AI20 -> 0.14444444 | AK20: =simplified!AK54/AI20 -> 0.044444444 | AL20: =simplified!AL54/AI20 -> 0.15 | AM20: =simplified!AM54/AI20 -> 0.033333333 | AN20: =simplified!AN54/AI20 -> 0.016666667 | AO20: =simplified!AO54/AI20 -> 0.05 | AP20: =simplified!AP54/AI20 -> 0.1 | AQ20: 183 | AR20: =simplified!AR54/AQ20 -> 0.1147541 | AS20: =simplified!AS54/AQ20 -> 0.06557377 | AT20: =simplified!AT54/AQ20 -> 0.16393443 | AU20: =simplified!AU54/AQ20 -> 0.027322404 | AV20: =simplified!AV54/AQ20 -> 0.032786885 | AW20: =simplified!AW54/AQ20 -> 0.027322404 | AX20: =simplified!AX54/AQ20 -> 0.087431694 | AY20: =AX20-J20 -> -0.027952921
A21: 101541 | B21: Judson College | C21: 61 | D21: =simplified!D47/percentages!C47 -> 0.020930233 | E21: =simplified!E47/C21 -> 0.081967213 | F21: =simplified!F47/C21 -> 0 | G21: =simplified!G47/C21 -> 0.049180328 | H21: =simplified!H47/C21 -> 0.06557377 | I21: =simplified!I47/C21 -> 0 | J21: =simplified!J47/C21 -> 0.1147541 | K21: 65 | L21: =simplified!L47/K21 -> 0.061538462 | M21: =simplified!M47/K21 -> 0.24615385 | N21: =simplified!N47/K21 -> 0 | O21: =simplified!O47/K21 -> 0.061538462 | P21: =simplified!P47/K21 -> 0.015384615 | Q21: =simplified!Q47/K21 -> 0 | R21: =simplified!R47/K21 -> 0.076923077 | S21: 55 | T21: =simplified!T47/S21 -> 0.072727273 | U21: =simplified!U47/S21 -> 0.090909091 | V21: =simplified!V47/S21 -> 0 | W21: =simplified!W47/S21 -> 0.054545455 | X21: =simplified!X47/S21 -> 0.090909091 | Y21: =simplified!Y47/S21 -> 0 | Z21: =simplified!Z47/S21 -> 0.14545455 | AA21: 51 | AB21: =simplified!AB47/AA21 -> 0.098039216 | AC21: =simplified!AC47/AA21 -> 0.039215686 | AD21: =simplified!AD47/AA21 -> 0 | AE21: =simplified!AE47/AA21 -> 0.058823529 | AF21: =simplified!AF47/AA21 -> 0.039215686 | AG21: =simplified!AG47/AA21 -> 0.078431373 | AH21: =simplified!AH47/AA21 -> 0.17647059 | AI21: 65 | AJ21: =simplified!AJ47/AI21 -> 0.10769231 | AK21: =simplified!AK47/AI21 -> 0.092307692 | AL21: =simplified!AL47/AI21 -> 0 | AM21: =simplified!AM47/AI21 -> 0.076923077 | AN21: =simplified!AN47/AI21 -> 0.046153846 | AO21: =simplified!AO47/AI21 -> 0.046153846 | AP21: =simplified!AP47/AI21 -> 0.16923077 | AQ21: 55 | AR21: =simplified!AR47/AQ21 -> 0.036363636 | AS21: =simplified!AS47/AQ21 -> 0.054545455 | AT21: =simplified!AT47/AQ21 -> 0 | AU21: =simplified!AU47/AQ21 -> 0.072727273 | AV21: =simplified!AV47/AQ21 -> 0.072727273 | AW21: =simplified!AW47/AQ21 -> 0.054545455 | AX21: =simplified!AX47/AQ21 -> 0.2 | AY21: =AX21-J21 -> 0.085245902
A22: 176053 | B22: Mississippi College | C22: 498 | D22: =simplified!D59/percentages!C59 -> 0.10907003 | E22: =simplified!E59/C22 -> 0.19879518 | F22: =simplified!F59/C22 -> 0.074297189 | G22: =simplified!G59/C22 -> 0.02811245 | H22: =simplified!H59/C22 -> 0.040160643 | I22: =simplified!I59/C22 -> 0.044176707 | J22: =simplified!J59/C22 -> 0.1124498 | K22: 509 | L22: =simplified!L59/K22 -> 0.23182711 | M22: =simplified!M59/K22 -> 0.13555992 | N22: =simplified!N59/K22 -> 0.10805501 | O22: =simplified!O59/K22 -> 0.017681729 | P22: =simplified!P59/K22 -> 0.021611002 | Q22: =simplified!Q59/K22 -> 0.039292731 | R22: =simplified!R59/K22 -> 0.078585462 | S22: 537 | T22: =simplified!T59/S22 -> 0.24208566 | U22: =simplified!U59/S22 -> 0.13221601 | V22: =simplified!V59/S22 -> 0.12662942 | W22: =simplified!W59/S22 -> 0.011173184 | X22: =simplified!X59/S22 -> 0.033519553 | Y22: =simplified!Y59/S22 -> 0.026070764 | Z22: =simplified!Z59/S22 -> 0.070763501 | AA22: 621 | AB22: =simplified!AB59/AA22 -> 0.26570048 | AC22: =simplified!AC59/AA22 -> 0.10950081 | AD22: =simplified!AD59/AA22 -> 0.093397746 | AE22: =simplified!AE59/AA22 -> 0.043478261 | AF22: =simplified!AF59/AA22 -> 0.025764895 | AG22: =simplified!AG59/AA22 -> 0.027375201 | AH22: =simplified!AH59/AA22 -> 0.096618357 | AI22: 650 | AJ22: =simplified!AJ59/AI22 -> 0.19538462 | AK22: =simplified!AK59/AI22 -> 0.13538462 | AL22: =simplified!AL59/AI22 -> 0.10461538 | AM22: =simplified!AM59/AI22 -> 0.026153846 | AN22: =simplified!AN59/AI22 -> 0.029230769 | AO22: =simplified!AO59/AI22 -> 0.02 | AP22: =simplified!AP59/AI22 -> 0.075384615 | AQ22: 614 | AR22: =simplified!AR59/AQ22 -> 0.19543974 | AS22: =simplified!AS59/AQ22 -> 0.13517915 | AT22: =simplified!AT59/AQ22 -> 0.09771987 | AU22: =simplified!AU59/AQ22 -> 0.017915309 | AV22: =simplified!AV59/AQ22 -> 0.016286645 | AW22: =simplified!AW59/AQ22 -> 0.030944625 | AX22: =simplified!AX59/AQ22 -> 0.06514658 | AY22: =AX22-J22 -> -0.047303219
A23: 101693 | B23: University of Mobile (2011) | C23: 258 | D23: =simplified!D109/percentages!C109 -> 0.18867925 | E23: =simplified!E109/C23 -> 0.24031008 | F23: =simplified!F109/C23 -> 0.093023256 | G23: =simplified!G109/C23 -> 0.015503876 | H23: =simplified!H109/C23 -> 0.011627907 | I23: =simplified!I109/C23 -> 0.085271318 | J23: =simplified!J109/C23 -> 0.1124031 | K23: 244 | L23: =simplified!L109/K23 -> 0.25819672 | M23: =simplified!M109/K23 -> 0.18032787 | N23: =simplified!N109/K23 -> 0.11885246 | O23: =simplified!O109/K23 -> 0.012295082 | P23: =simplified!P109/K23 -> 0.0040983607 | Q23: =simplified!Q109/K23 -> 0.081967213 | R23: =simplified!R109/K23 -> 0.098360656 | S23: 340 | T23: =simplified!T109/S23 -> 0.15588235 | U23: =simplified!U109/S23 -> 0.21176471 | V23: =simplified!V109/S23 -> 0.14117647 | W23: =simplified!W109/S23 -> 0.017647059 | X23: =simplified!X109/S23 -> 0.014705882 | Y23: =simplified!Y109/S23 -> 0.12352941 | Z23: =simplified!Z109/S23 -> 0.15588235 | AA23: 299 | AB23: =simplified!AB109/AA23 -> 0.15050167 | AC23: =simplified!AC109/AA23 -> 0.25083612 | AD23: =simplified!AD109/AA23 -> 0.14046823 | AE23: =simplified!AE109/AA23 -> 0.023411371 | AF23: =simplified!AF109/AA23 -> 0.0066889632 | AG23: =simplified!AG109/AA23 -> 0.066889632 | AH23: =simplified!AH109/AA23 -> 0.096989967 | AI23: 310 | AJ23: =simplified!AJ109/AI23 -> 0.17419355 | AK23: =simplified!AK109/AI23 -> 0.27419355 | AL23: =simplified!AL109/AI23 -> 0.11612903 | AM23: =simplified!AM109/AI23 -> 0.012903226 | AN23: =simplified!AN109/AI23 -> 0.012903226 | AO23: =simplified!AO109/AI23 -> 0.067741935 | AP23: =simplified!AP109/AI23 -> 0.093548387 | AQ23: 299 | AR23: =simplified!AR109/AQ23 -> 0.15050167 | AS23: =simplified!AS109/AQ23 -> 0.25083612 | AT23: =simplified!AT109/AQ23 -> 0.17725753 | AU23: =simplified!AU109/AQ23 -> 0.023411371 | AV23: =simplified!AV109/AQ23 -> 0.016722408 | AW23: =simplified!AW109/AQ23 -> 0.02006689 | AX23: =simplified!AX109/AQ23 -> 0.060200669 | AY23: =AX23-J23 -> -0.052202432
A24: 165644 | B24: Eastern Nazarene College | C24: 232 | D24: =simplified!D29/percentages!C29 -> 0.17192429 | E24: =simplified!E29/C24 -> 0.056034483 | F24: =simplified!F29/C24 -> 0 | G24: =simplified!G29/C24 -> 0.030172414 | H24: =simplified!H29/C24 -> 0.034482759 | I24: =simplified!I29/C24 -> 0.047413793 | J24: =simplified!J29/C24 -> 0.11206897 | K24: 240 | L24: =simplified!L29/K24 -> 0.425 | M24: =simplified!M29/K24 -> 0.0875 | N24: =simplified!N29/K24 -> 0 | O24: =simplified!O29/K24 -> 0.058333333 | P24: =simplified!P29/K24 -> 0.029166667 | Q24: =simplified!Q29/K24 -> 0.0375 | R24: =simplified!R29/K24 -> 0.125 | S24: 155 | T24: =simplified!T29/S24 -> 0.15483871 | U24: =simplified!U29/S24 -> 0.2 | V24: =simplified!V29/S24 -> 0 | W24: =simplified!W29/S24 -> 0.04516129 | X24: =simplified!X29/S24 -> 0.032258065 | Y24: =simplified!Y29/S24 -> 0.032258065 | Z24: =simplified!Z29/S24 -> 0.10967742 | AA24: 195 | AB24: =simplified!AB29/AA24 -> 0.36410256 | AC24: =simplified!AC29/AA24 -> 0.11794872 | AD24: =simplified!AD29/AA24 -> 0 | AE24: =simplified!AE29/AA24 -> 0.020512821 | AF24: =simplified!AF29/AA24 -> 0.015384615 | AG24: =simplified!AG29/AA24 -> 0.046153846 | AH24: =simplified!AH29/AA24 -> 0.082051282 | AI24: 197 | AJ24: =simplified!AJ29/AI24 -> 0.41624365 | AK24: =simplified!AK29/AI24 -> 0.10659898 | AL24: =simplified!AL29/AI24 -> 0 | AM24: =simplified!AM29/AI24 -> 0.010152284 | AN24: =simplified!AN29/AI24 -> 0.0050761421 | AO24: =simplified!AO29/AI24 -> 0.030456853 | AP24: =simplified!AP29/AI24 -> 0.045685279 | AQ24: 260 | AR24: =simplified!AR29/AQ24 -> 0.33461538 | AS24: =simplified!AS29/AQ24 -> 0.21153846 | AT24: =simplified!AT29/AQ24 -> 0 | AU24: =simplified!AU29/AQ24 -> 0.034615385 | AV24: =simplified!AV29/AQ24 -> 0.015384615 | AW24: =simplified!AW29/AQ24 -> 0.034615385 | AX24: =simplified!AX29/AQ24 -> 0.084615385 | AY24: =AX24-J24 -> -0.027453581
A25: 224527 | B25: East Texas Baptist University | C25: 215 | D25: =simplified!D27/percentages!C27 -> 0.25 | E25: =simplified!E27/C25 -> 0.19534884 | F25: =simplified!F27/C25 -> 0.10232558 | G25: =simplified!G27/C25 -> 0.041860465 | H25: =simplified!H27/C25 -> 0.0046511628 | I25: =simplified!I27/C25 -> 0.065116279 | J25: =simplified!J27/C25 -> 0.11162791 | K25: 222 | L25: =simplified!L27/K25 -> 0.10810811 | M25: =simplified!M27/K25 -> 0.25225225 | N25: =simplified!N27/K25 -> 0.085585586 | O25: =simplified!O27/K25 -> 0.054054054 | P25: =simplified!P27/K25 -> 0.018018018 | Q25: =simplified!Q27/K25 -> 0.031531532 | R25: =simplified!R27/K25 -> 0.1036036 | S25: 261 | T25: =simplified!T27/S25 -> 0.13793103 | U25: =simplified!U27/S25 -> 0.22222222 | V25: =simplified!V27/S25 -> 0.10344828 | W25: =simplified!W27/S25 -> 0.042145594 | X25: =simplified!X27/S25 -> 0.01532567 | Y25: =simplified!Y27/S25 -> 0.019157088 | Z25: =simplified!Z27/S25 -> 0.076628352 | AA25: 198 | AB25: =simplified!AB27/AA25 -> 0.13131313 | AC25: =simplified!AC27/AA25 -> 0.2020202 | AD25: =simplified!AD27/AA25 -> 0.060606061 | AE25: =simplified!AE27/AA25 -> 0.035353535 | AF25: =simplified!AF27/AA25 -> 0.03030303 | AG25: =simplified!AG27/AA25 -> 0.03030303 | AH25: =simplified!AH27/AA25 -> 0.095959596 | AI25: 216 | AJ25: =simplified!AJ27/AI25 -> 0.11111111 | AK25: =simplified!AK27/AI25 -> 0.21759259 | AL25: =simplified!AL27/AI25 -> 0.11574074 | AM25: =simplified!AM27/AI25 -> 0.023148148 | AN25: =simplified!AN27/AI25 -> 0.0092592593 | AO25: =simplified!AO27/AI25 -> 0.013888889 | AP25: =simplified!AP27/AI25 -> 0.046296296 | AQ25: 178 | AR25: =simplified!AR27/AQ25 -> 0.14606742 | AS25: =simplified!AS27/AQ25 -> 0.21348315 | AT25: =simplified!AT27/AQ25 -> 0.06741573 | AU25: =simplified!AU27/AQ25 -> 0.039325843 | AV25: =simplified!AV27/AQ25 -> 0 | AW25: =simplified!AW27/AQ25 -> 0.0056179775 | AX25: =simplified!AX27/AQ25 -> 0.04494382 | AY25: =AX25-J25 -> -0.066684087
A26: 147828 | B26: Olivet Nazarene University | C26: 425 | D26: =simplified!D72/percentages!C72 -> 0.34008097 | E26: =simplified!E72/C26 -> 0.14117647 | F26: =simplified!F72/C26 -> 0.08 | G26: =simplified!G72/C26 -> 0.061176471 | H26: =simplified!H72/C26 -> 0.023529412 | I26: =simplified!I72/C26 -> 0.025882353 | J26: =simplified!J72/C26 -> 0.11058824 | K26: 598 | L26: =simplified!L72/K26 -> 0.22240803 | M26: =simplified!M72/K26 -> 0.12207358 | N26: =simplified!N72/K26 -> 0.11204013 | O26: =simplified!O72/K26 -> 0.013377926 | P26: =simplified!P72/K26 -> 0.011705686 | Q26: =simplified!Q72/K26 -> 0.02173913 | R26: =simplified!R72/K26 -> 0.046822742 | S26: 691 | T26: =simplified!T72/S26 -> 0.20694645 | U26: =simplified!U72/S26 -> 0.10274964 | V26: =simplified!V72/S26 -> 0.14182344 | W26: =simplified!W72/S26 -> 0.017366136 | X26: =simplified!X72/S26 -> 0.020260492 | Y26: =simplified!Y72/S26 -> 0.023154848 | Z26: =simplified!Z72/S26 -> 0.060781476 | AA26: 804 | AB26: =simplified!AB72/AA26 -> 0.15422886 | AC26: =simplified!AC72/AA26 -> 0.083333333 | AD26: =simplified!AD72/AA26 -> 0.23756219 | AE26: =simplified!AE72/AA26 -> 0.013681592 | AF26: =simplified!AF72/AA26 -> 0.012437811 | AG26: =simplified!AG72/AA26 -> 0.031094527 | AH26: =simplified!AH72/AA26 -> 0.05721393 | AI26: 708 | AJ26: =simplified!AJ72/AI26 -> 0.18502825 | AK26: =simplified!AK72/AI26 -> 0.10028249 | AL26: =simplified!AL72/AI26 -> 0.27683616 | AM26: =simplified!AM72/AI26 -> 0.015536723 | AN26: =simplified!AN72/AI26 -> 0.015536723 | AO26: =simplified!AO72/AI26 -> 0.0084745763 | AP26: =simplified!AP72/AI26 -> 0.039548023 | AQ26: 817 | AR26: =simplified!AR72/AQ26 -> 0.1750306 | AS26: =simplified!AS72/AQ26 -> 0.096695226 | AT26: =simplified!AT72/AQ26 -> 0.23378213 | AU26: =simplified!AU72/AQ26 -> 0.017135863 | AV26: =simplified!AV72/AQ26 -> 0.0085679315 | AW26: =simplified!AW72/AQ26 -> 0.0097919217 | AX26: =simplified!AX72/AQ26 -> 0.035495716 | AY26: =AX26-J26 -> -0.075092519
A27: 219790 | B27: Bryan College-Dayton | C27: 128 | D27: =simplified!D12/percentages!C12 -> 0.2037037 | E27: =simplified!E12/C27 -> 0.171875 | F27: =simplified!F12/C27 -> 0 | G27: =simplified!G12/C27 -> 0.046875 | H27: =simplified!H12/C27 -> 0.0625 | I27: =simplified!I12/C27 -> 0 | J27: =simplified!J12/C27 -> 0.109375 | K27: 176 | L27: =simplified!L12/K27 -> 0.40909091 | M27: =simplified!M12/K27 -> 0.10795455 | N27: =simplified!N12/K27 -> 0 | O27: =simplified!O12/K27 -> 0.034090909 | P27: =simplified!P12/K27 -> 0.045454545 | Q27: =simplified!Q12/K27 -> 0 | R27: =simplified!R12/K27 -> 0.079545455 | S27: 248 | T27: =simplified!T12/S27 -> 0.61693548 | U27: =simplified!U12/S27 -> 0.060483871 | V27: =simplified!V12/S27 -> 0 | W27: =simplified!W12/S27 -> 0.028225806 | X27: =simplified!X12/S27 -> 0.0080645161 | Y27: =simplified!Y12/S27 -> 0.0080645161 | Z27: =simplified!Z12/S27 -> 0.044354839 | AA27: 305 | AB27: =simplified!AB12/AA27 -> 0.60655738 | AC27: =simplified!AC12/AA27 -> 0.06557377 | AD27: =simplified!AD12/AA27 -> 0 | AE27: =simplified!AE12/AA27 -> 0.029508197 | AF27: =simplified!AF12/AA27 -> 0.016393443 | AG27: =simplified!AG12/AA27 -> 0.006557377 | AH27: =simplified!AH12/AA27 -> 0.052459016 | AI27: 309 | AJ27: =simplified!AJ12/AI27 -> 0.54045307 | AK27: =simplified!AK12/AI27 -> 0.080906149 | AL27: =simplified!AL12/AI27 -> 0 | AM27: =simplified!AM12/AI27 -> 0.012944984 | AN27: =simplified!AN12/AI27 -> 0.019417476 | AO27: =simplified!AO12/AI27 -> 0.0064724919 | AP27: =simplified!AP12/AI27 -> 0.038834951 | AQ27: 304 | AR27: =simplified!AR12/AQ27 -> 0.48026316 | AS27: =simplified!AS12/AQ27 -> 0.11184211 | AT27: =simplified!AT12/AQ27 -> 0 | AU27: =simplified!AU12/AQ27 -> 0.055921053 | AV27: =simplified!AV12/AQ27 -> 0.016447368 | AW27: =simplified!AW12/AQ27 -> 0.0065789474 | AX27: =simplified!AX12/AQ27 -> 0.078947368 | AY27: =AX27-J27 -> -0.030427632
A28: 142461 | B28: Northwest Nazarene University | C28: 262 | D28: =simplified!D65/percentages!C65 -> 0.13247863 | E28: =simplified!E65/C28 -> 0.15267176 | F28: =simplified!F65/C28 -> 0.053435115 | G28: =simplified!G65/C28 -> 0.057251908 | H28: =simplified!H65/C28 -> 0.0038167939 | I28: =simplified!I65/C28 -> 0.045801527 | J28: =simplified!J65/C28 -> 0.10687023 | K28: 243 | L28: =simplified!L65/K28 -> 0.19753086 | M28: =simplified!M65/K28 -> 0.16460905 | N28: =simplified!N65/K28 -> 0.04526749 | O28: =simplified!O65/K28 -> 0.041152263 | P28: =simplified!P65/K28 -> 0.0082304527 | Q28: =simplified!Q65/K28 -> 0.049382716 | R28: =simplified!R65/K28 -> 0.098765432 | S28: 258 | T28: =simplified!T65/S28 -> 0.20155039 | U28: =simplified!U65/S28 -> 0.12403101 | V28: =simplified!V65/S28 -> 0.12790698 | W28: =simplified!W65/S28 -> 0.046511628 | X28: =simplified!X65/S28 -> 0.007751938 | Y28: =simplified!Y65/S28 -> 0.050387597 | Z28: =simplified!Z65/S28 -> 0.10465116 | AA28: 331 | AB28: =simplified!AB65/AA28 -> 0.25075529 | AC28: =simplified!AC65/AA28 -> 0.13595166 | AD28: =simplified!AD65/AA28 -> 0.090634441 | AE28: =simplified!AE65/AA28 -> 0.01510574 | AF28: =simplified!AF65/AA28 -> 0.018126888 | AG28: =simplified!AG65/AA28 -> 0.042296073 | AH28: =simplified!AH65/AA28 -> 0.075528701 | AI28: 299 | AJ28: =simplified!AJ65/AI28 -> 0.22073579 | AK28: =simplified!AK65/AI28 -> 0.13377926 | AL28: =simplified!AL65/AI28 -> 0.11371237 | AM28: =simplified!AM65/AI28 -> 0.02006689 | AN28: =simplified!AN65/AI28 -> 0.010033445 | AO28: =simplified!AO65/AI28 -> 0.043478261 | AP28: =simplified!AP65/AI28 -> 0.073578595 | AQ28: 268 | AR28: =simplified!AR65/AQ28 -> 0.19776119 | AS28: =simplified!AS65/AQ28 -> 0.14925373 | AT28: =simplified!AT65/AQ28 -> 0.11567164 | AU28: =simplified!AU65/AQ28 -> 0.02238806 | AV28: =simplified!AV65/AQ28 -> 0.018656716 | AW28: =simplified!AW65/AQ28 -> 0.063432836 | AX28: =simplified!AX65/AQ28 -> 0.10447761 | AY28: =AX28-J28 -> -0.0023926171
A29: 225399 | B29: Houston Baptist University | C29: 634 | D29: =simplified!D42/percentages!C42 -> 0.84883721 | E29: =simplified!E42/C29 -> 0.08044164 | F29: =simplified!F42/C29 -> 0 | G29: =simplified!G42/C29 -> 0.029968454 | H29: =simplified!H42/C29 -> 0.018927445 | I29: =simplified!I42/C29 -> 0.056782334 | J29: =simplified!J42/C29 -> 0.10567823 | K29: 536 | L29: =simplified!L42/K29 -> 0.31156716 | M29: =simplified!M42/K29 -> 0.076492537 | N29: =simplified!N42/K29 -> 0.03358209 | O29: =simplified!O42/K29 -> 0.037313433 | P29: =simplified!P42/K29 -> 0.020522388 | Q29: =simplified!Q42/K29 -> 0.057835821 | R29: =simplified!R42/K29 -> 0.11567164 | S29: 604 | T29: =simplified!T42/S29 -> 0.30629139 | U29: =simplified!U42/S29 -> 0.094370861 | V29: =simplified!V42/S29 -> 0.03807947 | W29: =simplified!W42/S29 -> 0.013245033 | X29: =simplified!X42/S29 -> 0.016556291 | Y29: =simplified!Y42/S29 -> 0.049668874 | Z29: =simplified!Z42/S29 -> 0.079470199 | AA29: 507 | AB29: =simplified!AB42/AA29 -> 0.29191321 | AC29: =simplified!AC42/AA29 -> 0.084812623 | AD29: =simplified!AD42/AA29 -> 0.045364892 | AE29: =simplified!AE42/AA29 -> 0.047337278 | AF29: =simplified!AF42/AA29 -> 0.029585799 | AG29: =simplified!AG42/AA29 -> 0.021696252 | AH29: =simplified!AH42/AA29 -> 0.098619329 | AI29: 476 | AJ29: =simplified!AJ42/AI29 -> 0.22058824 | AK29: =simplified!AK42/AI29 -> 0.10294118 | AL29: =simplified!AL42/AI29 -> 0.075630252 | AM29: =simplified!AM42/AI29 -> 0.012605042 | AN29: =simplified!AN42/AI29 -> 0.014705882 | AO29: =simplified!AO42/AI29 -> 0.037815126 | AP29: =simplified!AP42/AI29 -> 0.06512605 | AQ29: 365 | AR29: =simplified!AR42/AQ29 -> 0.17534247 | AS29: =simplified!AS42/AQ29 -> 0.10410959 | AT29: =simplified!AT42/AQ29 -> 0.21369863 | AU29: =simplified!AU42/AQ29 -> 0.01369863 | AV29: =simplified!AV42/AQ29 -> 0.019178082 | AW29: =simplified!AW42/AQ29 -> 0.02739726 | AX29: =simplified!AX42/AQ29 -> 0.060273973 | AY29: =AX29-J29 -> -0.045404261
A30: 154101 | B30: Northwestern College | C30: 312 | D30: =simplified!D67/percentages!C67 -> 0.44347826 | E30: =simplified!E67/C30 -> 0.20192308 | F30: =simplified!F67/C30 -> 0 | G30: =simplified!G67/C30 -> 0.048076923 | H30: =simplified!H67/C30 -> 0.038461538 | I30: =simplified!I67/C30 -> 0.016025641 | J30: =simplified!J67/C30 -> 0.1025641 | K30: 252 | L30: =simplified!L67/K30 -> 0.18253968 | M30: =simplified!M67/K30 -> 0.18650794 | N30: =simplified!N67/K30 -> 0 | O30: =simplified!O67/K30 -> 0.047619048 | P30: =simplified!P67/K30 -> 0.043650794 | Q30: =simplified!Q67/K30 -> 0.047619048 | R30: =simplified!R67/K30 -> 0.13888889 | S30: 318 | T30: =simplified!T67/S30 -> 0.24213836 | U30: =simplified!U67/S30 -> 0.20125786 | V30: =simplified!V67/S30 -> 0 | W30: =simplified!W67/S30 -> 0.059748428 | X30: =simplified!X67/S30 -> 0.050314465 | Y30: =simplified!Y67/S30 -> 0.037735849 | Z30: =simplified!Z67/S30 -> 0.14779874 | AA30: 304 | AB30: =simplified!AB67/AA30 -> 0.24671053 | AC30: =simplified!AC67/AA30 -> 0.17105263 | AD30: =simplified!AD67/AA30 -> 0.042763158 | AE30: =simplified!AE67/AA30 -> 0.026315789 | AF30: =simplified!AF67/AA30 -> 0.019736842 | AG30: =simplified!AG67/AA30 -> 0.039473684 | AH30: =simplified!AH67/AA30 -> 0.085526316 | AI30: 252 | AJ30: =simplified!AJ67/AI30 -> 0.17857143 | AK30: =simplified!AK67/AI30 -> 0.14285714 | AL30: =simplified!AL67/AI30 -> 0.075396825 | AM30: =simplified!AM67/AI30 -> 0.015873016 | AN30: =simplified!AN67/AI30 -> 0.01984127 | AO30: =simplified!AO67/AI30 -> 0.01984127 | AP30: =simplified!AP67/AI30 -> 0.055555556 | AQ30: 305 | AR30: =simplified!AR67/AQ30 -> 0.1704918 | AS30: =simplified!AS67/AQ30 -> 0.16393443 | AT30: =simplified!AT67/AQ30 -> 0.081967213 | AU30: =simplified!AU67/AQ30 -> 0.026229508 | AV30: =simplified!AV67/AQ30 -> 0.013114754 | AW30: =simplified!AW67/AQ30 -> 0.026229508 | AX30: =simplified!AX67/AQ30 -> 0.06557377 | AY30: =AX30-J30 -> -0.036990332
A31: 217633 | B31: Anderson University, SC (2011) | C31: 231 | D31: =simplified!D106/percentages!C106 -> 0.14112291 | E31: =simplified!E106/C31 -> 0.18614719 | F31: =simplified!F106/C31 -> 0 | G31: =simplified!G106/C31 -> 0.012987013 | H31: =simplified!H106/C31 -> 0.021645022 | I31: =simplified!I106/C31 -> 0.064935065 | J31: =simplified!J106/C31 -> 0.0995671 | K31: 259 | L31: =simplified!L106/K31 -> 0.22779923 | M31: =simplified!M106/K31 -> 0.25096525 | N31: =simplified!N106/K31 -> 0 | O31: =simplified!O106/K31 -> 0.027027027 | P31: =simplified!P106/K31 -> 0.030888031 | Q31: =simplified!Q106/K31 -> 0.069498069 | R31: =simplified!R106/K31 -> 0.12741313 | S31: 229 | T31: =simplified!T106/S31 -> 0.31877729 | U31: =simplified!U106/S31 -> 0.26637555 | V31: =simplified!V106/S31 -> 0 | W31: =simplified!W106/S31 -> 0.026200873 | X31: =simplified!X106/S31 -> 0.013100437 | Y31: =simplified!Y106/S31 -> 0.017467249 | Z31: =simplified!Z106/S31 -> 0.056768559 | AA31: 251 | AB31: =simplified!AB106/AA31 -> 0.3187251 | AC31: =simplified!AC106/AA31 -> 0.28286853 | AD31: =simplified!AD106/AA31 -> 0 | AE31: =simplified!AE106/AA31 -> 0.0079681275 | AF31: =simplified!AF106/AA31 -> 0.019920319 | AG31: =simplified!AG106/AA31 -> 0.055776892 | AH31: =simplified!AH106/AA31 -> 0.083665339 | AI31: 265 | AJ31: =simplified!AJ106/AI31 -> 0.32075472 | AK31: =simplified!AK106/AI31 -> 0.28301887 | AL31: =simplified!AL106/AI31 -> 0 | AM31: =simplified!AM106/AI31 -> 0.0075471698 | AN31: =simplified!AN106/AI31 -> 0.018867925 | AO31: =simplified!AO106/AI31 -> 0.052830189 | AP31: =simplified!AP106/AI31 -> 0.079245283 | AQ31: 466 | AR31: =simplified!AR106/AQ31 -> 0.27038627 | AS31: =simplified!AS106/AQ31 -> 0.17167382 | AT31: =simplified!AT106/AQ31 -> 0.032188841 | AU31: =simplified!AU106/AQ31 -> 0.034334764 | AV31: =simplified!AV106/AQ31 -> 0.015021459 | AW31: =simplified!AW106/AQ31 -> 0.072961373 | AX31: =simplified!AX106/AQ31 -> 0.1223176 | AY31: =AX31-J31 -> 0.022750497
A32: 199032 | B32: Montreat College | C32: 211 | D32: =simplified!D60/percentages!C60 -> 0.22801788 | E32: =simplified!E60/C32 -> 0.042654028 | F32: =simplified!F60/C32 -> 0 | G32: =simplified!G60/C32 -> 0.023696682 | H32: =simplified!H60/C32 -> 0.009478673 | I32: =simplified!I60/C32 -> 0.066350711 | J32: =simplified!J60/C32 -> 0.099526066 | K32: 173 | L32: =simplified!L60/K32 -> 0.61849711 | M32: =simplified!M60/K32 -> 0.034682081 | N32: =simplified!N60/K32 -> 0 | O32: =simplified!O60/K32 -> 0.046242775 | P32: =simplified!P60/K32 -> 0.01734104 | Q32: =simplified!Q60/K32 -> 0.092485549 | R32: =simplified!R60/K32 -> 0.15606936 | S32: 157 | T32: =simplified!T60/S32 -> 0.59235669 | U32: =simplified!U60/S32 -> 0.082802548 | V32: =simplified!V60/S32 -> 0 | W32: =simplified!W60/S32 -> 0.031847134 | X32: =simplified!X60/S32 -> 0.012738854 | Y32: =simplified!Y60/S32 -> 0.10191083 | Z32: =simplified!Z60/S32 -> 0.14649682 | AA32: 187 | AB32: =simplified!AB60/AA32 -> 0.63636364 | AC32: =simplified!AC60/AA32 -> 0.042780749 | AD32: =simplified!AD60/AA32 -> 0 | AE32: =simplified!AE60/AA32 -> 0.026737968 | AF32: =simplified!AF60/AA32 -> 0.016042781 | AG32: =simplified!AG60/AA32 -> 0.026737968 | AH32: =simplified!AH60/AA32 -> 0.069518717 | AI32: 167 | AJ32: =simplified!AJ60/AI32 -> 0.5988024 | AK32: =simplified!AK60/AI32 -> 0.017964072 | AL32: =simplified!AL60/AI32 -> 0 | AM32: =simplified!AM60/AI32 -> 0.017964072 | AN32: =simplified!AN60/AI32 -> 0.011976048 | AO32: =simplified!AO60/AI32 -> 0.035928144 | AP32: =simplified!AP60/AI32 -> 0.065868263 | AQ32: 168 | AR32: =simplified!AR60/AQ32 -> 0.44047619 | AS32: =simplified!AS60/AQ32 -> 0.011904762 | AT32: =simplified!AT60/AQ32 -> 0 | AU32: =simplified!AU60/AQ32 -> 0.035714286 | AV32: =simplified!AV60/AQ32 -> 0.023809524 | AW32: =simplified!AW60/AQ32 -> 0.011904762 | AX32: =simplified!AX60/AQ32 -> 0.071428571 | AY32: =AX32-J32 -> -0.028097495
A33: 110361 | B33: California Baptist University | C33: 430 | D33: =simplified!D13/percentages!C13 -> 0.14018692 | E33: =simplified!E13/C33 -> 0 | F33: =simplified!F13/C33 -> 0 | G33: =simplified!G13/C33 -> 0.053488372 | H33: =simplified!H13/C33 -> 0.034883721 | I33: =simplified!I13/C33 -> 0.0093023256 | J33: =simplified!J13/C33 -> 0.097674419 | K33: 595 | L33: =simplified!L13/K33 -> 0.12941176 | M33: =simplified!M13/K33 -> 0 | N33: =simplified!N13/K33 -> 0 | O33: =simplified!O13/K33 -> 0.045378151 | P33: =simplified!P13/K33 -> 0.038655462 | Q33: =simplified!Q13/K33 -> 0.028571429 | R33: =simplified!R13/K33 -> 0.11260504 | S33: 648 | T33: =simplified!T13/S33 -> 0.17438272 | U33: =simplified!U13/S33 -> 0 | V33: =simplified!V13/S33 -> 0.0046296296 | W33: =simplified!W13/S33 -> 0.050925926 | X33: =simplified!X13/S33 -> 0.033950617 | Y33: =simplified!Y13/S33 -> 0.044753086 | Z33: =simplified!Z13/S33 -> 0.12962963 | AA33: 739 | AB33: =simplified!AB13/AA33 -> 0.16508796 | AC33: =simplified!AC13/AA33 -> 0.027063599 | AD33: =simplified!AD13/AA33 -> 0.060893099 | AE33: =simplified!AE13/AA33 -> 0.048714479 | AF33: =simplified!AF13/AA33 -> 0.033829499 | AG33: =simplified!AG13/AA33 -> 0.041948579 | AH33: =simplified!AH13/AA33 -> 0.12449256 | AI33: 850 | AJ33: =simplified!AJ13/AI33 -> 0.13294118 | AK33: =simplified!AK13/AI33 -> 0.035294118 | AL33: =simplified!AL13/AI33 -> 0.076470588 | AM33: =simplified!AM13/AI33 -> 0.031764706 | AN33: =simplified!AN13/AI33 -> 0.018823529 | AO33: =simplified!AO13/AI33 -> 0.038823529 | AP33: =simplified!AP13/AI33 -> 0.089411765 | AQ33: 1057 | AR33: =simplified!AR13/AQ33 -> 0.12204352 | AS33: =simplified!AS13/AQ33 -> 0.045411542 | AT33: =simplified!AT13/AQ33 -> 0.098391675 | AU33: =simplified!AU13/AQ33 -> 0.028382214 | AV33: =simplified!AV13/AQ33 -> 0.016083254 | AW33: =simplified!AW13/AQ33 -> 0.033112583 | AX33: =simplified!AX13/AQ33 -> 0.077578051 | AY33: =AX33-J33 -> -0.020096368
A34: 226471 | B34: University of Mary Hardin-Baylor (2008) | C34: 530 | D34: =simplified!D104/percentages!C104 -> 0.054200542 | E34: =simplified!E104/C34 -> 0.1490566 | F34: =simplified!F104/C34 -> 0.10754717 | G34: =simplified!G104/C34 -> 0.041509434 | H34: =simplified!H104/C34 -> 0.018867925 | I34: =simplified!I104/C34 -> 0.035849057 | J34: =simplified!J104/C34 -> 0.096226415 | K34: 516 | L34: =simplified!L104/K34 -> 0.14922481 | M34: =simplified!M104/K34 -> 0.1375969 | N34: =simplified!N104/K34 -> 0.12403101 | O34: =simplified!O104/K34 -> 0.027131783 | P34: =simplified!P104/K34 -> 0.023255814 | Q34: =simplified!Q104/K34 -> 0.023255814 | R34: =simplified!R104/K34 -> 0.073643411 | S34: 528 | T34: =simplified!T104/S34 -> 0.14772727 | U34: =simplified!U104/S34 -> 0.14583333 | V34: =simplified!V104/S34 -> 0.14962121 | W34: =simplified!W104/S34 -> 0.024621212 | X34: =simplified!X104/S34 -> 0.020833333 | Y34: =simplified!Y104/S34 -> 0.017045455 | Z34: =simplified!Z104/S34 -> 0.0625 | AA34: 500 | AB34: =simplified!AB104/AA34 -> 0.148 | AC34: =simplified!AC104/AA34 -> 0.162 | AD34: =simplified!AD104/AA34 -> 0.164 | AE34: =simplified!AE104/AA34 -> 0.02 | AF34: =simplified!AF104/AA34 -> 0.036 | AG34: =simplified!AG104/AA34 -> 0.012 | AH34: =simplified!AH104/AA34 -> 0.068 | AI34: 503 | AJ34: =simplified!AJ104/AI34 -> 0.12922465 | AK34: =simplified!AK104/AI34 -> 0.15109344 | AL34: =simplified!AL104/AI34 -> 0.19483101 | AM34: =simplified!AM104/AI34 -> 0.027833002 | AN34: =simplified!AN104/AI34 -> 0.041749503 | AO34: =simplified!AO104/AI34 -> 0.0099403579 | AP34: =simplified!AP104/AI34 -> 0.079522863 | AQ34: 616 | AR34: =simplified!AR104/AQ34 -> 0.11038961 | AS34: =simplified!AS104/AQ34 -> 0.1461039 | AT34: =simplified!AT104/AQ34 -> 0.2711039 | AU34: =simplified!AU104/AQ34 -> 0.011363636 | AV34: =simplified!AV104/AQ34 -> 0.01461039 | AW34: =simplified!AW104/AQ34 -> 0.011363636 | AX34: =simplified!AX104/AQ34 -> 0.037337662 | AY34: =AX34-J34 -> -0.058888753
A35: 221892 | B35: Trevecca Nazarene University | C35: 354 | D35: =simplified!D87/percentages!C87 -> 0.87878788 | E35: =simplified!E87/C35 -> 0.06779661 | F35: =simplified!F87/C35 -> 0 | G35: =simplified!G87/C35 -> 0.0084745763 | H35: =simplified!H87/C35 -> 0.0056497175 | I35: =simplified!I87/C35 -> 0.081920904 | J35: =simplified!J87/C35 -> 0.096045198 | K35: 351 | L35: =simplified!L87/K35 -> 0.62108262 | M35: =simplified!M87/K35 -> 0.065527066 | N35: =simplified!N87/K35 -> 0 | O35: =simplified!O87/K35 -> 0.011396011 | P35: =simplified!P87/K35 -> 0.01994302 | Q35: =simplified!Q87/K35 -> 0.056980057 | R35: =simplified!R87/K35 -> 0.088319088 | S35: 334 | T35: =simplified!T87/S35 -> 0.55988024 | U35: =simplified!U87/S35 -> 0.077844311 | V35: =simplified!V87/S35 -> 0 | W35: =simplified!W87/S35 -> 0.0089820359 | X35: =simplified!X87/S35 -> 0.005988024 | Y35: =simplified!Y87/S35 -> 0.065868263 | Z35: =simplified!Z87/S35 -> 0.080838323 | AA35: 345 | AB35: =simplified!AB87/AA35 -> 0.53043478 | AC35: =simplified!AC87/AA35 -> 0.092753623 | AD35: =simplified!AD87/AA35 -> 0.0028985507 | AE35: =simplified!AE87/AA35 -> 0.0028985507 | AF35: =simplified!AF87/AA35 -> 0.0086956522 | AG35: =simplified!AG87/AA35 -> 0.0057971014 | AH35: =simplified!AH87/AA35 -> 0.017391304 | AI35: 339 | AJ35: =simplified!AJ87/AI35 -> 0.48377581 | AK35: =simplified!AK87/AI35 -> 0.076696165 | AL35: =simplified!AL87/AI35 -> 0.017699115 | AM35: =simplified!AM87/AI35 -> 0.01179941 | AN35: =simplified!AN87/AI35 -> 0.0088495575 | AO35: =simplified!AO87/AI35 -> 0 | AP35: =simplified!AP87/AI35 -> 0.020648968 | AQ35: 353 | AR35: =simplified!AR87/AQ35 -> 0.40509915 | AS35: =simplified!AS87/AQ35 -> 0.067988669 | AT35: =simplified!AT87/AQ35 -> 0.025495751 | AU35: =simplified!AU87/AQ35 -> 0.011331445 | AV35: =simplified!AV87/AQ35 -> 0.0084985836 | AW35: =simplified!AW87/AQ35 -> 0 | AX35: =simplified!AX87/AQ35 -> 0.019830028 | AY35: =AX35-J35 -> -0.076215169
A36: 150941 | B36: Huntington University | C36: 189 | D36: =simplified!D44/percentages!C44 -> 0.073852295 | E36: =simplified!E44/C36 -> 0.30687831 | F36: =simplified!F44/C36 -> 0 | G36: =simplified!G44/C36 -> 0.063492063 | H36: =simplified!H44/C36 -> 0.015873016 | I36: =simplified!I44/C36 -> 0.015873016 | J36: =simplified!J44/C36 -> 0.095238095 | K36: 207 | L36: =simplified!L44/K36 -> 0.22705314 | M36: =simplified!M44/K36 -> 0.25603865 | N36: =simplified!N44/K36 -> 0 | O36: =simplified!O44/K36 -> 0.043478261 | P36: =simplified!P44/K36 -> 0.0096618357 | Q36: =simplified!Q44/K36 -> 0.033816425 | R36: =simplified!R44/K36 -> 0.086956522 | S36: 206 | T36: =simplified!T44/S36 -> 0.23300971 | U36: =simplified!U44/S36 -> 0.19902913 | V36: =simplified!V44/S36 -> 0 | W36: =simplified!W44/S36 -> 0.014563107 | X36: =simplified!X44/S36 -> 0.019417476 | Y36: =simplified!Y44/S36 -> 0.029126214 | Z36: =simplified!Z44/S36 -> 0.063106796 | AA36: 232 | AB36: =simplified!AB44/AA36 -> 0.18534483 | AC36: =simplified!AC44/AA36 -> 0.13362069 | AD36: =simplified!AD44/AA36 -> 0 | AE36: =simplified!AE44/AA36 -> 0.025862069 | AF36: =simplified!AF44/AA36 -> 0.021551724 | AG36: =simplified!AG44/AA36 -> 0.021551724 | AH36: =simplified!AH44/AA36 -> 0.068965517 | AI36: 248 | AJ36: =simplified!AJ44/AI36 -> 0.29435484 | AK36: =simplified!AK44/AI36 -> 0.12096774 | AL36: =simplified!AL44/AI36 -> 0.068548387 | AM36: =simplified!AM44/AI36 -> 0.028225806 | AN36: =simplified!AN44/AI36 -> 0.02016129 | AO36: =simplified!AO44/AI36 -> 0.036290323 | AP36: =simplified!AP44/AI36 -> 0.084677419 | AQ36: 287 | AR36: =simplified!AR44/AQ36 -> 0.2543554 | AS36: =simplified!AS44/AQ36 -> 0.12195122 | AT36: =simplified!AT44/AQ36 -> 0.059233449 | AU36: =simplified!AU44/AQ36 -> 0.013937282 | AV36: =simplified!AV44/AQ36 -> 0.024390244 | AW36: =simplified!AW44/AQ36 -> 0.0069686411 | AX36: =simplified!AX44/AQ36 -> 0.045296167 | AY36: =AX36-J36 -> -0.049941928
A37: 236577 | B37: Seattle Pacific University | C37: 657 | D37: =simplified!D77/percentages!C77 -> 0.17872969 | E37: =simplified!E77/C37 -> 0.03348554 | F37: =simplified!F77/C37 -> 0.11567732 | G37: =simplified!G77/C37 -> 0.04870624 | H37: =simplified!H77/C37 -> 0.03196347 | I37: =simplified!I77/C37 -> 0.01369863 | J37: =simplified!J77/C37 -> 0.094368341 | K37: 737 | L37: =simplified!L77/K37 -> 0.13975577 | M37: =simplified!M77/K37 -> 0.039348711 | N37: =simplified!N77/K37 -> 0.082767978 | O37: =simplified!O77/K37 -> 0.05156038 | P37: =simplified!P77/K37 -> 0.027137042 | Q37: =simplified!Q77/K37 -> 0.014925373 | R37: =simplified!R77/K37 -> 0.093622795 | S37: 771 | T37: =simplified!T77/S37 -> 0.14915694 | U37: =simplified!U77/S37 -> 0.011673152 | V37: =simplified!V77/S37 -> 0.083009079 | W37: =simplified!W77/S37 -> 0.054474708 | X37: =simplified!X77/S37 -> 0.028534371 | Y37: =simplified!Y77/S37 -> 0.009079118 | Z37: =simplified!Z77/S37 -> 0.092088197 | AA37: 734 | AB37: =simplified!AB77/AA37 -> 0.10626703 | AC37: =simplified!AC77/AA37 -> 0.025885559 | AD37: =simplified!AD77/AA37 -> 0.088555858 | AE37: =simplified!AE77/AA37 -> 0.057220708 | AF37: =simplified!AF77/AA37 -> 0.024523161 | AG37: =simplified!AG77/AA37 -> 0.01226158 | AH37: =simplified!AH77/AA37 -> 0.09400545 | AI37: 814 | AJ37: =simplified!AJ77/AI37 -> 0.12653563 | AK37: =simplified!AK77/AI37 -> 0.044226044 | AL37: =simplified!AL77/AI37 -> 0.077395577 | AM37: =simplified!AM77/AI37 -> 0.052825553 | AN37: =simplified!AN77/AI37 -> 0.028255528 | AO37: =simplified!AO77/AI37 -> 0.011056511 | AP37: =simplified!AP77/AI37 -> 0.092137592 | AQ37: 842 | AR37: =simplified!AR77/AQ37 -> 0.09976247 | AS37: =simplified!AS77/AQ37 -> 0.04631829 | AT37: =simplified!AT77/AQ37 -> 0.078384798 | AU37: =simplified!AU77/AQ37 -> 0.045130641 | AV37: =simplified!AV77/AQ37 -> 0.01543943 | AW37: =simplified!AW77/AQ37 -> 0.0071258907 | AX37: =simplified!AX77/AQ37 -> 0.067695962 | AY37: =AX37-J37 -> -0.026672379
A38: 150066 | B38: Anderson University, IN | C38: 428 | D38: =simplified!D4/percentages!C4 -> 0.16563147 | E38: =simplified!E4/C38 -> 0.1728972 | F38: =simplified!F4/C38 -> 0.077102804 | G38: =simplified!G4/C38 -> 0.021028037 | H38: =simplified!H4/C38 -> 0.030373832 | I38: =simplified!I4/C38 -> 0.037383178 | J38: =simplified!J4/C38 -> 0.088785047 | K38: 485 | L38: =simplified!L4/K38 -> 0.2 | M38: =simplified!M4/K38 -> 0.17319588 | N38: =simplified!N4/K38 -> 0.055670103 | O38: =simplified!O4/K38 -> 0.01443299 | P38: =simplified!P4/K38 -> 0.039175258 | Q38: =simplified!Q4/K38 -> 0.037113402 | R38: =simplified!R4/K38 -> 0.090721649 | S38: 535 | T38: =simplified!T4/S38 -> 0.21682243 | U38: =simplified!U4/S38 -> 0.13831776 | V38: =simplified!V4/S38 -> 0.065420561 | W38: =simplified!W4/S38 -> 0.022429907 | X38: =simplified!X4/S38 -> 0.029906542 | Y38: =simplified!Y4/S38 -> 0.026168224 | Z38: =simplified!Z4/S38 -> 0.078504673 | AA38: 449 | AB38: =simplified!AB4/AA38 -> 0.21158129 | AC38: =simplified!AC4/AA38 -> 0.1403118 | AD38: =simplified!AD4/AA38 -> 0.073496659 | AE38: =simplified!AE4/AA38 -> 0.024498886 | AF38: =simplified!AF4/AA38 -> 0.055679287 | AG38: =simplified!AG4/AA38 -> 0.033407572 | AH38: =simplified!AH4/AA38 -> 0.11358575 | AI38: 476 | AJ38: =simplified!AJ4/AI38 -> 0.21008403 | AK38: =simplified!AK4/AI38 -> 0.12394958 | AL38: =simplified!AL4/AI38 -> 0.06512605 | AM38: =simplified!AM4/AI38 -> 0.012605042 | AN38: =simplified!AN4/AI38 -> 0.046218487 | AO38: =simplified!AO4/AI38 -> 0.016806723 | AP38: =simplified!AP4/AI38 -> 0.075630252 | AQ38: 418 | AR38: =simplified!AR4/AQ38 -> 0.19856459 | AS38: =simplified!AS4/AQ38 -> 0.11722488 | AT38: =simplified!AT4/AQ38 -> 0.059808612 | AU38: =simplified!AU4/AQ38 -> 0.019138756 | AV38: =simplified!AV4/AQ38 -> 0.031100478 | AW38: =simplified!AW4/AQ38 -> 0.009569378 | AX38: =simplified!AX4/AQ38 -> 0.059808612 | AY38: =AX38-J38 -> -0.028976434
A39: 210304 | B39: Warner Pacific College | C39: 136 | D39: =simplified!D94/percentages!C94 -> 0.055379747 | E39: =simplified!E94/C39 -> 0.0073529412 | F39: =simplified!F94/C39 -> 0 | G39: =simplified!G94/C39 -> 0.029411765 | H39: =simplified!H94/C39 -> 0 | I39: =simplified!I94/C39 -> 0.058823529 | J39: =simplified!J94/C39 -> 0.088235294 | K39: 143 | L39: =simplified!L94/K39 -> 0.18181818 | M39: =simplified!M94/K39 -> 0.027972028 | N39: =simplified!N94/K39 -> 0 | O39: =simplified!O94/K39 -> 0.055944056 | P39: =simplified!P94/K39 -> 0.027972028 | Q39: =simplified!Q94/K39 -> 0.041958042 | R39: =simplified!R94/K39 -> 0.12587413 | S39: 195 | T39: =simplified!T94/S39 -> 0.28717949 | U39: =simplified!U94/S39 -> 0.066666667 | V39: =simplified!V94/S39 -> 0 | W39: =simplified!W94/S39 -> 0.0051282051 | X39: =simplified!X94/S39 -> 0.0051282051 | Y39: =simplified!Y94/S39 -> 0.041025641 | Z39: =simplified!Z94/S39 -> 0.051282051 | AA39: 257 | AB39: =simplified!AB94/AA39 -> 0.31128405 | AC39: =simplified!AC94/AA39 -> 0.06614786 | AD39: =simplified!AD94/AA39 -> 0 | AE39: =simplified!AE94/AA39 -> 0.015564202 | AF39: =simplified!AF94/AA39 -> 0.019455253 | AG39: =simplified!AG94/AA39 -> 0.027237354 | AH39: =simplified!AH94/AA39 -> 0.062256809 | AI39: 103 | AJ39: =simplified!AJ94/AI39 -> 0.16504854 | AK39: =simplified!AK94/AI39 -> 0.058252427 | AL39: =simplified!AL94/AI39 -> 0 | AM39: =simplified!AM94/AI39 -> 0.038834951 | AN39: =simplified!AN94/AI39 -> 0.038834951 | AO39: =simplified!AO94/AI39 -> 0.067961165 | AP39: =simplified!AP94/AI39 -> 0.14563107 | AQ39: 114 | AR39: =simplified!AR94/AQ39 -> 0.26315789 | AS39: =simplified!AS94/AQ39 -> 0.12280702 | AT39: =simplified!AT94/AQ39 -> 0 | AU39: =simplified!AU94/AQ39 -> 0.035087719 | AV39: =simplified!AV94/AQ39 -> 0.01754386 | AW39: =simplified!AW94/AQ39 -> 0 | AX39: =simplified!AX94/AQ39 -> 0.052631579 | AY39: =AX39-J39 -> -0.035603715
A40: 172334 | B40: Spring Arbor University | C40: 794 | D40: =simplified!D82/percentages!C82 -> 1.825 | E40: =simplified!E82/C40 -> 0.083123426 | F40: =simplified!F82/C40 -> 0.040302267 | G40: =simplified!G82/C40 -> 0.04534005 | H40: =simplified!H82/C40 -> 0.01511335 | I40: =simplified!I82/C40 -> 0.026448363 | J40: =simplified!J82/C40 -> 0.086901763 | K40: 724 | L40: =simplified!L82/K40 -> 0.32596685 | M40: =simplified!M82/K40 -> 0.14640884 | N40: =simplified!N82/K40 -> 0.052486188 | O40: =simplified!O82/K40 -> 0.027624309 | P40: =simplified!P82/K40 -> 0.011049724 | Q40: =simplified!Q82/K40 -> 0.029005525 | R40: =simplified!R82/K40 -> 0.067679558 | S40: 686 | T40: =simplified!T82/S40 -> 0.303207 | U40: =simplified!U82/S40 -> 0.14723032 | V40: =simplified!V82/S40 -> 0.074344023 | W40: =simplified!W82/S40 -> 0.013119534 | X40: =simplified!X82/S40 -> 0.0072886297 | Y40: =simplified!Y82/S40 -> 0.042274052 | Z40: =simplified!Z82/S40 -> 0.062682216 | AA40: 727 | AB40: =simplified!AB82/AA40 -> 0.28748281 | AC40: =simplified!AC82/AA40 -> 0.10591472 | AD40: =simplified!AD82/AA40 -> 0.096286107 | AE40: =simplified!AE82/AA40 -> 0.026134801 | AF40: =simplified!AF82/AA40 -> 0.015130674 | AG40: =simplified!AG82/AA40 -> 0.012379642 | AH40: =simplified!AH82/AA40 -> 0.053645117 | AI40: 748 | AJ40: =simplified!AJ82/AI40 -> 0.23529412 | AK40: =simplified!AK82/AI40 -> 0.11898396 | AL40: =simplified!AL82/AI40 -> 0.12967914 | AM40: =simplified!AM82/AI40 -> 0.010695187 | AN40: =simplified!AN82/AI40 -> 0.0093582888 | AO40: =simplified!AO82/AI40 -> 0.0093582888 | AP40: =simplified!AP82/AI40 -> 0.029411765 | AQ40: 848 | AR40: =simplified!AR82/AQ40 -> 0.24882075 | AS40: =simplified!AS82/AQ40 -> 0.056603774 | AT40: =simplified!AT82/AQ40 -> 0.18278302 | AU40: =simplified!AU82/AQ40 -> 0.011792453 | AV40: =simplified!AV82/AQ40 -> 0.016509434 | AW40: =simplified!AW82/AQ40 -> 0.018867925 | AX40: =simplified!AX82/AQ40 -> 0.047169811 | AY40: =AX40-J40 -> -0.039731952
A41: 221014 | B41: Milligan College | C41: 193 | D41: =simplified!D58/percentages!C58 -> 0.24124514 | E41: =simplified!E58/C41 -> 0.077720207 | F41: =simplified!F58/C41 -> 0.046632124 | G41: =simplified!G58/C41 -> 0.051813472 | H41: =simplified!H58/C41 -> 0.031088083 | I41: =simplified!I58/C41 -> 0 | J41: =simplified!J58/C41 -> 0.082901554 | K41: 182 | L41: =simplified!L58/K41 -> 0.32417582 | M41: =simplified!M58/K41 -> 0.071428571 | N41: =simplified!N58/K41 -> 0.049450549 | O41: =simplified!O58/K41 -> 0.038461538 | P41: =simplified!P58/K41 -> 0.027472527 | Q41: =simplified!Q58/K41 -> 0 | R41: =simplified!R58/K41 -> 0.065934066 | S41: 183 | T41: =simplified!T58/S41 -> 0.19672131 | U41: =simplified!U58/S41 -> 0.076502732 | V41: =simplified!V58/S41 -> 0.15300546 | W41: =simplified!W58/S41 -> 0.043715847 | X41: =simplified!X58/S41 -> 0.021857923 | Y41: =simplified!Y58/S41 -> 0 | Z41: =simplified!Z58/S41 -> 0.06557377 | AA41: 192 | AB41: =simplified!AB58/AA41 -> 0.22395833 | AC41: =simplified!AC58/AA41 -> 0.0052083333 | AD41: =simplified!AD58/AA41 -> 0.125 | AE41: =simplified!AE58/AA41 -> 0.041666667 | AF41: =simplified!AF58/AA41 -> 0.03125 | AG41: =simplified!AG58/AA41 -> 0 | AH41: =simplified!AH58/AA41 -> 0.072916667 | AI41: 232 | AJ41: =simplified!AJ58/AI41 -> 0.22844828 | AK41: =simplified!AK58/AI41 -> 0.0043103448 | AL41: =simplified!AL58/AI41 -> 0.10775862 | AM41: =simplified!AM58/AI41 -> 0.060344828 | AN41: =simplified!AN58/AI41 -> 0.025862069 | AO41: =simplified!AO58/AI41 -> 0 | AP41: =simplified!AP58/AI41 -> 0.086206897 | AQ41: 229 | AR41: =simplified!AR58/AQ41 -> 0.18340611 | AS41: =simplified!AS58/AQ41 -> 0.0087336245 | AT41: =simplified!AT58/AQ41 -> 0.23580786 | AU41: =simplified!AU58/AQ41 -> 0.017467249 | AV41: =simplified!AV58/AQ41 -> 0.03930131 | AW41: =simplified!AW58/AQ41 -> 0 | AX41: =simplified!AX58/AQ41 -> 0.056768559 | AY41: =AX41-J41 -> -0.026132995
A42: 117751 | B42: The Master's College and Seminary | C42: 258 | D42: =simplified!D86/percentages!C86 -> 0.16918429 | E42: =simplified!E86/C42 -> 0.031007752 | F42: =simplified!F86/C42 -> 0 | G42: =simplified!G86/C42 -> 0.034883721 | H42: =simplified!H86/C42 -> 0.046511628 | I42: =simplified!I86/C42 -> 0 | J42: =simplified!J86/C42 -> 0.081395349 | K42: 275 | L42: =simplified!L86/K42 -> 0.18545455 | M42: =simplified!M86/K42 -> 0.0036363636 | N42: =simplified!N86/K42 -> 0 | O42: =simplified!O86/K42 -> 0.021818182 | P42: =simplified!P86/K42 -> 0.050909091 | Q42: =simplified!Q86/K42 -> 0 | R42: =simplified!R86/K42 -> 0.072727273 | S42: 292 | T42: =simplified!T86/S42 -> 0.16438356 | U42: =simplified!U86/S42 -> 0.020547945 | V42: =simplified!V86/S42 -> 0 | W42: =simplified!W86/S42 -> 0.034246575 | X42: =simplified!X86/S42 -> 0.030821918 | Y42: =simplified!Y86/S42 -> 0 | Z42: =simplified!Z86/S42 -> 0.065068493 | AA42: 205 | AB42: =simplified!AB86/AA42 -> 0.2195122 | AC42: =simplified!AC86/AA42 -> 0.024390244 | AD42: =simplified!AD86/AA42 -> 0 | AE42: =simplified!AE86/AA42 -> 0.03902439 | AF42: =simplified!AF86/AA42 -> 0.034146341 | AG42: =simplified!AG86/AA42 -> 0 | AH42: =simplified!AH86/AA42 -> 0.073170732 | AI42: 224 | AJ42: =simplified!AJ86/AI42 -> 0.13392857 | AK42: =simplified!AK86/AI42 -> 0.071428571 | AL42: =simplified!AL86/AI42 -> 0 | AM42: =simplified!AM86/AI42 -> 0.044642857 | AN42: =simplified!AN86/AI42 -> 0.058035714 | AO42: =simplified!AO86/AI42 -> 0 | AP42: =simplified!AP86/AI42 -> 0.10267857 | AQ42: 269 | AR42: =simplified!AR86/AQ42 -> 0.21189591 | AS42: =simplified!AS86/AQ42 -> 0.066914498 | AT42: =simplified!AT86/AQ42 -> 0 | AU42: =simplified!AU86/AQ42 -> 0.033457249 | AV42: =simplified!AV86/AQ42 -> 0.037174721 | AW42: =simplified!AW86/AQ42 -> 0 | AX42: =simplified!AX86/AQ42 -> 0.07063197 | AY42: =AX42-J42 -> -0.010763379
A43: 225247 | B43: Hardin-Simmons University | C43: 360 | D43: =simplified!D39/percentages!C39 -> 0.32352941 | E43: =simplified!E39/C43 -> 0.21111111 | F43: =simplified!F39/C43 -> 0.052777778 | G43: =simplified!G39/C43 -> 0.055555556 | H43: =simplified!H39/C43 -> 0.022222222 | I43: =simplified!I39/C43 -> 0.0027777778 | J43: =simplified!J39/C43 -> 0.080555556 | K43: 357 | L43: =simplified!L39/K43 -> 0.19887955 | M43: =simplified!M39/K43 -> 0.1372549 | N43: =simplified!N39/K43 -> 0.058823529 | O43: =simplified!O39/K43 -> 0.039215686 | P43: =simplified!P39/K43 -> 0.016806723 | Q43: =simplified!Q39/K43 -> 0 | R43: =simplified!R39/K43 -> 0.056022409 | S43: 404 | T43: =simplified!T39/S43 -> 0.18564356 | U43: =simplified!U39/S43 -> 0.20049505 | V43: =simplified!V39/S43 -> 0.076732673 | W43: =simplified!W39/S43 -> 0.042079208 | X43: =simplified!X39/S43 -> 0.017326733 | Y43: =simplified!Y39/S43 -> 0 | Z43: =simplified!Z39/S43 -> 0.059405941 | AA43: 374 | AB43: =simplified!AB39/AA43 -> 0.18983957 | AC43: =simplified!AC39/AA43 -> 0.14705882 | AD43: =simplified!AD39/AA43 -> 0.050802139 | AE43: =simplified!AE39/AA43 -> 0.040106952 | AF43: =simplified!AF39/AA43 -> 0.026737968 | AG43: =simplified!AG39/AA43 -> 0.0026737968 | AH43: =simplified!AH39/AA43 -> 0.069518717 | AI43: 397 | AJ43: =simplified!AJ39/AI43 -> 0.15365239 | AK43: =simplified!AK39/AI43 -> 0.1511335 | AL43: =simplified!AL39/AI43 -> 0.047858942 | AM43: =simplified!AM39/AI43 -> 0.035264484 | AN43: =simplified!AN39/AI43 -> 0.040302267 | AO43: =simplified!AO39/AI43 -> 0.0025188917 | AP43: =simplified!AP39/AI43 -> 0.078085642 | AQ43: 373 | AR43: =simplified!AR39/AQ43 -> 0.12868633 | AS43: =simplified!AS39/AQ43 -> 0.14745308 | AT43: =simplified!AT39/AQ43 -> 0.096514745 | AU43: =simplified!AU39/AQ43 -> 0.034852547 | AV43: =simplified!AV39/AQ43 -> 0.013404826 | AW43: =simplified!AW39/AQ43 -> 0.0080428954 | AX43: =simplified!AX39/AQ43 -> 0.056300268 | AY43: =AX43-J43 -> -0.024255287
A44: 121309 | B44: Point Loma Nazarene University | C44: 501 | D44: =simplified!D75/percentages!C75 -> 0.72268908 | E44: =simplified!E75/C44 -> 0 | F44: =simplified!F75/C44 -> 0.089820359 | G44: =simplified!G75/C44 -> 0.025948104 | H44: =simplified!H75/C44 -> 0.011976048 | I44: =simplified!I75/C44 -> 0.041916168 | J44: =simplified!J75/C44 -> 0.079840319 | K44: 520 | L44: =simplified!L75/K44 -> 0.18269231 | M44: =simplified!M75/K44 -> 0.0019230769 | N44: =simplified!N75/K44 -> 0.078846154 | O44: =simplified!O75/K44 -> 0.036538462 | P44: =simplified!P75/K44 -> 0.015384615 | Q44: =simplified!Q75/K44 -> 0.046153846 | R44: =simplified!R75/K44 -> 0.098076923 | S44: 578 | T44: =simplified!T75/S44 -> 0.21799308 | U44: =simplified!U75/S44 -> 0.0069204152 | V44: =simplified!V75/S44 -> 0.091695502 | W44: =simplified!W75/S44 -> 0.022491349 | X44: =simplified!X75/S44 -> 0.008650519 | Y44: =simplified!Y75/S44 -> 0.041522491 | Z44: =simplified!Z75/S44 -> 0.07266436 | AA44: 639 | AB44: =simplified!AB75/AA44 -> 0.23317684 | AC44: =simplified!AC75/AA44 -> 0.0093896714 | AD44: =simplified!AD75/AA44 -> 0.07198748 | AE44: =simplified!AE75/AA44 -> 0.034428795 | AF44: =simplified!AF75/AA44 -> 0.0093896714 | AG44: =simplified!AG75/AA44 -> 0.017214397 | AH44: =simplified!AH75/AA44 -> 0.061032864 | AI44: 572 | AJ44: =simplified!AJ75/AI44 -> 0.25174825 | AK44: =simplified!AK75/AI44 -> 0.015734266 | AL44: =simplified!AL75/AI44 -> 0.096153846 | AM44: =simplified!AM75/AI44 -> 0.033216783 | AN44: =simplified!AN75/AI44 -> 0.0052447552 | AO44: =simplified!AO75/AI44 -> 0.022727273 | AP44: =simplified!AP75/AI44 -> 0.061188811 | AQ44: 616 | AR44: =simplified!AR75/AQ44 -> 0.21590909 | AS44: =simplified!AS75/AQ44 -> 0.016233766 | AT44: =simplified!AT75/AQ44 -> 0.10551948 | AU44: =simplified!AU75/AQ44 -> 0.021103896 | AV44: =simplified!AV75/AQ44 -> 0.017857143 | AW44: =simplified!AW75/AQ44 -> 0.022727273 | AX44: =simplified!AX75/AQ44 -> 0.061688312 | AY44: =AX44-J44 -> -0.018152008
A45: 173160 | B45: Bethel University, MN | C45: 730 | D45: =simplified!D9/percentages!C9 -> 0.25730994 | E45: =simplified!E9/C45 -> 0.13424658 | F45: =simplified!F9/C45 -> 0.11643836 | G45: =simplified!G9/C45 -> 0.028767123 | H45: =simplified!H9/C45 -> 0.028767123 | I45: =simplified!I9/C45 -> 0.021917808 | J45: =simplified!J9/C45 -> 0.079452055 | K45: 803 | L45: =simplified!L9/K45 -> 0.23785803 | M45: =simplified!M9/K45 -> 0.14072229 | N45: =simplified!N9/K45 -> 0.13325031 | O45: =simplified!O9/K45 -> 0.02366127 | P45: =simplified!P9/K45 -> 0.02241594 | Q45: =simplified!Q9/K45 -> 0.01369863 | R45: =simplified!R9/K45 -> 0.059775841 | S45: 830 | T45: =simplified!T9/S45 -> 0.25421687 | U45: =simplified!U9/S45 -> 0.12650602 | V45: =simplified!V9/S45 -> 0.14578313 | W45: =simplified!W9/S45 -> 0.031325301 | X45: =simplified!X9/S45 -> 0.030120482 | Y45: =simplified!Y9/S45 -> 0.015662651 | Z45: =simplified!Z9/S45 -> 0.077108434 | AA45: 918 | AB45: =simplified!AB9/AA45 -> 0.2167756 | AC45: =simplified!AC9/AA45 -> 0.10021786 | AD45: =simplified!AD9/AA45 -> 0.17755991 | AE45: =simplified!AE9/AA45 -> 0.017429194 | AF45: =simplified!AF9/AA45 -> 0.017429194 | AG45: =simplified!AG9/AA45 -> 0.019607843 | AH45: =simplified!AH9/AA45 -> 0.054466231 | AI45: 933 | AJ45: =simplified!AJ9/AI45 -> 0.22293676 | AK45: =simplified!AK9/AI45 -> 0.091103966 | AL45: =simplified!AL9/AI45 -> 0.19506967 | AM45: =simplified!AM9/AI45 -> 0.018220793 | AN45: =simplified!AN9/AI45 -> 0.01607717 | AO45: =simplified!AO9/AI45 -> 0.012861736 | AP45: =simplified!AP9/AI45 -> 0.0471597 | AQ45: 910 | AR45: =simplified!AR9/AQ45 -> 0.21428571 | AS45: =simplified!AS9/AQ45 -> 0.097802198 | AT45: =simplified!AT9/AQ45 -> 0.2021978 | AU45: =simplified!AU9/AQ45 -> 0.014285714 | AV45: =simplified!AV9/AQ45 -> 0.012087912 | AW45: =simplified!AW9/AQ45 -> 0.0032967033 | AX45: =simplified!AX9/AQ45 -> 0.02967033 | AY45: =AX45-J45 -> -0.049781725
A46: 194958 | B46: Roberts Wesleyan College | C46: 341 | D46: =simplified!D76/percentages!C76 -> 0.37704918 | E46: =simplified!E76/C46 -> 0.22580645 | F46: =simplified!F76/C46 -> 0.11730205 | G46: =simplified!G76/C46 -> 0.014662757 | H46: =simplified!H76/C46 -> 0.014662757 | I46: =simplified!I76/C46 -> 0.049853372 | J46: =simplified!J76/C46 -> 0.079178886 | K46: 399 | L46: =simplified!L76/K46 -> 0.26065163 | M46: =simplified!M76/K46 -> 0.22055138 | N46: =simplified!N76/K46 -> 0.17794486 | O46: =simplified!O76/K46 -> 0.022556391 | P46: =simplified!P76/K46 -> 0.025062657 | Q46: =simplified!Q76/K46 -> 0.025062657 | R46: =simplified!R76/K46 -> 0.072681704 | S46: 401 | T46: =simplified!T76/S46 -> 0.31670823 | U46: =simplified!U76/S46 -> 0.16957606 | V46: =simplified!V76/S46 -> 0.19451372 | W46: =simplified!W76/S46 -> 0.019950125 | X46: =simplified!X76/S46 -> 0.0024937656 | Y46: =simplified!Y76/S46 -> 0.017456359 | Z46: =simplified!Z76/S46 -> 0.039900249 | AA46: 391 | AB46: =simplified!AB76/AA46 -> 0.30434783 | AC46: =simplified!AC76/AA46 -> 0.15345269 | AD46: =simplified!AD76/AA46 -> 0.24040921 | AE46: =simplified!AE76/AA46 -> 0.0076726343 | AF46: =simplified!AF76/AA46 -> 0.020460358 | AG46: =simplified!AG76/AA46 -> 0.025575448 | AH46: =simplified!AH76/AA46 -> 0.05370844 | AI46: 376 | AJ46: =simplified!AJ76/AI46 -> 0.21010638 | AK46: =simplified!AK76/AI46 -> 0.18617021 | AL46: =simplified!AL76/AI46 -> 0.21808511 | AM46: =simplified!AM76/AI46 -> 0.018617021 | AN46: =simplified!AN76/AI46 -> 0.018617021 | AO46: =simplified!AO76/AI46 -> 0.021276596 | AP46: =simplified!AP76/AI46 -> 0.058510638 | AQ46: 423 | AR46: =simplified!AR76/AQ46 -> 0.22695035 | AS46: =simplified!AS76/AQ46 -> 0.12529551 | AT46: =simplified!AT76/AQ46 -> 0.30023641 | AU46: =simplified!AU76/AQ46 -> 0.0094562648 | AV46: =simplified!AV76/AQ46 -> 0.021276596 | AW46: =simplified!AW76/AQ46 -> 0.0094562648 | AX46: =simplified!AX76/AQ46 -> 0.040189125 | AY46: =AX46-J46 -> -0.03898976
A47: 179326 | B47: Southwest Baptist University | C47: 430 | D47: =simplified!D81/percentages!C81 -> 0.28 | E47: =simplified!E81/C47 -> 0.18604651 | F47: =simplified!F81/C47 -> 0.065116279 | G47: =simplified!G81/C47 -> 0.034883721 | H47: =simplified!H81/C47 -> 0.011627907 | I47: =simplified!I81/C47 -> 0.03255814 | J47: =simplified!J81/C47 -> 0.079069767 | K47: 437 | L47: =simplified!L81/K47 -> 0.15560641 | M47: =simplified!M81/K47 -> 0.19450801 | N47: =simplified!N81/K47 -> 0.050343249 | O47: =simplified!O81/K47 -> 0.018306636 | P47: =simplified!P81/K47 -> 0.034324943 | Q47: =simplified!Q81/K47 -> 0.013729977 | R47: =simplified!R81/K47 -> 0.066361556 | S47: 414 | T47: =simplified!T81/S47 -> 0.14975845 | U47: =simplified!U81/S47 -> 0.20048309 | V47: =simplified!V81/S47 -> 0.1352657 | W47: =simplified!W81/S47 -> 0.019323671 | X47: =simplified!X81/S47 -> 0.0072463768 | Y47: =simplified!Y81/S47 -> 0.0048309179 | Z47: =simplified!Z81/S47 -> 0.031400966 | AA47: 428 | AB47: =simplified!AB81/AA47 -> 0.14018692 | AC47: =simplified!AC81/AA47 -> 0.19392523 | AD47: =simplified!AD81/AA47 -> 0.12149533 | AE47: =simplified!AE81/AA47 -> 0.014018692 | AF47: =simplified!AF81/AA47 -> 0.021028037 | AG47: =simplified!AG81/AA47 -> 0.0070093458 | AH47: =simplified!AH81/AA47 -> 0.042056075 | AI47: 403 | AJ47: =simplified!AJ81/AI47 -> 0.1439206 | AK47: =simplified!AK81/AI47 -> 0.19851117 | AL47: =simplified!AL81/AI47 -> 0.15880893 | AM47: =simplified!AM81/AI47 -> 0.027295285 | AN47: =simplified!AN81/AI47 -> 0.012406948 | AO47: =simplified!AO81/AI47 -> 0.0049627792 | AP47: =simplified!AP81/AI47 -> 0.044665012 | AQ47: 404 | AR47: =simplified!AR81/AQ47 -> 0.11633663 | AS47: =simplified!AS81/AQ47 -> 0.18316832 | AT47: =simplified!AT81/AQ47 -> 0.15841584 | AU47: =simplified!AU81/AQ47 -> 0.017326733 | AV47: =simplified!AV81/AQ47 -> 0.0074257426 | AW47: =simplified!AW81/AQ47 -> 0.004950495 | AX47: =simplified!AX81/AQ47 -> 0.02970297 | AY47: =AX47-J47 -> -0.049366797
